Workbook

Sheet QU RT WW 
C1: #VALUE! | AN1: Axe Struct (Pty) Ltd | BK1: Brownbuilt
BK2: Brownbuilt (Pinch)
AN3: VAT no.: 4470284136 Reg. no.: 2018/528173/07 | BK3: Corrugated
BK4: Corrugated (Rib Surface)
AN5: Tel: +27 (0)10 880 0220 Email: info@axestruct.com | BK5: Corrugated (Hangerbolt)
BK6: Craft-Lock
AN7: www.axestruct.com | BK7: Dimondek
BK8: Dimondek (Pinch)
BK9: Dimondek (Stand Rib)
A10: Provisional Quotation | BK10: IBR
AN11: Document No.: | AX11: QU RT WW | BK11: IBR (Rib Surface)
BK12: Klip-Lok
AN13: Revision: | AX13: 1 | BK13: Novotexi
BK14: ProLok
BK15: Saflok
BK16: Springlok
C17: Client: | Y17: Project: | AT17: Date: | AX17: =TODAY() -> 45960 | BK17: Zip-Tek
T21: Roof Top Walkway
C25: Across the rib (Perpendicular to rib) | X25: 10 | AB25: m | AF25: Along the rib (Parallel to rib) | BA25: 10 | BE25: m
D28: Angle needed to level out surface | X28: 0 | AB28: deg | AG28: Steps needed to climb angled surface | AZ28: Not Required
B32: Over supply | U32: Bracket selection | AL32: Extension | AY32: Walkway width
BK34: Support length
AL35: Not Included
B36: Fasteners | H36: 0.04 | K36: Brackets | Q36: 0.02 | U36: Roof type | AA36: IBR | AY36: 300 | BK36: =AY36+87 -> 387
AL37: =IF($AL$35="Not Included","5 supports / 5.7m Panel","4 supports / 5.7m Panel") -> 5 supports / 5.7m Panel
A42: Materials specified for atmospheric corrosion category up to C4 as per ISO 9223. Please consult for environments with more aggressive ratings.
AC100: `
BK105: Rail length
T106: Roof Top Walkway
BK107: 5.85
B110: No | F110: Product Code | S110: Description of Goods | AL110: Quantity | AR110: ARB SKU
BK111: Ac. Qnty
B115: 1 | F115: ="AXE_L_WW_5700_"&$AY$36&"_AL" -> AXE_L_WW_5700_300_AL | S115: =VLOOKUP(F115,PL!$B$9:$BH$862,14,FALSE) -> Walkway Panel | AL115: =BK115 -> 4 | AS115: =VLOOKUP(F115,PL!$B$9:$BH$818,52,FALSE) -> 0 | BK115: =ROUNDUP(BA25/5.7,0)+ROUNDUP(X25/5.7,0) -> 4
S117: =VLOOKUP(F115,PL!$B$9:$BH$1265,33,FALSE) -> Aluminium, 5700x300x50 mm
B119: =B115+1 -> 2 | F119: =IF(AL119=0,"N/A","AXE_L_R_40_30_AL") -> AXE_L_R_40_30_AL | S119: =VLOOKUP(F119,PL!$B$9:$BH$862,14,FALSE) -> Rail Profile | AF119: =IF(AL119=0,"","("&BK107&"m)") -> (5.85m) | AL119: =BK119 -> 1 | AS119: =VLOOKUP(F119,PL!$B$9:$BH$818,52,FALSE) -> SOL-580404 | BK119: =IF($AZ$28="Included",0,IF($F$127="AXE_AL_BR_RS_H",0,ROUNDUP(IF($AL$35="Included",ROUNDUP($BA$25/5.7,0)*4,ROUNDUP($BA$25/5.7,0)*5)*$BK$36/1000/$BK$107,0))) -> 1
S121: =VLOOKUP(F119,PL!$B$9:$BH$1265,33,FALSE) -> Aluminium, 40x30
B123: =B119+1 -> 3 | F123: =IF(AL123=0,"N/A",IF(X28>0,"AXE_F_AN_WW_"&X28&"_AL","N/A")) -> N/A | S123: =VLOOKUP(F123,PL!$B$9:$BH$862,14,FALSE) -> No Item | AL123: =BK123 -> 0 | AS123: =VLOOKUP(F123,PL!$B$9:$BH$818,52,FALSE) -> - | BK123: =IF(X28>0,IF($AL$35="Included",ROUNDUP(X25/5.7,0)*4,ROUNDUP(X25/5.7,0)*5)+IF($AZ$28="Not Required",0,ROUNDUP(BA25/0.57,0))*2,0) -> 0
S125: =VLOOKUP(F123,PL!$B$9:$BH$1265,33,FALSE) -> .
B127: =B123+1 -> 4 | F127: =IF(AL127=0,"N/A","AXE_BR_"&IF($AA$36="Corrugated","COR_RD", IF(OR($AA$36="Corrugated (Rib Surface)",$AA$36="IBR (Rib Surface)"),"RS_H", IF($AA$36="Corrugated (Hangerbolt)","HB_RD_W", IF($AA$36="IBR","IBR_RD", IF(OR($AA$36="Klip-Lok",$AA$36="ProLok",$AA$36="Saflok"),"FL_RD", IF($AA$36="Novotexi","NT_RD", IF($AA$36="Springlok","SL_RD", IF(OR($AA$36="Brownbuilt",$AA$36="Dimondek"),"GL_RD", IF(OR($AA$36="Brownbuilt (Pinch)",$AA$36="Dimondek (Pinch)"),"PF_RD", IF($AA$36="Craft-Lock","CL_RD", IF(OR($AA$36="Dimondek (Stand Rib)",$AA$36="Zip-Tek"),"SR_RD",0)))))))))))&"_AL") -> AXE_BR_IBR_RD_AL | S127: =VLOOKUP(F127,PL!$B$9:$BH$862,14,FALSE) -> IBR Bracket | AL127: =ROUND(BK127*(1+$Q$36),0) -> 20 | AS127: =VLOOKUP(F127,PL!$B$9:$BH$818,52,FALSE) -> SOL-5901 | BK127: =IF($AZ$28="Included",0,IF($AL$35="Included",ROUNDUP($BA$25/5.7,0)*8,ROUNDUP($BA$25/5.7,0)*10)) -> 20
S129: =VLOOKUP(F127,PL!$B$9:$BH$1265,33,FALSE) -> Aluminium, Railed
B131: =B127+1 -> 5 | F131: =IF(AL131=0,"N/A", IF($X$28>0,"AXE_BR_"&IF($AA$36="Corrugated","COR_V", IF(OR($AA$36="Corrugated (Rib Surface)",$AA$36="IBR (Rib Surface)"),"RF_V", IF($AA$36="Corrugated (Hangerbolt)","HB_V_W", IF($AA$36="IBR","IBR_V", IF(OR($AA$36="Klip-Lok",$AA$36="ProLok",$AA$36="Saflok"),"FL_V", IF($AA$36="Novotexi","NT_V", IF($AA$36="Springlok","SL_V", IF(OR($AA$36="Brownbuilt",$AA$36="Dimondek"),"GL_V", IF(OR($AA$36="Brownbuilt (Pinch)",$AA$36="Dimondek (Pinch)"),"PF_V", IF($AA$36="Craft-Lock","CL_V", IF(OR($AA$36="Dimondek (Stand Rib)",$AA$36="Zip-Tek"),"SR_V",0)))))))))))&"_AL", "AXE_BR_"&IF($AA$36="Corrugated","COR_H", IF(OR($AA$36="Corrugated (Rib Surface)",$AA$36="IBR (Rib Surface)"),"RF_H", IF($AA$36="Corrugated (Hangerbolt)","HB_H_W", IF($AA$36="IBR","IBR_H", IF(OR($AA$36="Klip-Lok",$AA$36="ProLok",$AA$36="Saflok"),"FL_H", IF($AA$36="Novotexi","NT_H", IF($AA$36="Springlok","SL_H", IF(OR($AA$36="Brownbuilt",$AA$36="Dimondek"),"GL_H", IF(OR($AA$36="Brownbuilt (Pinch)",$AA$36="Dimondek (Pinch)"),"PF_H", IF($AA$36="Craft-Lock","CL_H", IF(OR($AA$36="Dimondek (Stand Rib)",$AA$36="Zip-Tek"),"SR_H",0)))))))))))&"_AL")) -> AXE_BR_IBR_H_AL | S131: =VLOOKUP(F131,PL!$B$9:$BH$862,14,FALSE) -> IBR Bracket | AL131: =ROUND(BK131*(1+$Q$36),0) -> 20 | AS131: =VLOOKUP(F131,PL!$B$9:$BH$818,52,FALSE) -> SOL-59020 | BK131: =IF($AL$35="Included",ROUNDUP($X$25/5.7,0)*8,ROUNDUP($X$25/5.7,0)*10)+IF($AZ$28="Not Required",0,ROUNDUP(BA25/0.57,0))*4 -> 20
S133: =VLOOKUP(F131,PL!$B$9:$BH$1265,33,FALSE) -> Aluminium, Horizontal
B135: =B131+1 -> 6 | F135: =IF($AL$35="Included","AXE_EX_WW_AL","N/A") -> N/A | S135: =VLOOKUP(F135,PL!$B$9:$BH$862,14,FALSE) -> No Item | AL135: =BK135 -> 0 | AS135: =VLOOKUP(F135,PL!$B$9:$BH$818,52,FALSE) -> - | BK135: =IF($AL$35="Included",IF(BA25=0,0,(ROUNDUP(BA25/5.7,0)-1)*2)+IF(X25=0,0,(ROUNDUP(X25/5.7,0)-1)*2),0) -> 0
S137: =VLOOKUP(F135,PL!$B$9:$BH$1265,33,FALSE) -> .
B139: =B135+1 -> 7 | F139: =IF(AL139=0,"N/A","AXE_WC_8_AL") -> AXE_WC_8_AL | S139: =VLOOKUP(F139,PL!$B$9:$BH$862,14,FALSE) -> Clamp Washer | AL139: =ROUND(BK139*(1+$H$36),0) -> 42 | AS139: =VLOOKUP(F139,PL!$B$9:$BH$818,52,FALSE) -> SOL-6076 | BK139: =BK127+BK131 -> 40
S141: =VLOOKUP(F139,PL!$B$9:$BH$1265,33,FALSE) -> Aluminium, Walkway, M8
B143: =B139+1 -> 8 | F143: =IF(AL143=0,"N/A","AXE_CS_8_20_SS") -> AXE_CS_8_20_SS | S143: =VLOOKUP(F143,PL!$B$9:$BH$862,14,FALSE) -> Cap Screws Hexagon | AL143: =ROUND(BK143*(1+$H$36),0) -> 21 | AS143: =VLOOKUP(F143,PL!$B$9:$BH$818,52,FALSE) -> SOL-59506 | BK143: =IF($X$28>0,BK131,0)+IF(OR(MID(F131,8,4)="PF_H",MID(F131,8,4)="RF_H"),BK131,0)+BK127 -> 20
S145: =VLOOKUP(F143,PL!$B$9:$BH$1265,33,FALSE) -> Stainless Steel, M8x20
B147: =B143+1 -> 9 | F147: =IF(AL147=0,"N/A","AXE_CS_8_25_SS") -> AXE_CS_8_25_SS | S147: =VLOOKUP(F147,PL!$B$9:$BH$862,14,FALSE) -> Cap Screws Hexagon | AL147: =ROUND(BK147*(1+$H$36),0) -> 21 | AS147: =VLOOKUP(F147,PL!$B$9:$BH$818,52,FALSE) -> SOL-59501 | BK147: =IF(OR(MID(F131,8,4)="PF_H",MID(F131,8,4)="RF_H"),0,BK131)+BK135*4 -> 20
S149: =VLOOKUP(F147,PL!$B$9:$BH$1265,33,FALSE) -> Stainless Steel, M8x25
B151: =B147+1 -> 10 | F151: =IF(AL151=0,"N/A","AXE_NST_8_PP") -> AXE_NST_8_PP | S151: =VLOOKUP(F151,PL!$B$9:$BH$862,14,FALSE) -> Nut Stopper | AL151: =ROUND(BK151*(1+$H$36),0) -> 21 | AS151: =VLOOKUP(F151,PL!$B$9:$BH$818,52,FALSE) -> SOL-5954 | BK151: =IF($X$28>0,BK131,IF($AA$36="Corrugated (Rib Surface)",BK131,IF($AA$36="IBR (Rib Surface)",BK131,0)))+BK127 -> 20
S153: =VLOOKUP(F151,PL!$B$9:$BH$1265,33,FALSE) -> Polypropylene Polymer, M8
B155: =B151+1 -> 11 | F155: =IF(AL155=0,"N/A","AXE_NSQ_8_SS") -> AXE_NSQ_8_SS | S155: =VLOOKUP(F155,PL!$B$9:$BH$862,14,FALSE) -> Square Nut | AL155: =ROUND(BK155*(1+$H$36),0) -> 21 | AS155: =VLOOKUP(F155,PL!$B$9:$BH$818,52,FALSE) -> SOL-5953 | BK155: =BK151 -> 20
S157: =VLOOKUP(F155,PL!$B$9:$BH$1265,33,FALSE) -> Stainless Steel, M8
B159: =B155+1 -> 12 | F159: =IF(AL159=0,"N/A","AXE_NHF_8_SS") -> AXE_NHF_8_SS | S159: =VLOOKUP(F159,PL!$B$9:$BH$862,14,FALSE) -> Hex Flange Nut | AL159: =ROUND(BK159*(1+$H$36),0) -> 21 | AS159: =VLOOKUP(F159,PL!$B$9:$BH$818,52,FALSE) -> SOL-59530 | BK159: =IF(OR(F131="AXE_BR_PF_H_AL",F131="AXE_BR_RF_H_AL"),0,BK131)+BK135*4 -> 20
S161: =VLOOKUP(F159,PL!$B$9:$BH$1265,33,FALSE) -> Stainless Steel, M8
B163: =B159+1 -> 13 | F163: =IF(AL163=0,"N/A","AXE_WP_8_SS") -> AXE_WP_8_SS | S163: =VLOOKUP(F163,PL!$B$9:$BH$862,14,FALSE) -> Plain Washer | AL163: =ROUND(BK163*(1+$H$36),0) -> 42 | AS163: =VLOOKUP(F163,PL!$B$9:$BH$818,52,FALSE) -> SOL-595101 | BK163: =BK139 -> 40
S165: =VLOOKUP(F163,PL!$B$9:$BH$1265,33,FALSE) -> Stainless Steel, M8
B167: =B163+1 -> 14 | F167: =IF(AL167=0,"N/A","AXE_WS_8_SS") -> AXE_WS_8_SS | S167: =VLOOKUP(F167,PL!$B$9:$BH$862,14,FALSE) -> Spring Washer | AL167: =ROUND(BK167*(1+$H$36),0) -> 42 | AS167: =VLOOKUP(F167,PL!$B$9:$BH$818,52,FALSE) -> SOL-5951 | BK167: =BK143+BK147 -> 40
S169: =VLOOKUP(F167,PL!$B$9:$BH$1265,33,FALSE) -> Stainless Steel, M8
B171: =B167+1 -> 15 | F171: =IF(OR($AA$36="IBR",$AA$36="Corrugated",$AA$36="Corrugated (Rib Surface)",$AA$36="IBR (Rib Surface)"),"AXE_ST_6.3_22_SC","N/A") -> AXE_ST_6.3_22_SC | S171: =VLOOKUP(F171,PL!$B$9:$BH$862,14,FALSE) -> Self Drilling Tek Screw | AL171: =ROUND(BK171*(1+$H$36),0) -> 166 | AS171: =VLOOKUP(F171,PL!$B$9:$BH$818,52,FALSE) -> SOL-5952 | BK171: =IF(OR($AA$36="IBR",$AA$36="Corrugated"),($BK$127+$BK$131)*4,IF(OR($AA$36="Corrugated (Rib Surface)",$AA$36="IBR (Rib Surface)"),($BK$127*2+$BK$131)*2,0)) -> 160
S173: =VLOOKUP(F171,PL!$B$9:$BH$1265,33,FALSE) -> Class4 Coated Steel, M6.3x22
B175: =B171+1 -> 16 | F175: N/A | S175: =IF(AL175=1,"Transport estimate","Transport excluded") -> Transport excluded | AL175: 0 | AS175: =VLOOKUP(F175,PL!$B$9:$BH$818,52,FALSE) -> -
A180: This quotation is valid for a period of 10 days and subject to stock availability. Delivery location and site conditions can affect the price
A183: Thank you for affording us the opportunity to submit a quote. We trust that the above meets with your favourable approval and we look forward to being of service to you.

Sheet QU RT BL
C1: #VALUE! | AN1: Axe Struct (Pty) Ltd
AN3: VAT no.: 4470284136 Reg. no.: 2018/528173/07
AN5: Tel: +27 (0)10 880 0220 Email: info@axestruct.com
AN7: www.axestruct.com
A10: Provisional Quotation
AN11: Document No.: | AX11: QU RT BL
AN13: Revision: | AX13: 1
C17: Client: | Y17: Project: | AT17: Date: | AX17: =TODAY() -> 45960
T21: ="Roof Top Ballast "&$X$78 -> Roof Top Ballast Frameless
B25: Project specifications | AE25: Plant specifications
C28: Capacity | T28: =(J43*BC43)/1000 & " kWp" -> 60 kWp | AF28: Orientation | AO28: Landscape | AV28: Duo-pitch
BK30: 10 | BM30: 1198 | BP30: 1351
C31: Installation type | T31: Rooftop Ballast | AF31: Angle | AO31: 10 | AQ31: ⁰ Tilt mounted | AX31: =LOOKUP(AO31,BK30:BK35,IF(AE45<1150,BM30:BM35,BP30:BP35)) -> 1198 | BA31: mm | BC31: Back to front connect pitch | BK31: 15 | BM31: 1222 | BP31: 1377
AF34: Interrow Spacing
AO35: 250 | AR35: mm Panel edge horisontal dist.
B39: Solar panel specifications
C43: Number | J43: =M54*M58+P54*P58+S54*S58+V54*V58+Y54*Y58+AB54*AB58+AE54*AE58+AH54*AH58+AK54*AK58+AN54*AN58+AQ54*AQ58+AT54*AT58+AW54*AW58+AZ54*AZ58+BC54*BC58+BF54*BF58 -> 100 | Q43: Type | W43: JA Solar JAM72S40-600/MR | AV43: Rating | BC43: 600
W45: 2278 | AA45: mm (L) | AE45: 1134 | AI45: mm (B) | AM45: 30 | AQ45: mm (H)
B48: Configuration
M51: 1 | P51: 2 | S51: 3 | V51: 4 | Y51: 5 | AB51: 6 | AE51: 7 | AH51: 8 | AK51: 9 | AN51: 10 | AQ51: 11 | AT51: 12 | AW51: 13 | AZ51: 14 | BC51: 15 | BF51: 16
C54: =IF($AV$28="Mono-pitch","Columns","Multiple") -> Multiple | M54: 10 | P54: 0 | S54: 0 | V54: 0 | Y54: 0 | AB54: 0 | AE54: 0 | AH54: 0 | AK54: 0 | AN54: 0 | AQ54: 0 | AT54: 0 | AW54: 0 | AZ54: 0 | BC54: 0 | BF54: 0
C58: =IF($AV$28="Mono-pitch","Modules/Column","Modules along rail") -> Modules along rail | M58: 10 | P58: 0 | S58: 0 | V58: 0 | Y58: 0 | AB58: 0 | AE58: 0 | AH58: 0 | AK58: 0 | AN58: 0 | AQ58: 0 | AT58: 0 | AW58: 0 | AZ58: 0 | BC58: 0 | BF58: 0
BK61: Max rib spacing of this type of roof
C62: Additions | X62: Dimensions | AS62: Over supply
BL65: =IF(OR(AO35="Corrugated (Side)",AO35="Corrugated (Top)",AO35="Corrugated (Hangerbolt)"),76.2*18,IF(AO35="IBR",171.5*8,IF(OR(AO35="Klip-Lok",AO35="ProLok",AO35="Saflok"),233*6,IF(AO35="Brownbuilt",203*7,IF(OR(AO35="Dimondek (Pinch)",AO35="Dimondek (Stand Rib)"),203*7,IF(AO35="Zip-Tek",420*3,IF(AO35="Craft-Lock",350*4,0))))))) -> 0 | BO65: mm
C66: Profile length | N66: Combination | S66: mm | X66: Shading angle | AJ66: =IF(AV28="Duo-pitch","N/A",DEGREES(ATAN(AE45*SIN(RADIANS(AO31))/AO35))) -> N/A | AN66: ⁰ | AS66: Rails/Brackets/ | BF66: 0.02
AS68: Clips
C69: Wire management Cable to Panel clip
N70: Not Included | X70: Row Pitch | AJ70: =IF(AV28="Duo-pitch",AX31*2+AO35+50,AE45*COS(RADIANS(AO31))+AO35) -> 2696 | AN70: mm
AS72: Fasteners/Extensions | BF72: 0.05
C73: Fastener-Clamp integration "Click system" | BL73: Offcut shorter than this will NOT be considered
N74: Not Included | W74: Angle shape | BW74: 1000 | CB74: mm
AS76: End Clamps | BF76: 0.03
C78: Wind Deflector Plates | N78: Not Included | X78: Frameless
BK79: 1 | BN79: 2 | BQ79: 3 | BT79: 4 | BW79: 5 | BZ79: 6 | CC79: 7 | CF79: 8 | CI79: 9 | CL79: 10 | CO79: 11 | CR79: 12 | CU79: 13 | CX79: 14 | DA79: 15 | DD79: 16
BK81: {=IF(M54>0,MIN(IF($DY$110:$ME$110*1000>=BK87,$DY$110:$ME$110*1000)),0)/1000} -> 14.05 | BN81: {=IF(P54>0,MIN(IF($DY$110:$ME$110*1000>=BN87,$DY$110:$ME$110*1000)),0)/1000} -> 0 | BQ81: {=IF(S54>0,MIN(IF($DY$110:$ME$110*1000>=BQ87,$DY$110:$ME$110*1000)),0)/1000} -> 0 | BT81: {=IF(V54>0,MIN(IF($DY$110:$ME$110*1000>=BT87,$DY$110:$ME$110*1000)),0)/1000} -> 0 | BW81: {=IF(Y54>0,MIN(IF($DY$110:$ME$110*1000>=BW87,$DY$110:$ME$110*1000)),0)/1000} -> 0 | BZ81: {=IF(AB54>0,MIN(IF($DY$110:$ME$110*1000>=BZ87,$DY$110:$ME$110*1000)),0)/1000} -> 0 | CC81: {=IF(AE54>0,MIN(IF($DY$110:$ME$110*1000>=CC87,$DY$110:$ME$110*1000)),0)/1000} -> 0 | CF81: {=IF(AH54>0,MIN(IF($DY$110:$ME$110*1000>=CF87,$DY$110:$ME$110*1000)),0)/1000} -> 0 | CI81: {=IF(AK54>0,MIN(IF($DY$110:$ME$110*1000>=CI87,$DY$110:$ME$110*1000)),0)/1000} -> 0 | CL81: {=IF(AN54>0,MIN(IF($DY$110:$ME$110*1000>=CL87,$DY$110:$ME$110*1000)),0)/1000} -> 0 | CO81: {=IF(AQ54>0,MIN(IF($DY$110:$ME$110*1000>=CO87,$DY$110:$ME$110*1000)),0)/1000} -> 0 | CR81: {=IF(AT54>0,MIN(IF($DY$110:$ME$110*1000>=CR87,$DY$110:$ME$110*1000)),0)/1000} -> 0 | CU81: {=IF(AW54>0,MIN(IF($DY$110:$ME$110*1000>=CU87,$DY$110:$ME$110*1000)),0)/1000} -> 0 | CX81: {=IF(AZ54>0,MIN(IF($DY$110:$ME$110*1000>=CX87,$DY$110:$ME$110*1000)),0)/1000} -> 0 | DA81: {=IF(BC54>0,MIN(IF($DY$110:$ME$110*1000>=DA87,$DY$110:$ME$110*1000)),0)/1000} -> 0 | DD81: {=IF(BF54>0,MIN(IF($DY$110:$ME$110*1000>=DD87,$DY$110:$ME$110*1000)),0)/1000} -> 0 | DH81: Lookup Rail length
BK83: =IF(M54>0,HLOOKUP(BK81,$DY$110:$ME$112,2),0) -> 0.5 | BN83: =IF(P54>0,HLOOKUP(BN81,$DY$110:$ME$112,2),0) -> 0 | BQ83: =IF(S54>0,HLOOKUP(BQ81,$DY$110:$ME$112,2),0) -> 0 | BT83: =IF(V54>0,HLOOKUP(BT81,$DY$110:$ME$112,2),0) -> 0 | BW83: =IF(Y54>0,HLOOKUP(BW81,$DY$110:$ME$112,2),0) -> 0 | BZ83: =IF(AB54>0,HLOOKUP(BZ81,$DY$110:$ME$112,2),0) -> 0 | CC83: =IF(AE54>0,HLOOKUP(CC81,$DY$110:$ME$112,2),0) -> 0 | CF83: =IF(AH54>0,HLOOKUP(CF81,$DY$110:$ME$112,2),0) -> 0 | CI83: =IF(AK54>0,HLOOKUP(CI81,$DY$110:$ME$112,2),0) -> 0 | CL83: =IF(AN54>0,HLOOKUP(CL81,$DY$110:$ME$112,2),0) -> 0 | CO83: =IF(AQ54>0,HLOOKUP(CO81,$DY$110:$ME$112,2),0) -> 0 | CR83: =IF(AT54>0,HLOOKUP(CR81,$DY$110:$ME$112,2),0) -> 0 | CU83: =IF(AW54>0,HLOOKUP(CU81,$DY$110:$ME$112,2),0) -> 0 | CX83: =IF(AZ54>0,HLOOKUP(CX81,$DY$110:$ME$112,2),0) -> 0 | DA83: =IF(BC54>0,HLOOKUP(DA81,$DY$110:$ME$112,2),0) -> 0 | DD83: =IF(BF54>0,HLOOKUP(DD81,$DY$110:$ME$112,2),0) -> 0 | DH83: =DX111 -> 4.7 | DJ83: m Pieces
BK85: =IF(M54>0,HLOOKUP(BK81,$DY$110:$ME$112,3),0) -> 2 | BN85: =IF(P54>0,HLOOKUP(BN81,$DY$110:$ME$112,3),0) -> 0 | BQ85: =IF(S54>0,HLOOKUP(BQ81,$DY$110:$ME$112,3),0) -> 0 | BT85: =IF(V54>0,HLOOKUP(BT81,$DY$110:$ME$112,3),0) -> 0 | BW85: =IF(Y54>0,HLOOKUP(BW81,$DY$110:$ME$112,3),0) -> 0 | BZ85: =IF(AB54>0,HLOOKUP(BZ81,$DY$110:$ME$112,3),0) -> 0 | CC85: =IF(AE54>0,HLOOKUP(CC81,$DY$110:$ME$112,3),0) -> 0 | CF85: =IF(AH54>0,HLOOKUP(CF81,$DY$110:$ME$112,3),0) -> 0 | CI85: =IF(AK54>0,HLOOKUP(CI81,$DY$110:$ME$112,3),0) -> 0 | CL85: =IF(AN54>0,HLOOKUP(CL81,$DY$110:$ME$112,3),0) -> 0 | CO85: =IF(AQ54>0,HLOOKUP(CO81,$DY$110:$ME$112,3),0) -> 0 | CR85: =IF(AT54>0,HLOOKUP(CR81,$DY$110:$ME$112,3),0) -> 0 | CU85: =IF(AW54>0,HLOOKUP(CU81,$DY$110:$ME$112,3),0) -> 0 | CX85: =IF(AZ54>0,HLOOKUP(CX81,$DY$110:$ME$112,3),0) -> 0 | DA85: =IF(BC54>0,HLOOKUP(DA81,$DY$110:$ME$112,3),0) -> 0 | DD85: =IF(BF54>0,HLOOKUP(DD81,$DY$110:$ME$112,3),0) -> 0 | DH85: =DX112 -> 5.85 | DJ85: m Pieces
A87: Materials specified for atmospheric corrosion category up to C4 as per ISO 9223. Please consult for environments with more aggressive ratings. | BK87: =IF(M58>0,IF($AV$28="Duo-pitch",M58*($AX$31+$AO$35/2+50/2),M58*$AJ$70),0) -> 13480 | BN87: =IF(P58>0,IF($AV$28="Duo-pitch",P58*($AX$31+$AO$35/2+50/2),P58*$AJ$70),0) -> 0 | BQ87: =IF(S58>0,IF($AV$28="Duo-pitch",S58*($AX$31+$AO$35/2+50/2),S58*$AJ$70),0) -> 0 | BT87: =IF(V58>0,IF($AV$28="Duo-pitch",V58*($AX$31+$AO$35/2+50/2),V58*$AJ$70),0) -> 0 | BW87: =IF(Y58>0,IF($AV$28="Duo-pitch",Y58*($AX$31+$AO$35/2+50/2),Y58*$AJ$70),0) -> 0 | BZ87: =IF(AB58>0,IF($AV$28="Duo-pitch",AB58*($AX$31+$AO$35/2+50/2),AB58*$AJ$70),0) -> 0 | CC87: =IF(AE58>0,IF($AV$28="Duo-pitch",AE58*($AX$31+$AO$35/2+50/2),AE58*$AJ$70),0) -> 0 | CF87: =IF(AH58>0,IF($AV$28="Duo-pitch",AH58*($AX$31+$AO$35/2+50/2),AH58*$AJ$70),0) -> 0 | CI87: =IF(AK58>0,IF($AV$28="Duo-pitch",AK58*($AX$31+$AO$35/2+50/2),AK58*$AJ$70),0) -> 0 | CL87: =IF(AN58>0,IF($AV$28="Duo-pitch",AN58*($AX$31+$AO$35/2+50/2),AN58*$AJ$70),0) -> 0 | CO87: =IF(AQ58>0,IF($AV$28="Duo-pitch",AQ58*($AX$31+$AO$35/2+50/2),AQ58*$AJ$70),0) -> 0 | CR87: =IF(AT58>0,IF($AV$28="Duo-pitch",AT58*($AX$31+$AO$35/2+50/2),AT58*$AJ$70),0) -> 0 | CU87: =IF(AW58>0,IF($AV$28="Duo-pitch",AW58*($AX$31+$AO$35/2+50/2),AW58*$AJ$70),0) -> 0 | CX87: =IF(AZ58>0,IF($AV$28="Duo-pitch",AZ58*($AX$31+$AO$35/2+50/2),AZ58*$AJ$70),0) -> 0 | DA87: =IF(BC58>0,IF($AV$28="Duo-pitch",BC58*($AX$31+$AO$35/2+50/2),BC58*$AJ$70),0) -> 0 | DD87: =IF(BF58>0,IF($AV$28="Duo-pitch",BF58*($AX$31+$AO$35/2+50/2),BF58*$AJ$70),0) -> 0 | DH87: Rail total length
BK89: =IF($N$66="Combination",0,IF(M58>0,((IF($AV$28="Duo-pitch",M58*($AX$31+$AO$35/2+50/2),M58*$AJ$70))/$N$66-ROUNDDOWN((IF($AV$28="Duo-pitch",M58*($AX$31+$AO$35/2+50/2),M58*$AJ$70))/$N$66,0))*$N$66,0)) -> 0 | BN89: =IF($N$66="Combination",0,IF(P58>0,((IF($AV$28="Duo-pitch",P58*($AX$31+$AO$35/2+50/2),P58*$AJ$70))/$N$66-ROUNDDOWN((IF($AV$28="Duo-pitch",P58*($AX$31+$AO$35/2+50/2),P58*$AJ$70))/$N$66,0))*$N$66,0)) -> 0 | BQ89: =IF($N$66="Combination",0,IF(S58>0,((IF($AV$28="Duo-pitch",S58*($AX$31+$AO$35/2+50/2),S58*$AJ$70))/$N$66-ROUNDDOWN((IF($AV$28="Duo-pitch",S58*($AX$31+$AO$35/2+50/2),S58*$AJ$70))/$N$66,0))*$N$66,0)) -> 0 | BT89: =IF($N$66="Combination",0,IF(V58>0,((IF($AV$28="Duo-pitch",V58*($AX$31+$AO$35/2+50/2),V58*$AJ$70))/$N$66-ROUNDDOWN((IF($AV$28="Duo-pitch",V58*($AX$31+$AO$35/2+50/2),V58*$AJ$70))/$N$66,0))*$N$66,0)) -> 0 | BW89: =IF($N$66="Combination",0,IF(Y58>0,((IF($AV$28="Duo-pitch",Y58*($AX$31+$AO$35/2+50/2),Y58*$AJ$70))/$N$66-ROUNDDOWN((IF($AV$28="Duo-pitch",Y58*($AX$31+$AO$35/2+50/2),Y58*$AJ$70))/$N$66,0))*$N$66,0)) -> 0 | BZ89: =IF($N$66="Combination",0,IF(AB58>0,((IF($AV$28="Duo-pitch",AB58*($AX$31+$AO$35/2+50/2),AB58*$AJ$70))/$N$66-ROUNDDOWN((IF($AV$28="Duo-pitch",AB58*($AX$31+$AO$35/2+50/2),AB58*$AJ$70))/$N$66,0))*$N$66,0)) -> 0 | CC89: =IF($N$66="Combination",0,IF(AE58>0,((IF($AV$28="Duo-pitch",AE58*($AX$31+$AO$35/2+50/2),AE58*$AJ$70))/$N$66-ROUNDDOWN((IF($AV$28="Duo-pitch",AE58*($AX$31+$AO$35/2+50/2),AE58*$AJ$70))/$N$66,0))*$N$66,0)) -> 0 | CF89: =IF($N$66="Combination",0,IF(AH58>0,((IF($AV$28="Duo-pitch",AH58*($AX$31+$AO$35/2+50/2),AH58*$AJ$70))/$N$66-ROUNDDOWN((IF($AV$28="Duo-pitch",AH58*($AX$31+$AO$35/2+50/2),AH58*$AJ$70))/$N$66,0))*$N$66,0)) -> 0 | CI89: =IF($N$66="Combination",0,IF(AK58>0,((IF($AV$28="Duo-pitch",AK58*($AX$31+$AO$35/2+50/2),AK58*$AJ$70))/$N$66-ROUNDDOWN((IF($AV$28="Duo-pitch",AK58*($AX$31+$AO$35/2+50/2),AK58*$AJ$70))/$N$66,0))*$N$66,0)) -> 0 | CL89: =IF($N$66="Combination",0,IF(AN58>0,((IF($AV$28="Duo-pitch",AN58*($AX$31+$AO$35/2+50/2),AN58*$AJ$70))/$N$66-ROUNDDOWN((IF($AV$28="Duo-pitch",AN58*($AX$31+$AO$35/2+50/2),AN58*$AJ$70))/$N$66,0))*$N$66,0)) -> 0 | CO89: =IF($N$66="Combination",0,IF(AQ58>0,((IF($AV$28="Duo-pitch",AQ58*($AX$31+$AO$35/2+50/2),AQ58*$AJ$70))/$N$66-ROUNDDOWN((IF($AV$28="Duo-pitch",AQ58*($AX$31+$AO$35/2+50/2),AQ58*$AJ$70))/$N$66,0))*$N$66,0)) -> 0 | CR89: =IF($N$66="Combination",0,IF(AT58>0,((IF($AV$28="Duo-pitch",AT58*($AX$31+$AO$35/2+50/2),AT58*$AJ$70))/$N$66-ROUNDDOWN((IF($AV$28="Duo-pitch",AT58*($AX$31+$AO$35/2+50/2),AT58*$AJ$70))/$N$66,0))*$N$66,0)) -> 0 | CU89: =IF($N$66="Combination",0,IF(AW58>0,((IF($AV$28="Duo-pitch",AW58*($AX$31+$AO$35/2+50/2),AW58*$AJ$70))/$N$66-ROUNDDOWN((IF($AV$28="Duo-pitch",AW58*($AX$31+$AO$35/2+50/2),AW58*$AJ$70))/$N$66,0))*$N$66,0)) -> 0 | CX89: =IF($N$66="Combination",0,IF(AZ58>0,((IF($AV$28="Duo-pitch",AZ58*($AX$31+$AO$35/2+50/2),AZ58*$AJ$70))/$N$66-ROUNDDOWN((IF($AV$28="Duo-pitch",AZ58*($AX$31+$AO$35/2+50/2),AZ58*$AJ$70))/$N$66,0))*$N$66,0)) -> 0 | DA89: =IF($N$66="Combination",0,IF(BC58>0,((IF($AV$28="Duo-pitch",BC58*($AX$31+$AO$35/2+50/2),BC58*$AJ$70))/$N$66-ROUNDDOWN((IF($AV$28="Duo-pitch",BC58*($AX$31+$AO$35/2+50/2),BC58*$AJ$70))/$N$66,0))*$N$66,0)) -> 0 | DD89: =IF($N$66="Combination",0,IF(BF58>0,((IF($AV$28="Duo-pitch",BF58*($AX$31+$AO$35/2+50/2),BF58*$AJ$70))/$N$66-ROUNDDOWN((IF($AV$28="Duo-pitch",BF58*($AX$31+$AO$35/2+50/2),BF58*$AJ$70))/$N$66,0))*$N$66,0)) -> 0 | DH89: Too long
BK91: =IF($N$66="Combination",0,IF(M58>0,$N$66-BK89,0)) -> 0 | BN91: =IF($N$66="Combination",0,IF(P58>0,$N$66-BN89,0)) -> 0 | BQ91: =IF($N$66="Combination",0,IF(S58>0,$N$66-BQ89,0)) -> 0 | BT91: =IF($N$66="Combination",0,IF(V58>0,$N$66-BT89,0)) -> 0 | BW91: =IF($N$66="Combination",0,IF(Y58>0,$N$66-BW89,0)) -> 0 | BZ91: =IF($N$66="Combination",0,IF(AB58>0,$N$66-BZ89,0)) -> 0 | CC91: =IF($N$66="Combination",0,IF(AE58>0,$N$66-CC89,0)) -> 0 | CF91: =IF($N$66="Combination",0,IF(AH58>0,$N$66-CF89,0)) -> 0 | CI91: =IF($N$66="Combination",0,IF(AK58>0,$N$66-CI89,0)) -> 0 | CL91: =IF($N$66="Combination",0,IF(AN58>0,$N$66-CL89,0)) -> 0 | CO91: =IF($N$66="Combination",0,IF(AQ58>0,$N$66-CO89,0)) -> 0 | CR91: =IF($N$66="Combination",0,IF(AT58>0,$N$66-CR89,0)) -> 0 | CU91: =IF($N$66="Combination",0,IF(AW58>0,$N$66-CU89,0)) -> 0 | CX91: =IF($N$66="Combination",0,IF(AZ58>0,$N$66-CX89,0)) -> 0 | DA91: =IF($N$66="Combination",0,IF(BC58>0,$N$66-DA89,0)) -> 0 | DD91: =IF($N$66="Combination",0,IF(BF58>0,$N$66-DD89,0)) -> 0 | DH91: Too short
BK93: =BK81*1000-BK87 -> 570 | BN93: =BN81*1000-BN87 -> 0 | BQ93: =BQ81*1000-BQ87 -> 0 | BT93: =BT81*1000-BT87 -> 0 | BW93: =BW81*1000-BW87 -> 0 | BZ93: =BZ81*1000-BZ87 -> 0 | CC93: =CC81*1000-CC87 -> 0 | CF93: =CF81*1000-CF87 -> 0 | CI93: =CI81*1000-CI87 -> 0 | CL93: =CL81*1000-CL87 -> 0 | CO93: =CO81*1000-CO87 -> 0 | CR93: =CR81*1000-CR87 -> 0 | CU93: =CU81*1000-CU87 -> 0 | CX93: =CX81*1000-CX87 -> 0 | DA93: =DA81*1000-DA87 -> 0 | DD93: =DD81*1000-DD87 -> 0 | DH93: Difference: Combination rail vs Needed rail
T110: ="Roof Top Ballast "&$X$78 -> Roof Top Ballast Frameless | DY110: =$DX$111*DY111+$DX$112*DY112 -> 0 | DZ110: =$DX$111*DZ111+$DX$112*DZ112 -> 2.35 | EA110: =$DX$111*EA111+$DX$112*EA112 -> 2.925 | EB110: =$DX$111*EB111+$DX$112*EB112 -> 4.7 | EC110: =$DX$111*EC111+$DX$112*EC112 -> 5.275 | ED110: =$DX$111*ED111+$DX$112*ED112 -> 5.85 | EE110: =$DX$111*EE111+$DX$112*EE112 -> 7.05 | EF110: =$DX$111*EF111+$DX$112*EF112 -> 7.625 | ... ME110: =$DX$111*ME111+$DX$112*ME112 -> 52.075
DW111: =DX111*1000 -> 4700 | DX111: 4.7 | DY111: 0 | DZ111: 0.5 | EA111: 0 | EB111: 1 | EC111: 0.5 | ED111: 0 | EE111: 1.5 | EF111: 1 | EG111: 0.5 | EH111: 0 | EI111: 2 | EJ111: 1.5 | EK111: 1 | EL111: 0.5 | EM111: 0 | EN111: 2.5 | EO111: 2 | EP111: 1.5 | EQ111: 1 | ER111: 0.5 | ES111: 0.5 | ET111: 0 | EU111: 2.5 | EV111: 2 | EW111: 1.5 | EX111: 1 | EY111: 3.5 | EZ111: 0.5 | FA111: 0.5 | FB111: 0 | FC111: 0 | FD111: 2 | FE111: 1.5 | FF111: 1.5 | FG111: 1 | FH111: 3.5 | FI111: 0.5 | FJ111: 3 | FK111: 0 | FL111: 0 | FM111: 2 | FN111: 4.5 | FO111: 1.5 | FP111: 1.5 | FQ111: 1 | FR111: 1 | FS111: 0.5 | FT111: 3 | FU111: 0 | FV111: 2.5 | FW111: 2.5 | FX111: 2 | FY111: 4.5 | FZ111: 1.5 | GA111: 4 | GB111: 1 | GC111: 1 | GD111: 0.5 | GE111: 0.5 | GF111: 5.5 | GG111: 0 | GH111: 2.5 | GI111: 2.5 | GJ111: 2 | GK111: 2 | GL111: 1.5 | GM111: 4 | GN111: 1 | GO111: 3.5 | GP111: 3.5 | GQ111: 0.5 | GR111: 0.5 | GS111: 5.5 | GT111: 0 | GU111: 0 | GV111: 5 | GW111: 2 | GX111: 2 | GY111: 1.5 | GZ111: 1.5 | HA111: 6.5 | HB111: 1 | HC111: 3.5 | HD111: 3.5 | HE111: 0.5 | HF111: 3 | HG111: 3 | HH111: 0 | HI111: 0 | HJ111: 5 | HK111: 2 | HL111: 4.5 | HM111: 4.5 | HN111: 1.5 | HO111: 1.5 | HP111: 6.5 | HQ111: 1 | HR111: 1 | HS111: 6 | HT111: 0.5 | HU111: 3 | HV111: 3 | HW111: 0 | HX111: 2.5 | HY111: 2.5 | HZ111: 7.5 | IA111: 2 | IB111: 4.5 | IC111: 4.5 | ID111: 1.5 | IE111: 4 | IF111: 4 | IG111: 1 | IH111: 1 | II111: 6 | IJ111: 0.5 | IK111: 0.5 | IL111: 5.5 | IM111: 5.5 | IN111: 0 | IO111: 2.5 | IP111: 2.5 | IQ111: 7.5 | IR111: 2 | IS111: 2 | IT111: 7 | IU111: 1.5 | IV111: 4 | IW111: 4 | IX111: 1 | IY111: 3.5 | IZ111: 3.5 | JA111: 8.5 | JB111: 0.5 | JC111: 0.5 | JD111: 5.5 | JE111: 5.5 | JF111: 0 | JG111: 0 | JH111: 5 | JI111: 5 | JJ111: 2 | JK111: 2 | JL111: 7 | JM111: 1.5 | JN111: 1.5 | JO111: 6.5 | JP111: 6.5 | JQ111: 1 | JR111: 3.5 | JS111: 3.5 | JT111: 8.5 | JU111: 0.5 | JV111: 3 | JW111: 3 | JX111: 8 | JY111: 0 | JZ111: 0 | KA111: 5 | KB111: 5 | KC111: 2 | KD111: 4.5 | KE111: 4.5 | KF111: 9.5 | KG111: 1.5 | KH111: 1.5 | KI111: 6.5 | KJ111: 6.5 | KK111: 1 | KL111: 1 | KM111: 6 | KN111: 6 | KO111: 0.5 | KP111: 3 | KQ111: 3 | KR111: 8 | KS111: 0 | KT111: 2.5 | KU111: 2.5 | KV111: 7.5 | KW111: 2 | KX111: 4.5 | KY111: 4.5 | KZ111: 1.5 | LA111: 4 | LB111: 4 | LC111: 9 | LD111: 1 | LE111: 1 | LF111: 6 | LG111: 6 | LH111: 0.5 | LI111: 0.5 | LJ111: 5.5 | LK111: 5.5 | LL111: 10.5 | LM111: 0 | LN111: 2.5 | LO111: 2.5 | LP111: 7.5 | LQ111: 7.5 | LR111: 2 | LS111: 2 | LT111: 7 | LU111: 1.5 | LV111: 4 | LW111: 4 | LX111: 9 | LY111: 1 | LZ111: 3.5 | MA111: 3.5 | MB111: 8.5 | MC111: 8.5 | MD111: 0.5 | ME111: 0.5
DW112: =DX112*1000 -> 5850 | DX112: 5.85 | DY112: 0 | DZ112: 0 | EA112: 0.5 | EB112: 0 | EC112: 0.5 | ED112: 1 | EE112: 0 | EF112: 0.5 | EG112: 1 | EH112: 1.5 | EI112: 0 | EJ112: 0.5 | EK112: 1 | EL112: 1.5 | EM112: 2 | EN112: 0 | EO112: 0.5 | EP112: 1 | EQ112: 1.5 | ER112: 2 | ES112: 2 | ET112: 2.5 | EU112: 0.5 | EV112: 1 | EW112: 1.5 | EX112: 2 | EY112: 0 | EZ112: 2.5 | FA112: 2.5 | FB112: 3 | FC112: 3 | FD112: 1.5 | FE112: 2 | FF112: 2 | FG112: 2.5 | FH112: 0.5 | FI112: 3 | FJ112: 1 | FK112: 3.5 | FL112: 3.5 | FM112: 2 | FN112: 0 | FO112: 2.5 | FP112: 2.5 | FQ112: 3 | FR112: 3 | FS112: 3.5 | FT112: 1.5 | FU112: 4 | FV112: 2 | FW112: 2 | FX112: 2.5 | FY112: 0.5 | FZ112: 3 | GA112: 1 | GB112: 3.5 | GC112: 3.5 | GD112: 4 | GE112: 4 | GF112: 0 | GG112: 4.5 | GH112: 2.5 | GI112: 2.5 | GJ112: 3 | GK112: 3 | GL112: 3.5 | GM112: 1.5 | GN112: 4 | GO112: 2 | GP112: 2 | GQ112: 4.5 | GR112: 4.5 | GS112: 0.5 | GT112: 5 | GU112: 5 | GV112: 1 | GW112: 3.5 | GX112: 3.5 | GY112: 4 | GZ112: 4 | HA112: 0 | HB112: 4.5 | HC112: 2.5 | HD112: 2.5 | HE112: 5 | HF112: 3 | HG112: 3 | HH112: 5.5 | HI112: 5.5 | HJ112: 1.5 | HK112: 4 | HL112: 2 | HM112: 2 | HN112: 4.5 | HO112: 4.5 | HP112: 0.5 | HQ112: 5 | HR112: 5 | HS112: 1 | HT112: 5.5 | HU112: 3.5 | HV112: 3.5 | HW112: 6 | HX112: 4 | HY112: 4 | HZ112: 0 | IA112: 4.5 | IB112: 2.5 | IC112: 2.5 | ID112: 5 | IE112: 3 | IF112: 3 | IG112: 5.5 | IH112: 5.5 | II112: 1.5 | IJ112: 6 | IK112: 6 | IL112: 2 | IM112: 2 | IN112: 6.5 | IO112: 4.5 | IP112: 4.5 | IQ112: 0.5 | IR112: 5 | IS112: 5 | IT112: 1 | IU112: 5.5 | IV112: 3.5 | IW112: 3.5 | IX112: 6 | IY112: 4 | IZ112: 4 | JA112: 0 | JB112: 6.5 | JC112: 6.5 | JD112: 2.5 | JE112: 2.5 | JF112: 7 | JG112: 7 | JH112: 3 | JI112: 3 | JJ112: 5.5 | JK112: 5.5 | JL112: 1.5 | JM112: 6 | JN112: 6 | JO112: 2 | JP112: 2 | JQ112: 6.5 | JR112: 4.5 | JS112: 4.5 | JT112: 0.5 | JU112: 7 | JV112: 5 | JW112: 5 | JX112: 1 | JY112: 7.5 | JZ112: 7.5 | KA112: 3.5 | KB112: 3.5 | KC112: 6 | KD112: 4 | KE112: 4 | KF112: 0 | KG112: 6.5 | KH112: 6.5 | KI112: 2.5 | KJ112: 2.5 | KK112: 7 | KL112: 7 | KM112: 3 | KN112: 3 | KO112: 7.5 | KP112: 5.5 | KQ112: 5.5 | KR112: 1.5 | KS112: 8 | KT112: 6 | KU112: 6 | KV112: 2 | KW112: 6.5 | KX112: 4.5 | KY112: 4.5 | KZ112: 7 | LA112: 5 | LB112: 5 | LC112: 1 | LD112: 7.5 | LE112: 7.5 | LF112: 3.5 | LG112: 3.5 | LH112: 8 | LI112: 8 | LJ112: 4 | LK112: 4 | LL112: 0 | LM112: 8.5 | LN112: 6.5 | LO112: 6.5 | LP112: 2.5 | LQ112: 2.5 | LR112: 7 | LS112: 7 | LT112: 3 | LU112: 7.5 | LV112: 5.5 | LW112: 5.5 | LX112: 1.5 | LY112: 8 | LZ112: 6 | MA112: 6 | MB112: 2 | MC112: 2 | MD112: 8.5 | ME112: 8.5
DW113: Combination
C114: No | G114: Product Code | T114: Description of Goods | AL114: Qnty | AQ114: ARB SKU
BK115: 1 | BN115: 2 | BQ115: 3 | BT115: 4 | BW115: 5 | BZ115: 6 | CC115: 7 | CF115: 8 | CI115: 9 | CL115: 10 | CO115: 11 | CR115: 12 | CU115: 13 | CX115: 14 | DA115: 15 | DD115: 16 | DY115: =DZ110-DY110 -> 2.35 | DZ115: =EA110-DZ110 -> 0.575 | EA115: =EB110-EA110 -> 1.775 | EB115: =EC110-EB110 -> 0.575 | EC115: =ED110-EC110 -> 0.575 | ED115: =EE110-ED110 -> 1.2 | EE115: =EF110-EE110 -> 0.575 | EF115: =EG110-EF110 -> 0.575 | ... MD115: =ME110-MD110 -> 0
BK118: =IF($N$66="Combination",0,(IF($AV$28="Duo-pitch",M58*($AX$31+$AO$35/2+50/2),M58*$AJ$70))*2*M54/$N$66) -> 0 | BN118: =IF($N$66="Combination",0,(IF($AV$28="Duo-pitch",P58*($AX$31+$AO$35/2+50/2),P58*$AJ$70))*2*P54/$N$66) -> 0 | BQ118: =IF($N$66="Combination",0,(IF($AV$28="Duo-pitch",S58*($AX$31+$AO$35/2+50/2),S58*$AJ$70))*2*S54/$N$66) -> 0 | BT118: =IF($N$66="Combination",0,(IF($AV$28="Duo-pitch",V58*($AX$31+$AO$35/2+50/2),V58*$AJ$70))*2*V54/$N$66) -> 0 | BW118: =IF($N$66="Combination",0,(IF($AV$28="Duo-pitch",Y58*($AX$31+$AO$35/2+50/2),Y58*$AJ$70))*2*Y54/$N$66) -> 0 | BZ118: =IF($N$66="Combination",0,(IF($AV$28="Duo-pitch",AB58*($AX$31+$AO$35/2+50/2),AB58*$AJ$70))*2*AB54/$N$66) -> 0 | CC118: =IF($N$66="Combination",0,(IF($AV$28="Duo-pitch",AE58*($AX$31+$AO$35/2+50/2),AE58*$AJ$70))*2*AE54/$N$66) -> 0 | CF118: =IF($N$66="Combination",0,(IF($AV$28="Duo-pitch",AH58*($AX$31+$AO$35/2+50/2),AH58*$AJ$70))*2*AH54/$N$66) -> 0 | CI118: =IF($N$66="Combination",0,(IF($AV$28="Duo-pitch",AK58*($AX$31+$AO$35/2+50/2),AK58*$AJ$70))*2*AK54/$N$66) -> 0 | CL118: =IF($N$66="Combination",0,(IF($AV$28="Duo-pitch",AN58*($AX$31+$AO$35/2+50/2),AN58*$AJ$70))*2*AN54/$N$66) -> 0 | CO118: =IF($N$66="Combination",0,(IF($AV$28="Duo-pitch",AQ58*($AX$31+$AO$35/2+50/2),AQ58*$AJ$70))*2*AQ54/$N$66) -> 0 | CR118: =IF($N$66="Combination",0,(IF($AV$28="Duo-pitch",AT58*($AX$31+$AO$35/2+50/2),AT58*$AJ$70))*2*AT54/$N$66) -> 0 | CU118: =IF($N$66="Combination",0,(IF($AV$28="Duo-pitch",AW58*($AX$31+$AO$35/2+50/2),AW58*$AJ$70))*2*AW54/$N$66) -> 0 | CX118: =IF($N$66="Combination",0,(IF($AV$28="Duo-pitch",AZ58*($AX$31+$AO$35/2+50/2),AZ58*$AJ$70))*2*AZ54/$N$66) -> 0 | DA118: =IF($N$66="Combination",0,(IF($AV$28="Duo-pitch",BC58*($AX$31+$AO$35/2+50/2),BC58*$AJ$70))*2*BC54/$N$66) -> 0 | DD118: =IF($N$66="Combination",0,(IF($AV$28="Duo-pitch",BF58*($AX$31+$AO$35/2+50/2),BF58*$AJ$70))*2*BF54/$N$66) -> 0
C119: 1 | G119: =IF(AL119=0,"N/A","AXE_L_R_BL_AL") -> AXE_L_R_BL_AL | T119: =VLOOKUP(G119,PL!$B$9:$BH$1265,14,FALSE) -> Ballast Rail | AF119: =IF(AL119=0,"","("&IF(N66="Combination",DW111,N66)/1000&"m)") -> (4,7m) | AL119: =IF(N66="Combination",ROUND(SUM(BK121:DF121)*(1+$BF$66),0),ROUNDUP(SUM(BK119:DF119)*(1+$BF$66),0)) -> 10 | AR119: =VLOOKUP(G119,PL!$B$9:$BH$818,52,FALSE) -> SOL-6097 | BK119: =IF($N$66="Combination",0,(IF($AV$28="Duo-pitch",M58*($AX$31+$AO$35/2+50/2),M58*$AJ$70)+IF(OR(BK89<$BW$74,BK91<$BW$74),MIN(BK89,BK91),0))*2*M54/$N$66) -> 0 | BN119: =IF($N$66="Combination",0,(IF($AV$28="Duo-pitch",P58*($AX$31+$AO$35/2+50/2),P58*$AJ$70)+IF(OR(BN89<$BW$74,BN91<$BW$74),MIN(BN89,BN91),0))*2*P54/$N$66) -> 0 | BQ119: =IF($N$66="Combination",0,(IF($AV$28="Duo-pitch",S58*($AX$31+$AO$35/2+50/2),S58*$AJ$70)+IF(OR(BQ89<$BW$74,BQ91<$BW$74),MIN(BQ89,BQ91),0))*2*S54/$N$66) -> 0 | BT119: =IF($N$66="Combination",0,(IF($AV$28="Duo-pitch",V58*($AX$31+$AO$35/2+50/2),V58*$AJ$70)+IF(OR(BT89<$BW$74,BT91<$BW$74),MIN(BT89,BT91),0))*2*V54/$N$66) -> 0 | BW119: =IF($N$66="Combination",0,(IF($AV$28="Duo-pitch",Y58*($AX$31+$AO$35/2+50/2),Y58*$AJ$70)+IF(OR(BW89<$BW$74,BW91<$BW$74),MIN(BW89,BW91),0))*2*Y54/$N$66) -> 0 | BZ119: =IF($N$66="Combination",0,(IF($AV$28="Duo-pitch",AB58*($AX$31+$AO$35/2+50/2),AB58*$AJ$70)+IF(OR(BZ89<$BW$74,BZ91<$BW$74),MIN(BZ89,BZ91),0))*2*AB54/$N$66) -> 0 | CC119: =IF($N$66="Combination",0,(IF($AV$28="Duo-pitch",AE58*($AX$31+$AO$35/2+50/2),AE58*$AJ$70)+IF(OR(CC89<$BW$74,CC91<$BW$74),MIN(CC89,CC91),0))*2*AE54/$N$66) -> 0 | CF119: =IF($N$66="Combination",0,(IF($AV$28="Duo-pitch",AH58*($AX$31+$AO$35/2+50/2),AH58*$AJ$70)+IF(OR(CF89<$BW$74,CF91<$BW$74),MIN(CF89,CF91),0))*2*AH54/$N$66) -> 0 | CI119: =IF($N$66="Combination",0,(IF($AV$28="Duo-pitch",AK58*($AX$31+$AO$35/2+50/2),AK58*$AJ$70)+IF(OR(CI89<$BW$74,CI91<$BW$74),MIN(CI89,CI91),0))*2*AK54/$N$66) -> 0 | CL119: =IF($N$66="Combination",0,(IF($AV$28="Duo-pitch",AN58*($AX$31+$AO$35/2+50/2),AN58*$AJ$70)+IF(OR(CL89<$BW$74,CL91<$BW$74),MIN(CL89,CL91),0))*2*AN54/$N$66) -> 0 | CO119: =IF($N$66="Combination",0,(IF($AV$28="Duo-pitch",AQ58*($AX$31+$AO$35/2+50/2),AQ58*$AJ$70)+IF(OR(CO89<$BW$74,CO91<$BW$74),MIN(CO89,CO91),0))*2*AQ54/$N$66) -> 0 | CR119: =IF($N$66="Combination",0,(IF($AV$28="Duo-pitch",AT58*($AX$31+$AO$35/2+50/2),AT58*$AJ$70)+IF(OR(CR89<$BW$74,CR91<$BW$74),MIN(CR89,CR91),0))*2*AT54/$N$66) -> 0 | CU119: =IF($N$66="Combination",0,(IF($AV$28="Duo-pitch",AW58*($AX$31+$AO$35/2+50/2),AW58*$AJ$70)+IF(OR(CU89<$BW$74,CU91<$BW$74),MIN(CU89,CU91),0))*2*AW54/$N$66) -> 0 | CX119: =IF($N$66="Combination",0,(IF($AV$28="Duo-pitch",AZ58*($AX$31+$AO$35/2+50/2),AZ58*$AJ$70)+IF(OR(CX89<$BW$74,CX91<$BW$74),MIN(CX89,CX91),0))*2*AZ54/$N$66) -> 0 | DA119: =IF($N$66="Combination",0,(IF($AV$28="Duo-pitch",BC58*($AX$31+$AO$35/2+50/2),BC58*$AJ$70)+IF(OR(DA89<$BW$74,DA91<$BW$74),MIN(DA89,DA91),0))*2*BC54/$N$66) -> 0 | DD119: =IF($N$66="Combination",0,(IF($AV$28="Duo-pitch",BF58*($AX$31+$AO$35/2+50/2),BF58*$AJ$70)+IF(OR(DD89<$BW$74,DD91<$BW$74),MIN(DD89,DD91),0))*2*BF54/$N$66) -> 0
T121: =VLOOKUP(G119,PL!$B$9:$BH$1265,33,FALSE) -> Aluminium + Friction Pads | BK121: =IF(M54>0,HLOOKUP(BK81,$DY$110:$ME$112,2)*M54*2,0) -> 10 | BN121: =IF(P54>0,HLOOKUP(BN81,$DY$110:$ME$112,2)*P54*2,0) -> 0 | BQ121: =IF(S54>0,HLOOKUP(BQ81,$DY$110:$ME$112,2)*S54*2,0) -> 0 | BT121: =IF(V54>0,HLOOKUP(BT81,$DY$110:$ME$112,2)*V54*2,0) -> 0 | BW121: =IF(Y54>0,HLOOKUP(BW81,$DY$110:$ME$112,2)*Y54*2,0) -> 0 | BZ121: =IF(AB54>0,HLOOKUP(BZ81,$DY$110:$ME$112,2)*AB54*2,0) -> 0 | CC121: =IF(AE54>0,HLOOKUP(CC81,$DY$110:$ME$112,2)*AE54*2,0) -> 0 | CF121: =IF(AH54>0,HLOOKUP(CF81,$DY$110:$ME$112,2)*AH54*2,0) -> 0 | CI121: =IF(AK54>0,HLOOKUP(CI81,$DY$110:$ME$112,2)*AK54*2,0) -> 0 | CL121: =IF(AN54>0,HLOOKUP(CL81,$DY$110:$ME$112,2)*AN54*2,0) -> 0 | CO121: =IF(AQ54>0,HLOOKUP(CO81,$DY$110:$ME$112,2)*AQ54*2,0) -> 0 | CR121: =IF(AT54>0,HLOOKUP(CR81,$DY$110:$ME$112,2)*AT54*2,0) -> 0 | CU121: =IF(AW54>0,HLOOKUP(CU81,$DY$110:$ME$112,2)*AW54*2,0) -> 0 | CX121: =IF(AZ54>0,HLOOKUP(CX81,$DY$110:$ME$112,2)*AZ54*2,0) -> 0 | DA121: =IF(BC54>0,HLOOKUP(DA81,$DY$110:$ME$112,2)*BC54*2,0) -> 0 | DD121: =IF(BF54>0,HLOOKUP(DD81,$DY$110:$ME$112,2)*BF54*2,0) -> 0
C123: =C119+1 -> 2 | G123: =IF(AL123=0,"N/A","AXE_L_R_BL_AL") -> AXE_L_R_BL_AL | T123: =VLOOKUP(G123,PL!$B$9:$BH$1265,14,FALSE) -> Ballast Rail | AF123: =IF(AL123=0,"","("&IF(N66="Combination",DW112/1000,0)&"m)") -> (5,85m) | AL123: =IF(N66="Combination",ROUND(SUM(BK123:DF123)*(1+$BF$66),0),0) -> 41 | AR123: =VLOOKUP(G123,PL!$B$9:$BH$818,52,FALSE) -> SOL-6097 | BK123: =IF(M54>0,HLOOKUP(BK81,$DY$110:$ME$112,3)*M54*2,0) -> 40 | BN123: =IF(P54>0,HLOOKUP(BN81,$DY$110:$ME$112,3)*P54*2,0) -> 0 | BQ123: =IF(S54>0,HLOOKUP(BQ81,$DY$110:$ME$112,3)*S54*2,0) -> 0 | BT123: =IF(V54>0,HLOOKUP(BT81,$DY$110:$ME$112,3)*V54*2,0) -> 0 | BW123: =IF(Y54>0,HLOOKUP(BW81,$DY$110:$ME$112,3)*Y54*2,0) -> 0 | BZ123: =IF(AB54>0,HLOOKUP(BZ81,$DY$110:$ME$112,3)*AB54*2,0) -> 0 | CC123: =IF(AE54>0,HLOOKUP(CC81,$DY$110:$ME$112,3)*AE54*2,0) -> 0 | CF123: =IF(AH54>0,HLOOKUP(CF81,$DY$110:$ME$112,3)*AH54*2,0) -> 0 | CI123: =IF(AK54>0,HLOOKUP(CI81,$DY$110:$ME$112,3)*AK54*2,0) -> 0 | CL123: =IF(AN54>0,HLOOKUP(CL81,$DY$110:$ME$112,3)*AN54*2,0) -> 0 | CO123: =IF(AQ54>0,HLOOKUP(CO81,$DY$110:$ME$112,3)*AQ54*2,0) -> 0 | CR123: =IF(AT54>0,HLOOKUP(CR81,$DY$110:$ME$112,3)*AT54*2,0) -> 0 | CU123: =IF(AW54>0,HLOOKUP(CU81,$DY$110:$ME$112,3)*AW54*2,0) -> 0 | CX123: =IF(AZ54>0,HLOOKUP(CX81,$DY$110:$ME$112,3)*AZ54*2,0) -> 0 | DA123: =IF(BC54>0,HLOOKUP(DA81,$DY$110:$ME$112,3)*BC54*2,0) -> 0 | DD123: =IF(BF54>0,HLOOKUP(DD81,$DY$110:$ME$112,3)*BF54*2,0) -> 0
T125: =VLOOKUP(G123,PL!$B$9:$BH$1265,33,FALSE) -> Aluminium + Friction Pads
C127: =C123+1 -> 3 | G127: =IF(AL127=0,"N/A","AXE_EX_25_30_AL") -> AXE_EX_25_30_AL | T127: =VLOOKUP(G127,PL!$B$9:$BH$1265,14,FALSE) -> Extension | AL127: =ROUND(SUM(BK127:DF127)*(1+$BF$72),0) -> 42 | AR127: =VLOOKUP(G127,PL!$B$9:$BH$818,52,FALSE) -> SOL-6042 | BK127: =IF($N$66="Combination",IF(M54>0,ROUND(HLOOKUP(BK81,$DY$110:$ME$112,2),0)+ROUND(HLOOKUP(BK81,$DY$110:$ME$112,3),0)-IF(M54>0,1,0),0),(ROUNDUP((IF($AV$28="Duo-pitch",M58*($AX$31+$AO$35/2+50/2),M58*$AJ$70))/$N$66,0)-1))*2*M54 -> 40 | BN127: =IF($N$66="Combination",IF(P54>0,ROUND(HLOOKUP(BN81,$DY$110:$ME$112,2),0)+ROUND(HLOOKUP(BN81,$DY$110:$ME$112,3),0)-IF(P54>0,1,0),0),(ROUNDUP((IF($AV$28="Duo-pitch",P58*($AX$31+$AO$35/2+50/2),P58*$AJ$70))/$N$66,0)-1))*2*P54 -> 0 | BQ127: =IF($N$66="Combination",IF(S54>0,ROUND(HLOOKUP(BQ81,$DY$110:$ME$112,2),0)+ROUND(HLOOKUP(BQ81,$DY$110:$ME$112,3),0)-IF(S54>0,1,0),0),(ROUNDUP((IF($AV$28="Duo-pitch",S58*($AX$31+$AO$35/2+50/2),S58*$AJ$70))/$N$66,0)-1))*2*S54 -> 0 | BT127: =IF($N$66="Combination",IF(V54>0,ROUND(HLOOKUP(BT81,$DY$110:$ME$112,2),0)+ROUND(HLOOKUP(BT81,$DY$110:$ME$112,3),0)-IF(V54>0,1,0),0),(ROUNDUP((IF($AV$28="Duo-pitch",V58*($AX$31+$AO$35/2+50/2),V58*$AJ$70))/$N$66,0)-1))*2*V54 -> 0 | BW127: =IF($N$66="Combination",IF(Y54>0,ROUND(HLOOKUP(BW81,$DY$110:$ME$112,2),0)+ROUND(HLOOKUP(BW81,$DY$110:$ME$112,3),0)-IF(Y54>0,1,0),0),(ROUNDUP((IF($AV$28="Duo-pitch",Y58*($AX$31+$AO$35/2+50/2),Y58*$AJ$70))/$N$66,0)-1))*2*Y54 -> 0 | BZ127: =IF($N$66="Combination",IF(AB54>0,ROUND(HLOOKUP(BZ81,$DY$110:$ME$112,2),0)+ROUND(HLOOKUP(BZ81,$DY$110:$ME$112,3),0)-IF(AB54>0,1,0),0),(ROUNDUP((IF($AV$28="Duo-pitch",AB58*($AX$31+$AO$35/2+50/2),AB58*$AJ$70))/$N$66,0)-1))*2*AB54 -> 0 | CC127: =IF($N$66="Combination",IF(AE54>0,ROUND(HLOOKUP(CC81,$DY$110:$ME$112,2),0)+ROUND(HLOOKUP(CC81,$DY$110:$ME$112,3),0)-IF(AE54>0,1,0),0),(ROUNDUP((IF($AV$28="Duo-pitch",AE58*($AX$31+$AO$35/2+50/2),AE58*$AJ$70))/$N$66,0)-1))*2*AE54 -> 0 | CF127: =IF($N$66="Combination",IF(AH54>0,ROUND(HLOOKUP(CF81,$DY$110:$ME$112,2),0)+ROUND(HLOOKUP(CF81,$DY$110:$ME$112,3),0)-IF(AH54>0,1,0),0),(ROUNDUP((IF($AV$28="Duo-pitch",AH58*($AX$31+$AO$35/2+50/2),AH58*$AJ$70))/$N$66,0)-1))*2*AH54 -> 0 | CI127: =IF($N$66="Combination",IF(AK54>0,ROUND(HLOOKUP(CI81,$DY$110:$ME$112,2),0)+ROUND(HLOOKUP(CI81,$DY$110:$ME$112,3),0)-IF(AK54>0,1,0),0),(ROUNDUP((IF($AV$28="Duo-pitch",AK58*($AX$31+$AO$35/2+50/2),AK58*$AJ$70))/$N$66,0)-1))*2*AK54 -> 0 | CL127: =IF($N$66="Combination",IF(AN54>0,ROUND(HLOOKUP(CL81,$DY$110:$ME$112,2),0)+ROUND(HLOOKUP(CL81,$DY$110:$ME$112,3),0)-IF(AN54>0,1,0),0),(ROUNDUP((IF($AV$28="Duo-pitch",AN58*($AX$31+$AO$35/2+50/2),AN58*$AJ$70))/$N$66,0)-1))*2*AN54 -> 0 | CO127: =IF($N$66="Combination",IF(AQ54>0,ROUND(HLOOKUP(CO81,$DY$110:$ME$112,2),0)+ROUND(HLOOKUP(CO81,$DY$110:$ME$112,3),0)-IF(AQ54>0,1,0),0),(ROUNDUP((IF($AV$28="Duo-pitch",AQ58*($AX$31+$AO$35/2+50/2),AQ58*$AJ$70))/$N$66,0)-1))*2*AQ54 -> 0 | CR127: =IF($N$66="Combination",IF(AT54>0,ROUND(HLOOKUP(CR81,$DY$110:$ME$112,2),0)+ROUND(HLOOKUP(CR81,$DY$110:$ME$112,3),0)-IF(AT54>0,1,0),0),(ROUNDUP((IF($AV$28="Duo-pitch",AT58*($AX$31+$AO$35/2+50/2),AT58*$AJ$70))/$N$66,0)-1))*2*AT54 -> 0 | CU127: =IF($N$66="Combination",IF(AW54>0,ROUND(HLOOKUP(CU81,$DY$110:$ME$112,2),0)+ROUND(HLOOKUP(CU81,$DY$110:$ME$112,3),0)-IF(AW54>0,1,0),0),(ROUNDUP((IF($AV$28="Duo-pitch",AW58*($AX$31+$AO$35/2+50/2),AW58*$AJ$70))/$N$66,0)-1))*2*AW54 -> 0 | CX127: =IF($N$66="Combination",IF(AZ54>0,ROUND(HLOOKUP(CX81,$DY$110:$ME$112,2),0)+ROUND(HLOOKUP(CX81,$DY$110:$ME$112,3),0)-IF(AZ54>0,1,0),0),(ROUNDUP((IF($AV$28="Duo-pitch",AZ58*($AX$31+$AO$35/2+50/2),AZ58*$AJ$70))/$N$66,0)-1))*2*AZ54 -> 0 | DA127: =IF($N$66="Combination",IF(BC54>0,ROUND(HLOOKUP(DA81,$DY$110:$ME$112,2),0)+ROUND(HLOOKUP(DA81,$DY$110:$ME$112,3),0)-IF(BC54>0,1,0),0),(ROUNDUP((IF($AV$28="Duo-pitch",BC58*($AX$31+$AO$35/2+50/2),BC58*$AJ$70))/$N$66,0)-1))*2*BC54 -> 0 | DD127: =IF($N$66="Combination",IF(BF54>0,ROUND(HLOOKUP(DD81,$DY$110:$ME$112,2),0)+ROUND(HLOOKUP(DD81,$DY$110:$ME$112,3),0)-IF(BF54>0,1,0),0),(ROUNDUP((IF($AV$28="Duo-pitch",BF58*($AX$31+$AO$35/2+50/2),BF58*$AJ$70))/$N$66,0)-1))*2*BF54 -> 0
T129: =VLOOKUP(G127,PL!$B$9:$BH$1265,33,FALSE) -> Aluminium, Rail Profile 25x30
C131: =C127+1 -> 4 | G131: ="AXE_F_"&IF($X$78="Frameless","TL_RL", IF($AE$45<1150,"AN_RL_S","AN_RL_L"))&"_"&AO31&"_AL" -> AXE_F_TL_RL_10_AL | T131: =VLOOKUP(G131,PL!$B$9:$BH$1265,14,FALSE) -> Tilted Frame | AL131: =SUM(BK131:DF132) -> 200 | AR131: =VLOOKUP(G131,PL!$B$9:$BH$818,52,FALSE) -> 0 | BK131: =M58*2*M54 -> 200 | BN131: =P58*2*P54 -> 0 | BQ131: =S58*2*S54 -> 0 | BT131: =V58*2*V54 -> 0 | BW131: =Y58*2*Y54 -> 0 | BZ131: =AB58*2*AB54 -> 0 | CC131: =AE58*2*AE54 -> 0 | CF131: =AH58*2*AH54 -> 0 | CI131: =AK58*2*AK54 -> 0 | CL131: =AN58*2*AN54 -> 0 | CO131: =AQ58*2*AQ54 -> 0 | CR131: =AT58*2*AT54 -> 0 | CU131: =AW58*2*AW54 -> 0 | CX131: =AZ58*2*AZ54 -> 0 | DA131: =BC58*2*BC54 -> 0 | DD131: =BF58*2*BF54 -> 0
T133: =VLOOKUP(G131,PL!$B$9:$BH$1265,33,FALSE) -> Aluminium, Railless, 10deg
C135: =C131+1 -> 5 | G135: =IF($X$78="Frameless","AXE_BR_SW_RL","AXE_BR_L_F")&"_AL" -> AXE_BR_SW_RL_AL | T135: =VLOOKUP(G135,PL!$B$9:$BH$1265,14,FALSE) -> Swivel Bracket | AL135: =ROUND(SUM(BK135:DF135)*(1+$BF$66),0) -> 204 | AR135: =VLOOKUP(G135,PL!$B$9:$BH$818,52,FALSE) -> SOL-580703 | BK135: =BK131*IF($X$78="Frameless",1,2) -> 200 | BN135: =BN131*IF($X$78="Frameless",1,2) -> 0 | BQ135: =BQ131*IF($X$78="Frameless",1,2) -> 0 | BT135: =BT131*IF($X$78="Frameless",1,2) -> 0 | BW135: =BW131*IF($X$78="Frameless",1,2) -> 0 | BZ135: =BZ131*IF($X$78="Frameless",1,2) -> 0 | CC135: =CC131*IF($X$78="Frameless",1,2) -> 0 | CF135: =CF131*IF($X$78="Frameless",1,2) -> 0 | CI135: =CI131*IF($X$78="Frameless",1,2) -> 0 | CL135: =CL131*IF($X$78="Frameless",1,2) -> 0 | CO135: =CO131*IF($X$78="Frameless",1,2) -> 0 | CR135: =CR131*IF($X$78="Frameless",1,2) -> 0 | CU135: =CU131*IF($X$78="Frameless",1,2) -> 0 | CX135: =CX131*IF($X$78="Frameless",1,2) -> 0 | DA135: =DA131*IF($X$78="Frameless",1,2) -> 0 | DD135: =DD131*IF($X$78="Frameless",1,2) -> 0
T137: =VLOOKUP(G135,PL!$B$9:$BH$1265,33,FALSE) -> Aluminium, Railless
C139: =C135+1 -> 6 | G139: =IF($N$74="Included","AXE_CE_CF_"&$AM$45,"AXE_CE_AP_"&$AM$45)&"_AL" -> AXE_CE_AP_30_AL | T139: =VLOOKUP(G139,PL!$B$9:$BH$1265,14,FALSE) -> End Clamp | AL139: =ROUND(SUM(BK139:DF139)*(1+$BF$76),0) -> 412 | AR139: =VLOOKUP(G139,PL!$B$9:$BH$818,52,FALSE) -> SOL-58011 | BK139: =M58*4*M54 -> 400 | BN139: =P58*4*P54 -> 0 | BQ139: =S58*4*S54 -> 0 | BT139: =V58*4*V54 -> 0 | BW139: =Y58*4*Y54 -> 0 | BZ139: =AB58*4*AB54 -> 0 | CC139: =AE58*4*AE54 -> 0 | CF139: =AH58*4*AH54 -> 0 | CI139: =AK58*4*AK54 -> 0 | CL139: =AN58*4*AN54 -> 0 | CO139: =AQ58*4*AQ54 -> 0 | CR139: =AT58*4*AT54 -> 0 | CU139: =AW58*4*AW54 -> 0 | CX139: =AZ58*4*AZ54 -> 0 | DA139: =BC58*4*BC54 -> 0 | DD139: =BF58*4*BF54 -> 0
T141: =VLOOKUP(G139,PL!$B$9:$BH$1265,33,FALSE) -> Aluminium, All purpose, 30mm high
C143: =C139+1 -> 7 | G143: =IF(AL143=0,"N/A","AXE_DP_" &IF($X$78="Frameless","FL","FD")&"_"&$AO$31&"_" &IF(ROUNDUP($W$45/100,0)*100<=2000,2000, IF(ROUNDUP($W$45/100,0)*100<=2100,2100, IF(ROUNDUP($W$45/100,0)*100<=2200,2200, IF(ROUNDUP($W$45/100,0)*100<=2300,2300,2400)))) &IF(N78="Chromadek","_SC","_AL")) -> N/A | T143: =VLOOKUP(G143,PL!$B$9:$BH$1265,14,FALSE) -> No Item | AL143: =SUM(BK143:DF144) -> 0 | AR143: =VLOOKUP(G143,PL!$B$9:$BH$818,52,FALSE) -> - | BK143: =IF($N$78="Not Included",0,1)*IF($AV$28="Mono-pitch",M54*M58,0) -> 0 | BN143: =IF($N$78="Not Included",0,1)*IF($AV$28="Mono-pitch",P54*P58,0) -> 0 | BQ143: =IF($N$78="Not Included",0,1)*IF($AV$28="Mono-pitch",S54*S58,0) -> 0 | BT143: =IF($N$78="Not Included",0,1)*IF($AV$28="Mono-pitch",V54*V58,0) -> 0 | BW143: =IF($N$78="Not Included",0,1)*IF($AV$28="Mono-pitch",Y54*Y58,0) -> 0 | BZ143: =IF($N$78="Not Included",0,1)*IF($AV$28="Mono-pitch",AB54*AB58,0) -> 0 | CC143: =IF($N$78="Not Included",0,1)*IF($AV$28="Mono-pitch",AE54*AE58,0) -> 0 | CF143: =IF($N$78="Not Included",0,1)*IF($AV$28="Mono-pitch",AH54*AH58,0) -> 0 | CI143: =IF($N$78="Not Included",0,1)*IF($AV$28="Mono-pitch",AK54*AK58,0) -> 0 | CL143: =IF($N$78="Not Included",0,1)*IF($AV$28="Mono-pitch",AN54*AN58,0) -> 0 | CO143: =IF($N$78="Not Included",0,1)*IF($AV$28="Mono-pitch",AQ54*AQ58,0) -> 0 | CR143: =IF($N$78="Not Included",0,1)*IF($AV$28="Mono-pitch",AT54*AT58,0) -> 0 | CU143: =IF($N$78="Not Included",0,1)*IF($AV$28="Mono-pitch",AW54*AW58,0) -> 0 | CX143: =IF($N$78="Not Included",0,1)*IF($AV$28="Mono-pitch",AZ54*AZ58,0) -> 0 | DA143: =IF($N$78="Not Included",0,1)*IF($AV$28="Mono-pitch",BC54*BC58,0) -> 0 | DD143: =IF($N$78="Not Included",0,1)*IF($AV$28="Mono-pitch",BF54*BF58,0) -> 0
T145: =VLOOKUP(G143,PL!$B$9:$BH$1265,33,FALSE) -> .
C147: =C143+1 -> 8 | G147: =IF(AL147=0,"N/A","AXE_CC_SS") -> N/A | T147: =VLOOKUP(G147,PL!$B$9:$BH$1265,14,FALSE) -> No Item | AL147: =ROUND(SUM(BK147:DF147)*(1+$BF$66),0) -> 0 | AR147: =VLOOKUP(G147,PL!$B$9:$BH$818,52,FALSE) -> - | BK147: =IF($N$70="Included",1,0)*M58*M54 -> 0 | BN147: =IF($N$70="Included",1,0)*P58*P54 -> 0 | BQ147: =IF($N$70="Included",1,0)*S58*S54 -> 0 | BT147: =IF($N$70="Included",1,0)*V58*V54 -> 0 | BW147: =IF($N$70="Included",1,0)*Y58*Y54 -> 0 | BZ147: =IF($N$70="Included",1,0)*AB58*AB54 -> 0 | CC147: =IF($N$70="Included",1,0)*AE58*AE54 -> 0 | CF147: =IF($N$70="Included",1,0)*AH58*AH54 -> 0 | CI147: =IF($N$70="Included",1,0)*AK58*AK54 -> 0 | CL147: =IF($N$70="Included",1,0)*AN58*AN54 -> 0 | CO147: =IF($N$70="Included",1,0)*AQ58*AQ54 -> 0 | CR147: =IF($N$70="Included",1,0)*AT58*AT54 -> 0 | CU147: =IF($N$70="Included",1,0)*AW58*AW54 -> 0 | CX147: =IF($N$70="Included",1,0)*AZ58*AZ54 -> 0 | DA147: =IF($N$70="Included",1,0)*BC58*BC54 -> 0 | DD147: =IF($N$70="Included",1,0)*BF58*BF54 -> 0
T149: =VLOOKUP(G147,PL!$B$9:$BH$1265,33,FALSE) -> .
C151: =C147+1 -> 9 | G151: =IF(AL151=0,"N/A","AXE_CS_8_20"&"_SS") -> AXE_CS_8_20_SS | T151: =VLOOKUP(G151,PL!$B$9:$BH$1265,14,FALSE) -> Cap Screws Hexagon | AL151: =ROUND(SUM(BK151:DF152)*(1+$BF$72),0) -> 420 | AR151: =VLOOKUP(G151,PL!$B$9:$BH$818,52,FALSE) -> SOL-59506 | BK151: =BK135*IF($X$78="Frameless",2,1) -> 400 | BN151: =BN135*IF($X$78="Frameless",2,1) -> 0 | BQ151: =BQ135*IF($X$78="Frameless",2,1) -> 0 | BT151: =BT135*IF($X$78="Frameless",2,1) -> 0 | BW151: =BW135*IF($X$78="Frameless",2,1) -> 0 | BZ151: =BZ135*IF($X$78="Frameless",2,1) -> 0 | CC151: =CC135*IF($X$78="Frameless",2,1) -> 0 | CF151: =CF135*IF($X$78="Frameless",2,1) -> 0 | CI151: =CI135*IF($X$78="Frameless",2,1) -> 0 | CL151: =CL135*IF($X$78="Frameless",2,1) -> 0 | CO151: =CO135*IF($X$78="Frameless",2,1) -> 0 | CR151: =CR135*IF($X$78="Frameless",2,1) -> 0 | CU151: =CU135*IF($X$78="Frameless",2,1) -> 0 | CX151: =CX135*IF($X$78="Frameless",2,1) -> 0 | DA151: =DA135*IF($X$78="Frameless",2,1) -> 0 | DD151: =DD135*IF($X$78="Frameless",2,1) -> 0
T153: =VLOOKUP(G151,PL!$B$9:$BH$1265,33,FALSE) -> Stainless Steel, M8x20
C155: =C151+1 -> 10 | G155: =IF(AL155=0,"N/A","AXE_CS_8_25"&"_SS") -> N/A | T155: =VLOOKUP(G155,PL!$B$9:$BH$1265,14,FALSE) -> No Item | AL155: =ROUND(SUM(BK155:DF156)*(1+$BF$72),0) -> 0 | AR155: =VLOOKUP(G155,PL!$B$9:$BH$818,52,FALSE) -> - | BK155: =BK131*IF($X$78="Frameless",0,2) -> 0 | BN155: =BN131*IF($X$78="Frameless",0,2) -> 0 | BQ155: =BQ131*IF($X$78="Frameless",0,2) -> 0 | BT155: =BT131*IF($X$78="Frameless",0,2) -> 0 | BW155: =BW131*IF($X$78="Frameless",0,2) -> 0 | BZ155: =BZ131*IF($X$78="Frameless",0,2) -> 0 | CC155: =CC131*IF($X$78="Frameless",0,2) -> 0 | CF155: =CF131*IF($X$78="Frameless",0,2) -> 0 | CI155: =CI131*IF($X$78="Frameless",0,2) -> 0 | CL155: =CL131*IF($X$78="Frameless",0,2) -> 0 | CO155: =CO131*IF($X$78="Frameless",0,2) -> 0 | CR155: =CR131*IF($X$78="Frameless",0,2) -> 0 | CU155: =CU131*IF($X$78="Frameless",0,2) -> 0 | CX155: =CX131*IF($X$78="Frameless",0,2) -> 0 | DA155: =DA131*IF($X$78="Frameless",0,2) -> 0 | DD155: =DD131*IF($X$78="Frameless",0,2) -> 0
T157: =VLOOKUP(G155,PL!$B$9:$BH$1265,33,FALSE) -> .
C159: =C155+1 -> 11 | G159: =IF(AL159=0,"N/A","AXE_CS_8_"&$AM$45-IF($X$78="Frameless",0,5)&"_SS") -> AXE_CS_8_30_SS | T159: =VLOOKUP(G159,PL!$B$9:$BH$1265,14,FALSE) -> Cap Screws Hexagon | AL159: =ROUND(SUM(BK159:DF159)*(1+$BF$72),0) -> 420 | AR159: =VLOOKUP(G159,PL!$B$9:$BH$818,52,FALSE) -> SOL-5950 | BK159: =IF($N$74="Included",0,BK139) -> 400 | BN159: =IF($N$74="Included",0,BN139) -> 0 | BQ159: =IF($N$74="Included",0,BQ139) -> 0 | BT159: =IF($N$74="Included",0,BT139) -> 0 | BW159: =IF($N$74="Included",0,BW139) -> 0 | BZ159: =IF($N$74="Included",0,BZ139) -> 0 | CC159: =IF($N$74="Included",0,CC139) -> 0 | CF159: =IF($N$74="Included",0,CF139) -> 0 | CI159: =IF($N$74="Included",0,CI139) -> 0 | CL159: =IF($N$74="Included",0,CL139) -> 0 | CO159: =IF($N$74="Included",0,CO139) -> 0 | CR159: =IF($N$74="Included",0,CR139) -> 0 | CU159: =IF($N$74="Included",0,CU139) -> 0 | CX159: =IF($N$74="Included",0,CX139) -> 0 | DA159: =IF($N$74="Included",0,DA139) -> 0 | DD159: =IF($N$74="Included",0,DD139) -> 0
T161: =VLOOKUP(G159,PL!$B$9:$BH$1265,33,FALSE) -> Stainless Steel, M8x30
C163: =C159+1 -> 12 | G163: =IF(AL163=0,"N/A","AXE_WS_8"&"_SS") -> AXE_WS_8_SS | T163: =VLOOKUP(G163,PL!$B$9:$BH$1265,14,FALSE) -> Spring Washer | AL163: =ROUND(SUM(BK163:DF163)*(1+$BF$72),0) -> 420 | AR163: =VLOOKUP(G163,PL!$B$9:$BH$818,52,FALSE) -> SOL-5951 | BK163: =BK155+BK159 -> 400 | BN163: =BN155+BN159 -> 0 | BQ163: =BQ155+BQ159 -> 0 | BT163: =BT155+BT159 -> 0 | BW163: =BW155+BW159 -> 0 | BZ163: =BZ155+BZ159 -> 0 | CC163: =CC155+CC159 -> 0 | CF163: =CF155+CF159 -> 0 | CI163: =CI155+CI159 -> 0 | CL163: =CL155+CL159 -> 0 | CO163: =CO155+CO159 -> 0 | CR163: =CR155+CR159 -> 0 | CU163: =CU155+CU159 -> 0 | CX163: =CX155+CX159 -> 0 | DA163: =DA155+DA159 -> 0 | DD163: =DD155+DD159 -> 0
T165: =VLOOKUP(G163,PL!$B$9:$BH$1265,33,FALSE) -> Stainless Steel, M8
C167: =C163+1 -> 13 | G167: =IF(AL167=0,"N/A","AXE_NHF_8_SS") -> AXE_NHF_8_SS | T167: =VLOOKUP(G167,PL!$B$9:$BH$1265,14,FALSE) -> Hex Flange Nut | AL167: =ROUND(SUM(BK167:DF167)*(1+$BF$72),0) -> 420 | AR167: =VLOOKUP(G167,PL!$B$9:$BH$818,52,FALSE) -> SOL-59530 | BK167: =IF($X$78="Frameless",BK159,BK131*2) -> 400 | BN167: =IF($X$78="Frameless",BN159,BN131*2) -> 0 | BQ167: =IF($X$78="Frameless",BQ159,BQ131*2) -> 0 | BT167: =IF($X$78="Frameless",BT159,BT131*2) -> 0 | BW167: =IF($X$78="Frameless",BW159,BW131*2) -> 0 | BZ167: =IF($X$78="Frameless",BZ159,BZ131*2) -> 0 | CC167: =IF($X$78="Frameless",CC159,CC131*2) -> 0 | CF167: =IF($X$78="Frameless",CF159,CF131*2) -> 0 | CI167: =IF($X$78="Frameless",CI159,CI131*2) -> 0 | CL167: =IF($X$78="Frameless",CL159,CL131*2) -> 0 | CO167: =IF($X$78="Frameless",CO159,CO131*2) -> 0 | CR167: =IF($X$78="Frameless",CR159,CR131*2) -> 0 | CU167: =IF($X$78="Frameless",CU159,CU131*2) -> 0 | CX167: =IF($X$78="Frameless",CX159,CX131*2) -> 0 | DA167: =IF($X$78="Frameless",DA159,DA131*2) -> 0 | DD167: =IF($X$78="Frameless",DD159,DD131*2) -> 0
T169: =VLOOKUP(G167,PL!$B$9:$BH$1265,33,FALSE) -> Stainless Steel, M8
C171: =C167+1 -> 14 | G171: =IF(AL171=0,"N/A","AXE_NSQ_8_SS") -> AXE_NSQ_8_SS | T171: =VLOOKUP(G171,PL!$B$9:$BH$1265,14,FALSE) -> Square Nut | AL171: =ROUND(SUM(BK171:DF171)*(1+$BF$72),0) -> 420 | AR171: =VLOOKUP(G171,PL!$B$9:$BH$818,52,FALSE) -> SOL-5953 | BK171: =IF($X$78="Frameless",BK131,BK159)+BK135 -> 400 | BN171: =IF($X$78="Frameless",BN131,BN159)+BN135 -> 0 | BQ171: =IF($X$78="Frameless",BQ131,BQ159)+BQ135 -> 0 | BT171: =IF($X$78="Frameless",BT131,BT159)+BT135 -> 0 | BW171: =IF($X$78="Frameless",BW131,BW159)+BW135 -> 0 | BZ171: =IF($X$78="Frameless",BZ131,BZ159)+BZ135 -> 0 | CC171: =IF($X$78="Frameless",CC131,CC159)+CC135 -> 0 | CF171: =IF($X$78="Frameless",CF131,CF159)+CF135 -> 0 | CI171: =IF($X$78="Frameless",CI131,CI159)+CI135 -> 0 | CL171: =IF($X$78="Frameless",CL131,CL159)+CL135 -> 0 | CO171: =IF($X$78="Frameless",CO131,CO159)+CO135 -> 0 | CR171: =IF($X$78="Frameless",CR131,CR159)+CR135 -> 0 | CU171: =IF($X$78="Frameless",CU131,CU159)+CU135 -> 0 | CX171: =IF($X$78="Frameless",CX131,CX159)+CX135 -> 0 | DA171: =IF($X$78="Frameless",DA131,DA159)+DA135 -> 0 | DD171: =IF($X$78="Frameless",DD131,DD159)+DD135 -> 0
T173: =VLOOKUP(G171,PL!$B$9:$BH$1265,33,FALSE) -> Stainless Steel, M8
C175: =C171+1 -> 15 | G175: =IF(AL175=0,"N/A","AXE_NST_8_PP") -> AXE_NST_8_PP | T175: =VLOOKUP(G175,PL!$B$9:$BH$1265,14,FALSE) -> Nut Stopper | AL175: =ROUND(SUM(BK175:DF175)*(1+$BF$72),0) -> 420 | AR175: =VLOOKUP(G175,PL!$B$9:$BH$818,52,FALSE) -> SOL-5954 | BK175: =BK171 -> 400 | BN175: =BN171 -> 0 | BQ175: =BQ171 -> 0 | BT175: =BT171 -> 0 | BW175: =BW171 -> 0 | BZ175: =BZ171 -> 0 | CC175: =CC171 -> 0 | CF175: =CF171 -> 0 | CI175: =CI171 -> 0 | CL175: =CL171 -> 0 | CO175: =CO171 -> 0 | CR175: =CR171 -> 0 | CU175: =CU171 -> 0 | CX175: =CX171 -> 0 | DA175: =DA171 -> 0 | DD175: =DD171 -> 0
T177: =VLOOKUP(G175,PL!$B$9:$BH$1265,33,FALSE) -> Polypropylene Polymer, M8
C179: =C175+1 -> 16 | G179: =IF(AL179=0,"N/A","AXE_ST_6.3_22_SC") -> N/A | T179: =VLOOKUP(G179,PL!$B$9:$BH$1265,14,FALSE) -> No Item | AL179: =ROUND(SUM(BK179:DF179)*(1+$BF$72),0) -> 0 | AR179: =VLOOKUP(G179,PL!$B$9:$BH$818,52,FALSE) -> - | BK179: =BK143*6 -> 0 | BN179: =BN143*6 -> 0 | BQ179: =BQ143*6 -> 0 | BT179: =BT143*6 -> 0 | BW179: =BW143*6 -> 0 | BZ179: =BZ143*6 -> 0 | CC179: =CC143*6 -> 0 | CF179: =CF143*6 -> 0 | CI179: =CI143*6 -> 0 | CL179: =CL143*6 -> 0 | CO179: =CO143*6 -> 0 | CR179: =CR143*6 -> 0 | CU179: =CU143*6 -> 0 | CX179: =CX143*6 -> 0 | DA179: =DA143*6 -> 0 | DD179: =DD143*6 -> 0
T181: =VLOOKUP(G179,PL!$B$9:$BH$1265,33,FALSE) -> .
C183: =C179+1 -> 17 | G183: =IF(AL183=0,"N/A","Anti_Seize_S") -> Anti_Seize_S | T183: =VLOOKUP(G183,PL!$B$9:$BH$1265,14,FALSE) -> Anti-seize Compound | AL183: =SUM(BK183:DF183) -> 1 | AR183: =VLOOKUP(G183,PL!$B$9:$BH$818,52,FALSE) -> 0 | BK183: =IF($N$74="Not Included",ROUNDUP(SUM(BK139:DF139)/1000,0),0) -> 1
T185: =VLOOKUP(G183,PL!$B$9:$BH$1265,33,FALSE) -> Spanjaard Nickel Spray, 350ml
C187: =C183+1 -> 18 | G187: N/A | T187: =VLOOKUP(G187,PL!$B$9:$BH$1265,14,FALSE) -> No Item | AL187: 0 | AR187: =VLOOKUP(G187,PL!$B$9:$BH$818,52,FALSE) -> -
A193: This quotation is valid for a period of 10 days and subject to stock availability. Delivery location and site conditions can affect the price
A196: Thank you for affording us the opportunity to submit a quote. We trust that the above meets with your favourable approval and we look forward to being of service to you.

Sheet QU RT RSD RD 
C1: #VALUE! | AN1: Axe Struct (Pty) Ltd | BK1: Brownbuilt
BK2: Brownbuilt (Pinch)
AN3: VAT no.: 4470284136 Reg. no.: 2018/528173/07 | BK3: Corrugated
BK4: Corrugated (L-bracket)
AN5: Tel: +27 (0)10 880 0220 Email: info@axestruct.com | BK5: Corrugated (Rib Surface)
BK6: Corrugated (Ridge)
AN7: www.axestruct.com | BK7: Craft-Lock
BK8: Dimondek
BK9: Dimondek (Pinch)
A10: Provisional Quotation | BK10: Dimondek (Stand Rib)
AN11: Document No.: | AX11: QU RT RSD RD | BK11: Flat Surface
BK12: IBR
AN13: Revision: | AX13: 1 | BK13: IBR (L-bracket)
BK14: IBR (Rib Surface)
BK15: IBR (Ridge)
BK16: Klip-Lok
C17: Client: | Y17: Project: | AT17: Date: | AX17: =TODAY() -> 45960 | BK17: Novotexi
BK18: ProLok
BK19: Saflok
BK20: Springlok
T21: ="Roof Top Raised Railed ("&$AO$35&")" -> Roof Top Raised Railed (IBR) | BK21: Zip-Tek
C25: Project specifications | AE25: Plant specifications
T28: =(J43*BC43)/1000 & " kWp" -> 150 kWp | AO28: Portrait
C29: Capacity | AF29: Orientation
BK30: 10 | BM30: 1178 | BP30: 1370
T31: Raised Railed | AO31: 10 | AQ31: ⁰ Tilt mounted | AX31: =LOOKUP(AO31,BK30:BK35,IF(W45<2200,BM30:BM35,BP30:BP35)) -> 1370 | BA31: mm | BC31: Back to front bracket pitch | BK31: 15 | BM31: 1155 | BP31: 1344
C32: Installation type | AF32: Angle | BK32: 20 | BM32: 1124 | BP32: 1307
BK33: 25 | BM33: 1084 | BP33: 1261
BC34: max. A-frame span
AF35: Fixing | AO35: IBR | AW35: - | AX35: 1500 | BA35: mm
B39: Solar panel specifications
C43: Number | J43: =M54*M58+P54*P58+S54*S58+V54*V58+Y54*Y58+AB54*AB58+AE54*AE58+AH54*AH58+AK54*AK58+AN54*AN58+AQ54*AQ58+AT54*AT58+AW54*AW58+AZ54*AZ58+BC54*BC58+BF54*BF58 -> 250 | Q43: Type | W43: JA SOLAR JAM72S40-600 | AV43: Rating | BC43: 600
W45: 2278 | AA45: mm (L) | AE45: 1134 | AI45: mm (B) | AM45: 30 | AQ45: mm (H)
B48: Configuration
M51: 1 | P51: 2 | S51: 3 | V51: 4 | Y51: 5 | AB51: 6 | AE51: 7 | AH51: 8 | AK51: 9 | AN51: 10 | AQ51: 11 | AT51: 12 | AW51: 13 | AZ51: 14 | BC51: 15 | BF51: 16
C54: Rows | M54: 10 | P54: 0 | S54: 0 | V54: 0 | Y54: 0 | AB54: 0 | AE54: 0 | AH54: 0 | AK54: 0 | AN54: 0 | AQ54: 0 | AT54: 0 | AW54: 0 | AZ54: 0 | BC54: 0 | BF54: 0
C58: Modules/Row | M58: 25 | P58: 0 | S58: 0 | V58: 0 | Y58: 0 | AB58: 0 | AE58: 0 | AH58: 0 | AK58: 0 | AN58: 0 | AQ58: 0 | AT58: 0 | AW58: 0 | AZ58: 0 | BC58: 0 | BF58: 0
BK61: Max rib spacing of this type of roof
C62: Brackets/length | M62: =IF(M54>0,BK143/2/M54,0) -> 20 | P62: =IF(P54>0,BN143/2/P54,0) -> 0 | S62: =IF(S54>0,BQ143/2/S54,0) -> 0 | V62: =IF(V54>0,BT143/2/V54,0) -> 0 | Y62: =IF(Y54>0,BW143/2/Y54,0) -> 0 | AB62: =IF(AB54>0,BZ143/2/AB54,0) -> 0 | AE62: =IF(AE54>0,CC143/2/AE54,0) -> 0 | AH62: =IF(AH54>0,CF143/2/AH54,0) -> 0 | AK62: =IF(AK54>0,CI143/2/AK54,0) -> 0 | AN62: =IF(AN54>0,CL143/2/AN54,0) -> 0 | AQ62: =IF(AQ54>0,CO143/2/AQ54,0) -> 0 | AT62: =IF(AT54>0,CR143/2/AT54,0) -> 0 | AW62: =IF(AW54>0,CU143/2/AW54,0) -> 0 | AZ62: =IF(AZ54>0,CX143/2/AZ54,0) -> 0 | BC62: =IF(BC54>0,DA143/2/BC54,0) -> 0 | BF62: =IF(BF54>0,DD143/2/BF54,0) -> 0
C65: A-frame spacing if evenly distributed
M66: =IF(M58>0,($AE$45*M58+20*(M58-1)+$N$85*2-2*$N$89)/(M62-1),0) -> 1496.3158 | P66: =IF(P58>0,($AE$45*P58+20*(P58-1)+$N$85*2-2*$N$89)/(P62-1),0) -> 0 | S66: =IF(S58>0,($AE$45*S58+20*(S58-1)+$N$85*2-2*$N$89)/(S62-1),0) -> 0 | V66: =IF(V58>0,($AE$45*V58+20*(V58-1)+$N$85*2-2*$N$89)/(V62-1),0) -> 0 | Y66: =IF(Y58>0,($AE$45*Y58+20*(Y58-1)+$N$85*2-2*$N$89)/(Y62-1),0) -> 0 | AB66: =IF(AB58>0,($AE$45*AB58+20*(AB58-1)+$N$85*2-2*$N$89)/(AB62-1),0) -> 0 | AE66: =IF(AE58>0,($AE$45*AE58+20*(AE58-1)+$N$85*2-2*$N$89)/(AE62-1),0) -> 0 | AH66: =IF(AH58>0,($AE$45*AH58+20*(AH58-1)+$N$85*2-2*$N$89)/(AH62-1),0) -> 0 | AK66: =IF(AK58>0,($AE$45*AK58+20*(AK58-1)+$N$85*2-2*$N$89)/(AK62-1),0) -> 0 | AN66: =IF(AN58>0,($AE$45*AN58+20*(AN58-1)+$N$85*2-2*$N$89)/(AN62-1),0) -> 0 | AQ66: =IF(AQ58>0,($AE$45*AQ58+20*(AQ58-1)+$N$85*2-2*$N$89)/(AQ62-1),0) -> 0 | AT66: =IF(AT58>0,($AE$45*AT58+20*(AT58-1)+$N$85*2-2*$N$89)/(AT62-1),0) -> 0 | AW66: =IF(AW58>0,($AE$45*AW58+20*(AW58-1)+$N$85*2-2*$N$89)/(AW62-1),0) -> 0 | AZ66: =IF(AZ58>0,($AE$45*AZ58+20*(AZ58-1)+$N$85*2-2*$N$89)/(AZ62-1),0) -> 0 | BC66: =IF(BC58>0,($AE$45*BC58+20*(BC58-1)+$N$85*2-2*$N$89)/(BC62-1),0) -> 0 | BF66: =IF(BF58>0,($AE$45*BF58+20*(BF58-1)+$N$85*2-2*$N$89)/(BF62-1),0) -> 0 | BL66: =IF(OR(AO35="Corrugated (Side)",AO35="Corrugated (Top)",AO35="Corrugated (Hangerbolt)"),76.2*18,IF(AO35="IBR",171.5*8,IF(OR(AO35="Klip-Lok",AO35="ProLok",AO35="Saflok"),233*6,IF(AO35="Brownbuilt",203*7,IF(OR(AO35="Dimondek (Pinch)",AO35="Dimondek (Stand Rib)"),203*7,IF(AO35="Zip-Tek",420*3,IF(AO35="Craft-Lock",350*4,0))))))) -> 1372 | BO66: mm
C77: Boundaries | X77: Additions | AS77: Over supply
X80: Wire management Cable to Panel clip | BL80: Offcut shorter than this will NOT be considered
C81: Profile length | N81: Combination | S81: mm | AI81: Not Included | AS81: Rails/Brackets/Mid | BF81: 0.02 | BW81: 1000 | CB81: mm
AS83: Clamps/Clips
C84: Rail extended under PV module end | X84: Fastener-Clamp integration "Click system"
N85: 50 | S85: mm | AI85: Included
BK86: 1 | BN86: 2 | BQ86: 3 | BT86: 4 | BW86: 5 | BZ86: 6 | CC86: 7 | CF86: 8 | CI86: 9 | CL86: 10 | CO86: 11 | CR86: 12 | CU86: 13 | CX86: 14 | DA86: 15 | DD86: 16
AS87: Fasteners/Extensions | BF87: 0.04
C88: Distance of 1st Bracket to rail end | BK88: {=IF(M54>0,MIN(IF($DY$110:$ME$110*1000>=BK94,$DY$110:$ME$110*1000)),0)/1000} -> 29.25 | BN88: {=IF(P54>0,MIN(IF($DY$110:$ME$110*1000>=BN94,$DY$110:$ME$110*1000)),0)/1000} -> 0 | BQ88: {=IF(S54>0,MIN(IF($DY$110:$ME$110*1000>=BQ94,$DY$110:$ME$110*1000)),0)/1000} -> 0 | BT88: {=IF(V54>0,MIN(IF($DY$110:$ME$110*1000>=BT94,$DY$110:$ME$110*1000)),0)/1000} -> 0 | BW88: {=IF(Y54>0,MIN(IF($DY$110:$ME$110*1000>=BW94,$DY$110:$ME$110*1000)),0)/1000} -> 0 | BZ88: {=IF(AB54>0,MIN(IF($DY$110:$ME$110*1000>=BZ94,$DY$110:$ME$110*1000)),0)/1000} -> 0 | CC88: {=IF(AE54>0,MIN(IF($DY$110:$ME$110*1000>=CC94,$DY$110:$ME$110*1000)),0)/1000} -> 0 | CF88: {=IF(AH54>0,MIN(IF($DY$110:$ME$110*1000>=CF94,$DY$110:$ME$110*1000)),0)/1000} -> 0 | CI88: {=IF(AK54>0,MIN(IF($DY$110:$ME$110*1000>=CI94,$DY$110:$ME$110*1000)),0)/1000} -> 0 | CL88: {=IF(AN54>0,MIN(IF($DY$110:$ME$110*1000>=CL94,$DY$110:$ME$110*1000)),0)/1000} -> 0 | CO88: {=IF(AQ54>0,MIN(IF($DY$110:$ME$110*1000>=CO94,$DY$110:$ME$110*1000)),0)/1000} -> 0 | CR88: {=IF(AT54>0,MIN(IF($DY$110:$ME$110*1000>=CR94,$DY$110:$ME$110*1000)),0)/1000} -> 0 | CU88: {=IF(AW54>0,MIN(IF($DY$110:$ME$110*1000>=CU94,$DY$110:$ME$110*1000)),0)/1000} -> 0 | CX88: {=IF(AZ54>0,MIN(IF($DY$110:$ME$110*1000>=CX94,$DY$110:$ME$110*1000)),0)/1000} -> 0 | DA88: {=IF(BC54>0,MIN(IF($DY$110:$ME$110*1000>=DA94,$DY$110:$ME$110*1000)),0)/1000} -> 0 | DD88: {=IF(BF54>0,MIN(IF($DY$110:$ME$110*1000>=DD94,$DY$110:$ME$110*1000)),0)/1000} -> 0 | DH88: Lookup Rail length
N89: 250 | S89: mm | X89: Rail End Caps | AI89: Not Included
BK90: =IF(M54>0,HLOOKUP(BK88,$DY$110:$ME$112,2),0) -> 0 | BN90: =IF(P54>0,HLOOKUP(BN88,$DY$110:$ME$112,2),0) -> 0 | BQ90: =IF(S54>0,HLOOKUP(BQ88,$DY$110:$ME$112,2),0) -> 0 | BT90: =IF(V54>0,HLOOKUP(BT88,$DY$110:$ME$112,2),0) -> 0 | BW90: =IF(Y54>0,HLOOKUP(BW88,$DY$110:$ME$112,2),0) -> 0 | BZ90: =IF(AB54>0,HLOOKUP(BZ88,$DY$110:$ME$112,2),0) -> 0 | CC90: =IF(AE54>0,HLOOKUP(CC88,$DY$110:$ME$112,2),0) -> 0 | CF90: =IF(AH54>0,HLOOKUP(CF88,$DY$110:$ME$112,2),0) -> 0 | CI90: =IF(AK54>0,HLOOKUP(CI88,$DY$110:$ME$112,2),0) -> 0 | CL90: =IF(AN54>0,HLOOKUP(CL88,$DY$110:$ME$112,2),0) -> 0 | CO90: =IF(AQ54>0,HLOOKUP(CO88,$DY$110:$ME$112,2),0) -> 0 | CR90: =IF(AT54>0,HLOOKUP(CR88,$DY$110:$ME$112,2),0) -> 0 | CU90: =IF(AW54>0,HLOOKUP(CU88,$DY$110:$ME$112,2),0) -> 0 | CX90: =IF(AZ54>0,HLOOKUP(CX88,$DY$110:$ME$112,2),0) -> 0 | DA90: =IF(BC54>0,HLOOKUP(DA88,$DY$110:$ME$112,2),0) -> 0 | DD90: =IF(BF54>0,HLOOKUP(DD88,$DY$110:$ME$112,2),0) -> 0 | DH90: =DX111 -> 4.7 | DJ90: m Pieces
AS91: End Clamps | BF91: 0.03
C92: Sway prevention | BK92: =IF(M54>0,HLOOKUP(BK88,$DY$110:$ME$112,3),0) -> 5 | BN92: =IF(P54>0,HLOOKUP(BN88,$DY$110:$ME$112,3),0) -> 0 | BQ92: =IF(S54>0,HLOOKUP(BQ88,$DY$110:$ME$112,3),0) -> 0 | BT92: =IF(V54>0,HLOOKUP(BT88,$DY$110:$ME$112,3),0) -> 0 | BW92: =IF(Y54>0,HLOOKUP(BW88,$DY$110:$ME$112,3),0) -> 0 | BZ92: =IF(AB54>0,HLOOKUP(BZ88,$DY$110:$ME$112,3),0) -> 0 | CC92: =IF(AE54>0,HLOOKUP(CC88,$DY$110:$ME$112,3),0) -> 0 | CF92: =IF(AH54>0,HLOOKUP(CF88,$DY$110:$ME$112,3),0) -> 0 | CI92: =IF(AK54>0,HLOOKUP(CI88,$DY$110:$ME$112,3),0) -> 0 | CL92: =IF(AN54>0,HLOOKUP(CL88,$DY$110:$ME$112,3),0) -> 0 | CO92: =IF(AQ54>0,HLOOKUP(CO88,$DY$110:$ME$112,3),0) -> 0 | CR92: =IF(AT54>0,HLOOKUP(CR88,$DY$110:$ME$112,3),0) -> 0 | CU92: =IF(AW54>0,HLOOKUP(CU88,$DY$110:$ME$112,3),0) -> 0 | CX92: =IF(AZ54>0,HLOOKUP(CX88,$DY$110:$ME$112,3),0) -> 0 | DA92: =IF(BC54>0,HLOOKUP(DA88,$DY$110:$ME$112,3),0) -> 0 | DD92: =IF(BF54>0,HLOOKUP(DD88,$DY$110:$ME$112,3),0) -> 0 | DH92: =DX112 -> 5.85 | DJ92: m Pieces
N93: Angles | X93: Earth Lugs on Rail Ends | AI93: Not Included
BK94: =IF(M58>0,$AE$45*M58+20*(M58-1)+$N$85*2,0) -> 28930 | BN94: =IF(P58>0,$AE$45*P58+20*(P58-1)+$N$85*2,0) -> 0 | BQ94: =IF(S58>0,$AE$45*S58+20*(S58-1)+$N$85*2,0) -> 0 | BT94: =IF(V58>0,$AE$45*V58+20*(V58-1)+$N$85*2,0) -> 0 | BW94: =IF(Y58>0,$AE$45*Y58+20*(Y58-1)+$N$85*2,0) -> 0 | BZ94: =IF(AB58>0,$AE$45*AB58+20*(AB58-1)+$N$85*2,0) -> 0 | CC94: =IF(AE58>0,$AE$45*AE58+20*(AE58-1)+$N$85*2,0) -> 0 | CF94: =IF(AH58>0,$AE$45*AH58+20*(AH58-1)+$N$85*2,0) -> 0 | CI94: =IF(AK58>0,$AE$45*AK58+20*(AK58-1)+$N$85*2,0) -> 0 | CL94: =IF(AN58>0,$AE$45*AN58+20*(AN58-1)+$N$85*2,0) -> 0 | CO94: =IF(AQ58>0,$AE$45*AQ58+20*(AQ58-1)+$N$85*2,0) -> 0 | CR94: =IF(AT58>0,$AE$45*AT58+20*(AT58-1)+$N$85*2,0) -> 0 | CU94: =IF(AW58>0,$AE$45*AW58+20*(AW58-1)+$N$85*2,0) -> 0 | CX94: =IF(AZ58>0,$AE$45*AZ58+20*(AZ58-1)+$N$85*2,0) -> 0 | DA94: =IF(BC58>0,$AE$45*BC58+20*(BC58-1)+$N$85*2,0) -> 0 | DD94: =IF(BF58>0,$AE$45*BF58+20*(BF58-1)+$N$85*2,0) -> 0 | DH94: Rail total length
BK96: =IF($N$81="Combination",0,IF(M58>0,(($AE$45*M58+20*(M58-1)+$N$85*2)/$N$81-ROUNDDOWN(($AE$45*M58+20*(M58-1)+$N$85*2)/$N$81,0))*$N$81,0)) -> 0 | BN96: =IF($N$81="Combination",0,IF(P58>0,(($AE$45*P58+20*(P58-1)+$N$85*2)/$N$81-ROUNDDOWN(($AE$45*P58+20*(P58-1)+$N$85*2)/$N$81,0))*$N$81,0)) -> 0 | BQ96: =IF($N$81="Combination",0,IF(S58>0,(($AE$45*S58+20*(S58-1)+$N$85*2)/$N$81-ROUNDDOWN(($AE$45*S58+20*(S58-1)+$N$85*2)/$N$81,0))*$N$81,0)) -> 0 | BT96: =IF($N$81="Combination",0,IF(V58>0,(($AE$45*V58+20*(V58-1)+$N$85*2)/$N$81-ROUNDDOWN(($AE$45*V58+20*(V58-1)+$N$85*2)/$N$81,0))*$N$81,0)) -> 0 | BW96: =IF($N$81="Combination",0,IF(Y58>0,(($AE$45*Y58+20*(Y58-1)+$N$85*2)/$N$81-ROUNDDOWN(($AE$45*Y58+20*(Y58-1)+$N$85*2)/$N$81,0))*$N$81,0)) -> 0 | BZ96: =IF($N$81="Combination",0,IF(AB58>0,(($AE$45*AB58+20*(AB58-1)+$N$85*2)/$N$81-ROUNDDOWN(($AE$45*AB58+20*(AB58-1)+$N$85*2)/$N$81,0))*$N$81,0)) -> 0 | CC96: =IF($N$81="Combination",0,IF(AE58>0,(($AE$45*AE58+20*(AE58-1)+$N$85*2)/$N$81-ROUNDDOWN(($AE$45*AE58+20*(AE58-1)+$N$85*2)/$N$81,0))*$N$81,0)) -> 0 | CF96: =IF($N$81="Combination",0,IF(AH58>0,(($AE$45*AH58+20*(AH58-1)+$N$85*2)/$N$81-ROUNDDOWN(($AE$45*AH58+20*(AH58-1)+$N$85*2)/$N$81,0))*$N$81,0)) -> 0 | CI96: =IF($N$81="Combination",0,IF(AK58>0,(($AE$45*AK58+20*(AK58-1)+$N$85*2)/$N$81-ROUNDDOWN(($AE$45*AK58+20*(AK58-1)+$N$85*2)/$N$81,0))*$N$81,0)) -> 0 | CL96: =IF($N$81="Combination",0,IF(AN58>0,(($AE$45*AN58+20*(AN58-1)+$N$85*2)/$N$81-ROUNDDOWN(($AE$45*AN58+20*(AN58-1)+$N$85*2)/$N$81,0))*$N$81,0)) -> 0 | CO96: =IF($N$81="Combination",0,IF(AQ58>0,(($AE$45*AQ58+20*(AQ58-1)+$N$85*2)/$N$81-ROUNDDOWN(($AE$45*AQ58+20*(AQ58-1)+$N$85*2)/$N$81,0))*$N$81,0)) -> 0 | CR96: =IF($N$81="Combination",0,IF(AT58>0,(($AE$45*AT58+20*(AT58-1)+$N$85*2)/$N$81-ROUNDDOWN(($AE$45*AT58+20*(AT58-1)+$N$85*2)/$N$81,0))*$N$81,0)) -> 0 | CU96: =IF($N$81="Combination",0,IF(AW58>0,(($AE$45*AW58+20*(AW58-1)+$N$85*2)/$N$81-ROUNDDOWN(($AE$45*AW58+20*(AW58-1)+$N$85*2)/$N$81,0))*$N$81,0)) -> 0 | CX96: =IF($N$81="Combination",0,IF(AZ58>0,(($AE$45*AZ58+20*(AZ58-1)+$N$85*2)/$N$81-ROUNDDOWN(($AE$45*AZ58+20*(AZ58-1)+$N$85*2)/$N$81,0))*$N$81,0)) -> 0 | DA96: =IF($N$81="Combination",0,IF(BC58>0,(($AE$45*BC58+20*(BC58-1)+$N$85*2)/$N$81-ROUNDDOWN(($AE$45*BC58+20*(BC58-1)+$N$85*2)/$N$81,0))*$N$81,0)) -> 0 | DD96: =IF($N$81="Combination",0,IF(BF58>0,(($AE$45*BF58+20*(BF58-1)+$N$85*2)/$N$81-ROUNDDOWN(($AE$45*BF58+20*(BF58-1)+$N$85*2)/$N$81,0))*$N$81,0)) -> 0 | DH96: Too long
BK98: =IF($N$81="Combination",0,IF(M58>0,$N$81-BK96,0)) -> 0 | BN98: =IF($N$81="Combination",0,IF(P58>0,$N$81-BN96,0)) -> 0 | BQ98: =IF($N$81="Combination",0,IF(S58>0,$N$81-BQ96,0)) -> 0 | BT98: =IF($N$81="Combination",0,IF(V58>0,$N$81-BT96,0)) -> 0 | BW98: =IF($N$81="Combination",0,IF(Y58>0,$N$81-BW96,0)) -> 0 | BZ98: =IF($N$81="Combination",0,IF(AB58>0,$N$81-BZ96,0)) -> 0 | CC98: =IF($N$81="Combination",0,IF(AE58>0,$N$81-CC96,0)) -> 0 | CF98: =IF($N$81="Combination",0,IF(AH58>0,$N$81-CF96,0)) -> 0 | CI98: =IF($N$81="Combination",0,IF(AK58>0,$N$81-CI96,0)) -> 0 | CL98: =IF($N$81="Combination",0,IF(AN58>0,$N$81-CL96,0)) -> 0 | CO98: =IF($N$81="Combination",0,IF(AQ58>0,$N$81-CO96,0)) -> 0 | CR98: =IF($N$81="Combination",0,IF(AT58>0,$N$81-CR96,0)) -> 0 | CU98: =IF($N$81="Combination",0,IF(AW58>0,$N$81-CU96,0)) -> 0 | CX98: =IF($N$81="Combination",0,IF(AZ58>0,$N$81-CX96,0)) -> 0 | DA98: =IF($N$81="Combination",0,IF(BC58>0,$N$81-DA96,0)) -> 0 | DD98: =IF($N$81="Combination",0,IF(BF58>0,$N$81-DD96,0)) -> 0 | DH98: Too short
BK100: =BK88*1000-BK94 -> 320 | BN100: =BN88*1000-BN94 -> 0 | BQ100: =BQ88*1000-BQ94 -> 0 | BT100: =BT88*1000-BT94 -> 0 | BW100: =BW88*1000-BW94 -> 0 | BZ100: =BZ88*1000-BZ94 -> 0 | CC100: =CC88*1000-CC94 -> 0 | CF100: =CF88*1000-CF94 -> 0 | CI100: =CI88*1000-CI94 -> 0 | CL100: =CL88*1000-CL94 -> 0 | CO100: =CO88*1000-CO94 -> 0 | CR100: =CR88*1000-CR94 -> 0 | CU100: =CU88*1000-CU94 -> 0 | CX100: =CX88*1000-CX94 -> 0 | DA100: =DA88*1000-DA94 -> 0 | DD100: =DD88*1000-DD94 -> 0 | DH100: Difference: Combination rail vs Needed rail
A102: Materials specified for atmospheric corrosion category up to C4 as per ISO 9223. Please consult for environments with more aggressive ratings.
T110: ="Roof Top Raised Railed ("&$AO$35&")" -> Roof Top Raised Railed (IBR) | DY110: =$DX$111*DY111+$DX$112*DY112 -> 0 | DZ110: =$DX$111*DZ111+$DX$112*DZ112 -> 2.35 | EA110: =$DX$111*EA111+$DX$112*EA112 -> 2.925 | EB110: =$DX$111*EB111+$DX$112*EB112 -> 4.7 | EC110: =$DX$111*EC111+$DX$112*EC112 -> 5.275 | ED110: =$DX$111*ED111+$DX$112*ED112 -> 5.85 | EE110: =$DX$111*EE111+$DX$112*EE112 -> 7.05 | EF110: =$DX$111*EF111+$DX$112*EF112 -> 7.625 | ... ME110: =$DX$111*ME111+$DX$112*ME112 -> 52.075
DW111: =DX111*1000 -> 4700 | DX111: 4.7 | DY111: 0 | DZ111: 0.5 | EA111: 0 | EB111: 1 | EC111: 0.5 | ED111: 0 | EE111: 1.5 | EF111: 1 | EG111: 0.5 | EH111: 0 | EI111: 2 | EJ111: 1.5 | EK111: 1 | EL111: 0.5 | EM111: 0 | EN111: 2.5 | EO111: 2 | EP111: 1.5 | EQ111: 1 | ER111: 0.5 | ES111: 0.5 | ET111: 0 | EU111: 2.5 | EV111: 2 | EW111: 1.5 | EX111: 1 | EY111: 3.5 | EZ111: 0.5 | FA111: 0.5 | FB111: 0 | FC111: 0 | FD111: 2 | FE111: 1.5 | FF111: 1.5 | FG111: 1 | FH111: 3.5 | FI111: 0.5 | FJ111: 3 | FK111: 0 | FL111: 0 | FM111: 2 | FN111: 4.5 | FO111: 1.5 | FP111: 1.5 | FQ111: 1 | FR111: 1 | FS111: 0.5 | FT111: 3 | FU111: 0 | FV111: 2.5 | FW111: 2.5 | FX111: 2 | FY111: 4.5 | FZ111: 1.5 | GA111: 4 | GB111: 1 | GC111: 1 | GD111: 0.5 | GE111: 0.5 | GF111: 5.5 | GG111: 0 | GH111: 2.5 | GI111: 2.5 | GJ111: 2 | GK111: 2 | GL111: 1.5 | GM111: 4 | GN111: 1 | GO111: 3.5 | GP111: 3.5 | GQ111: 0.5 | GR111: 0.5 | GS111: 5.5 | GT111: 0 | GU111: 0 | GV111: 5 | GW111: 2 | GX111: 2 | GY111: 1.5 | GZ111: 1.5 | HA111: 6.5 | HB111: 1 | HC111: 3.5 | HD111: 3.5 | HE111: 0.5 | HF111: 3 | HG111: 3 | HH111: 0 | HI111: 0 | HJ111: 5 | HK111: 2 | HL111: 4.5 | HM111: 4.5 | HN111: 1.5 | HO111: 1.5 | HP111: 6.5 | HQ111: 1 | HR111: 1 | HS111: 6 | HT111: 0.5 | HU111: 3 | HV111: 3 | HW111: 0 | HX111: 2.5 | HY111: 2.5 | HZ111: 7.5 | IA111: 2 | IB111: 4.5 | IC111: 4.5 | ID111: 1.5 | IE111: 4 | IF111: 4 | IG111: 1 | IH111: 1 | II111: 6 | IJ111: 0.5 | IK111: 0.5 | IL111: 5.5 | IM111: 5.5 | IN111: 0 | IO111: 2.5 | IP111: 2.5 | IQ111: 7.5 | IR111: 2 | IS111: 2 | IT111: 7 | IU111: 1.5 | IV111: 4 | IW111: 4 | IX111: 1 | IY111: 3.5 | IZ111: 3.5 | JA111: 8.5 | JB111: 0.5 | JC111: 0.5 | JD111: 5.5 | JE111: 5.5 | JF111: 0 | JG111: 0 | JH111: 5 | JI111: 5 | JJ111: 2 | JK111: 2 | JL111: 7 | JM111: 1.5 | JN111: 1.5 | JO111: 6.5 | JP111: 6.5 | JQ111: 1 | JR111: 3.5 | JS111: 3.5 | JT111: 8.5 | JU111: 0.5 | JV111: 3 | JW111: 3 | JX111: 8 | JY111: 0 | JZ111: 0 | KA111: 5 | KB111: 5 | KC111: 2 | KD111: 4.5 | KE111: 4.5 | KF111: 9.5 | KG111: 1.5 | KH111: 1.5 | KI111: 6.5 | KJ111: 6.5 | KK111: 1 | KL111: 1 | KM111: 6 | KN111: 6 | KO111: 0.5 | KP111: 3 | KQ111: 3 | KR111: 8 | KS111: 0 | KT111: 2.5 | KU111: 2.5 | KV111: 7.5 | KW111: 2 | KX111: 4.5 | KY111: 4.5 | KZ111: 1.5 | LA111: 4 | LB111: 4 | LC111: 9 | LD111: 1 | LE111: 1 | LF111: 6 | LG111: 6 | LH111: 0.5 | LI111: 0.5 | LJ111: 5.5 | LK111: 5.5 | LL111: 10.5 | LM111: 0 | LN111: 2.5 | LO111: 2.5 | LP111: 7.5 | LQ111: 7.5 | LR111: 2 | LS111: 2 | LT111: 7 | LU111: 1.5 | LV111: 4 | LW111: 4 | LX111: 9 | LY111: 1 | LZ111: 3.5 | MA111: 3.5 | MB111: 8.5 | MC111: 8.5 | MD111: 0.5 | ME111: 0.5
DW112: =DX112*1000 -> 5850 | DX112: 5.85 | DY112: 0 | DZ112: 0 | EA112: 0.5 | EB112: 0 | EC112: 0.5 | ED112: 1 | EE112: 0 | EF112: 0.5 | EG112: 1 | EH112: 1.5 | EI112: 0 | EJ112: 0.5 | EK112: 1 | EL112: 1.5 | EM112: 2 | EN112: 0 | EO112: 0.5 | EP112: 1 | EQ112: 1.5 | ER112: 2 | ES112: 2 | ET112: 2.5 | EU112: 0.5 | EV112: 1 | EW112: 1.5 | EX112: 2 | EY112: 0 | EZ112: 2.5 | FA112: 2.5 | FB112: 3 | FC112: 3 | FD112: 1.5 | FE112: 2 | FF112: 2 | FG112: 2.5 | FH112: 0.5 | FI112: 3 | FJ112: 1 | FK112: 3.5 | FL112: 3.5 | FM112: 2 | FN112: 0 | FO112: 2.5 | FP112: 2.5 | FQ112: 3 | FR112: 3 | FS112: 3.5 | FT112: 1.5 | FU112: 4 | FV112: 2 | FW112: 2 | FX112: 2.5 | FY112: 0.5 | FZ112: 3 | GA112: 1 | GB112: 3.5 | GC112: 3.5 | GD112: 4 | GE112: 4 | GF112: 0 | GG112: 4.5 | GH112: 2.5 | GI112: 2.5 | GJ112: 3 | GK112: 3 | GL112: 3.5 | GM112: 1.5 | GN112: 4 | GO112: 2 | GP112: 2 | GQ112: 4.5 | GR112: 4.5 | GS112: 0.5 | GT112: 5 | GU112: 5 | GV112: 1 | GW112: 3.5 | GX112: 3.5 | GY112: 4 | GZ112: 4 | HA112: 0 | HB112: 4.5 | HC112: 2.5 | HD112: 2.5 | HE112: 5 | HF112: 3 | HG112: 3 | HH112: 5.5 | HI112: 5.5 | HJ112: 1.5 | HK112: 4 | HL112: 2 | HM112: 2 | HN112: 4.5 | HO112: 4.5 | HP112: 0.5 | HQ112: 5 | HR112: 5 | HS112: 1 | HT112: 5.5 | HU112: 3.5 | HV112: 3.5 | HW112: 6 | HX112: 4 | HY112: 4 | HZ112: 0 | IA112: 4.5 | IB112: 2.5 | IC112: 2.5 | ID112: 5 | IE112: 3 | IF112: 3 | IG112: 5.5 | IH112: 5.5 | II112: 1.5 | IJ112: 6 | IK112: 6 | IL112: 2 | IM112: 2 | IN112: 6.5 | IO112: 4.5 | IP112: 4.5 | IQ112: 0.5 | IR112: 5 | IS112: 5 | IT112: 1 | IU112: 5.5 | IV112: 3.5 | IW112: 3.5 | IX112: 6 | IY112: 4 | IZ112: 4 | JA112: 0 | JB112: 6.5 | JC112: 6.5 | JD112: 2.5 | JE112: 2.5 | JF112: 7 | JG112: 7 | JH112: 3 | JI112: 3 | JJ112: 5.5 | JK112: 5.5 | JL112: 1.5 | JM112: 6 | JN112: 6 | JO112: 2 | JP112: 2 | JQ112: 6.5 | JR112: 4.5 | JS112: 4.5 | JT112: 0.5 | JU112: 7 | JV112: 5 | JW112: 5 | JX112: 1 | JY112: 7.5 | JZ112: 7.5 | KA112: 3.5 | KB112: 3.5 | KC112: 6 | KD112: 4 | KE112: 4 | KF112: 0 | KG112: 6.5 | KH112: 6.5 | KI112: 2.5 | KJ112: 2.5 | KK112: 7 | KL112: 7 | KM112: 3 | KN112: 3 | KO112: 7.5 | KP112: 5.5 | KQ112: 5.5 | KR112: 1.5 | KS112: 8 | KT112: 6 | KU112: 6 | KV112: 2 | KW112: 6.5 | KX112: 4.5 | KY112: 4.5 | KZ112: 7 | LA112: 5 | LB112: 5 | LC112: 1 | LD112: 7.5 | LE112: 7.5 | LF112: 3.5 | LG112: 3.5 | LH112: 8 | LI112: 8 | LJ112: 4 | LK112: 4 | LL112: 0 | LM112: 8.5 | LN112: 6.5 | LO112: 6.5 | LP112: 2.5 | LQ112: 2.5 | LR112: 7 | LS112: 7 | LT112: 3 | LU112: 7.5 | LV112: 5.5 | LW112: 5.5 | LX112: 1.5 | LY112: 8 | LZ112: 6 | MA112: 6 | MB112: 2 | MC112: 2 | MD112: 8.5 | ME112: 8.5
DW113: Combination
C114: No | G114: Product Code | T114: Description of Goods | AL114: Qnty | AQ114: ARB SKU
BK115: 1 | BN115: 2 | BQ115: 3 | BT115: 4 | BW115: 5 | BZ115: 6 | CC115: 7 | CF115: 8 | CI115: 9 | CL115: 10 | CO115: 11 | CR115: 12 | CU115: 13 | CX115: 14 | DA115: 15 | DD115: 16 | DY115: =DZ110-DY110 -> 2.35 | DZ115: =EA110-DZ110 -> 0.575 | EA115: =EB110-EA110 -> 1.775 | EB115: =EC110-EB110 -> 0.575 | EC115: =ED110-EC110 -> 0.575 | ED115: =EE110-ED110 -> 1.2 | EE115: =EF110-EE110 -> 0.575 | EF115: =EG110-EF110 -> 0.575 | ... MD115: =ME110-MD110 -> 0
BK118: =IF($N$81="Combination",0,($AE$45*M58+20*(M58-1)+$N$85*2)*2*M54/$N$81) -> 0 | BN118: =IF($N$81="Combination",0,($AE$45*P58+20*(P58-1)+$N$85*2)*2*P54/$N$81) -> 0 | BQ118: =IF($N$81="Combination",0,($AE$45*S58+20*(S58-1)+$N$85*2)*2*S54/$N$81) -> 0 | BT118: =IF($N$81="Combination",0,($AE$45*V58+20*(V58-1)+$N$85*2)*2*V54/$N$81) -> 0 | BW118: =IF($N$81="Combination",0,($AE$45*Y58+20*(Y58-1)+$N$85*2)*2*Y54/$N$81) -> 0 | BZ118: =IF($N$81="Combination",0,($AE$45*AB58+20*(AB58-1)+$N$85*2)*2*AB54/$N$81) -> 0 | CC118: =IF($N$81="Combination",0,($AE$45*AE58+20*(AE58-1)+$N$85*2)*2*AE54/$N$81) -> 0 | CF118: =IF($N$81="Combination",0,($AE$45*AH58+20*(AH58-1)+$N$85*2)*2*AH54/$N$81) -> 0 | CI118: =IF($N$81="Combination",0,($AE$45*AK58+20*(AK58-1)+$N$85*2)*2*AK54/$N$81) -> 0 | CL118: =IF($N$81="Combination",0,($AE$45*AN58+20*(AN58-1)+$N$85*2)*2*AN54/$N$81) -> 0 | CO118: =IF($N$81="Combination",0,($AE$45*AQ58+20*(AQ58-1)+$N$85*2)*2*AQ54/$N$81) -> 0 | CR118: =IF($N$81="Combination",0,($AE$45*AT58+20*(AT58-1)+$N$85*2)*2*AT54/$N$81) -> 0 | CU118: =IF($N$81="Combination",0,($AE$45*AW58+20*(AW58-1)+$N$85*2)*2*AW54/$N$81) -> 0 | CX118: =IF($N$81="Combination",0,($AE$45*AZ58+20*(AZ58-1)+$N$85*2)*2*AZ54/$N$81) -> 0 | DA118: =IF($N$81="Combination",0,($AE$45*BC58+20*(BC58-1)+$N$85*2)*2*BC54/$N$81) -> 0 | DD118: =IF($N$81="Combination",0,($AE$45*BF58+20*(BF58-1)+$N$85*2)*2*BF54/$N$81) -> 0
C119: 1 | G119: =IF(AL119=0,"N/A","AXE_L_R_40_30_AL") -> N/A | T119: =VLOOKUP(G119,PL!$B$9:$BH$1265,14,FALSE) -> No Item | AD119: =IF(AL119=0,"","("&IF(N81="Combination",DW111,N81)/1000&"m)") | AL119: =IF(N81="Combination",ROUND(SUM(BK121:DF121)*(1+$BF$81),0),ROUNDUP(SUM(BK119:DF119)*(1+$BF$81),0)) -> 0 | AR119: =VLOOKUP(G119,PL!$B$9:$BH$818,52,FALSE) -> - | BK119: =IF($N$81="Combination",0,($AE$45*M58+20*(M58-1)+$N$85*2+IF(OR(BK96<$BW$81,BK98<$BW$81),MIN(BK96,BK98),0))*2*M54/$N$81) -> 0 | BN119: =IF($N$81="Combination",0,($AE$45*P58+20*(P58-1)+$N$85*2+IF(OR(BN96<$BW$81,BN98<$BW$81),MIN(BN96,BN98),0))*2*P54/$N$81) -> 0 | BQ119: =IF($N$81="Combination",0,($AE$45*S58+20*(S58-1)+$N$85*2+IF(OR(BQ96<$BW$81,BQ98<$BW$81),MIN(BQ96,BQ98),0))*2*S54/$N$81) -> 0 | BT119: =IF($N$81="Combination",0,($AE$45*V58+20*(V58-1)+$N$85*2+IF(OR(BT96<$BW$81,BT98<$BW$81),MIN(BT96,BT98),0))*2*V54/$N$81) -> 0 | BW119: =IF($N$81="Combination",0,($AE$45*Y58+20*(Y58-1)+$N$85*2+IF(OR(BW96<$BW$81,BW98<$BW$81),MIN(BW96,BW98),0))*2*Y54/$N$81) -> 0 | BZ119: =IF($N$81="Combination",0,($AE$45*AB58+20*(AB58-1)+$N$85*2+IF(OR(BZ96<$BW$81,BZ98<$BW$81),MIN(BZ96,BZ98),0))*2*AB54/$N$81) -> 0 | CC119: =IF($N$81="Combination",0,($AE$45*AE58+20*(AE58-1)+$N$85*2+IF(OR(CC96<$BW$81,CC98<$BW$81),MIN(CC96,CC98),0))*2*AE54/$N$81) -> 0 | CF119: =IF($N$81="Combination",0,($AE$45*AH58+20*(AH58-1)+$N$85*2+IF(OR(CF96<$BW$81,CF98<$BW$81),MIN(CF96,CF98),0))*2*AH54/$N$81) -> 0 | CI119: =IF($N$81="Combination",0,($AE$45*AK58+20*(AK58-1)+$N$85*2+IF(OR(CI96<$BW$81,CI98<$BW$81),MIN(CI96,CI98),0))*2*AK54/$N$81) -> 0 | CL119: =IF($N$81="Combination",0,($AE$45*AN58+20*(AN58-1)+$N$85*2+IF(OR(CL96<$BW$81,CL98<$BW$81),MIN(CL96,CL98),0))*2*AN54/$N$81) -> 0 | CO119: =IF($N$81="Combination",0,($AE$45*AQ58+20*(AQ58-1)+$N$85*2+IF(OR(CO96<$BW$81,CO98<$BW$81),MIN(CO96,CO98),0))*2*AQ54/$N$81) -> 0 | CR119: =IF($N$81="Combination",0,($AE$45*AT58+20*(AT58-1)+$N$85*2+IF(OR(CR96<$BW$81,CR98<$BW$81),MIN(CR96,CR98),0))*2*AT54/$N$81) -> 0 | CU119: =IF($N$81="Combination",0,($AE$45*AW58+20*(AW58-1)+$N$85*2+IF(OR(CU96<$BW$81,CU98<$BW$81),MIN(CU96,CU98),0))*2*AW54/$N$81) -> 0 | CX119: =IF($N$81="Combination",0,($AE$45*AZ58+20*(AZ58-1)+$N$85*2+IF(OR(CX96<$BW$81,CX98<$BW$81),MIN(CX96,CX98),0))*2*AZ54/$N$81) -> 0 | DA119: =IF($N$81="Combination",0,($AE$45*BC58+20*(BC58-1)+$N$85*2+IF(OR(DA96<$BW$81,DA98<$BW$81),MIN(DA96,DA98),0))*2*BC54/$N$81) -> 0 | DD119: =IF($N$81="Combination",0,($AE$45*BF58+20*(BF58-1)+$N$85*2+IF(OR(DD96<$BW$81,DD98<$BW$81),MIN(DD96,DD98),0))*2*BF54/$N$81) -> 0
T121: =VLOOKUP(G119,PL!$B$9:$BH$1265,33,FALSE) -> . | BK121: =IF(M54>0,HLOOKUP(BK88,$DY$110:$ME$112,2)*M54*2,0) -> 0 | BN121: =IF(P54>0,HLOOKUP(BN88,$DY$110:$ME$112,2)*P54*2,0) -> 0 | BQ121: =IF(S54>0,HLOOKUP(BQ88,$DY$110:$ME$112,2)*S54*2,0) -> 0 | BT121: =IF(V54>0,HLOOKUP(BT88,$DY$110:$ME$112,2)*V54*2,0) -> 0 | BW121: =IF(Y54>0,HLOOKUP(BW88,$DY$110:$ME$112,2)*Y54*2,0) -> 0 | BZ121: =IF(AB54>0,HLOOKUP(BZ88,$DY$110:$ME$112,2)*AB54*2,0) -> 0 | CC121: =IF(AE54>0,HLOOKUP(CC88,$DY$110:$ME$112,2)*AE54*2,0) -> 0 | CF121: =IF(AH54>0,HLOOKUP(CF88,$DY$110:$ME$112,2)*AH54*2,0) -> 0 | CI121: =IF(AK54>0,HLOOKUP(CI88,$DY$110:$ME$112,2)*AK54*2,0) -> 0 | CL121: =IF(AN54>0,HLOOKUP(CL88,$DY$110:$ME$112,2)*AN54*2,0) -> 0 | CO121: =IF(AQ54>0,HLOOKUP(CO88,$DY$110:$ME$112,2)*AQ54*2,0) -> 0 | CR121: =IF(AT54>0,HLOOKUP(CR88,$DY$110:$ME$112,2)*AT54*2,0) -> 0 | CU121: =IF(AW54>0,HLOOKUP(CU88,$DY$110:$ME$112,2)*AW54*2,0) -> 0 | CX121: =IF(AZ54>0,HLOOKUP(CX88,$DY$110:$ME$112,2)*AZ54*2,0) -> 0 | DA121: =IF(BC54>0,HLOOKUP(DA88,$DY$110:$ME$112,2)*BC54*2,0) -> 0 | DD121: =IF(BF54>0,HLOOKUP(DD88,$DY$110:$ME$112,2)*BF54*2,0) -> 0
C123: =C119+1 -> 2 | G123: =IF(AL123=0,"N/A","AXE_L_R_40_30_AL") -> AXE_L_R_40_30_AL | T123: =VLOOKUP(G123,PL!$B$9:$BH$1265,14,FALSE) -> Rail Profile | AF123: =IF(AL123=0,"","("&IF(N81="Combination",DW112/1000,0)&"m)") -> (5.85m) | AL123: =IF(N81="Combination",ROUND(SUM(BK123:DF123)*(1+$BF$81),0),0) -> 102 | AR123: =VLOOKUP(G123,PL!$B$9:$BH$818,52,FALSE) -> SOL-580404 | BK123: =IF(M54>0,HLOOKUP(BK88,$DY$110:$ME$112,3)*M54*2,0) -> 100 | BN123: =IF(P54>0,HLOOKUP(BN88,$DY$110:$ME$112,3)*P54*2,0) -> 0 | BQ123: =IF(S54>0,HLOOKUP(BQ88,$DY$110:$ME$112,3)*S54*2,0) -> 0 | BT123: =IF(V54>0,HLOOKUP(BT88,$DY$110:$ME$112,3)*V54*2,0) -> 0 | BW123: =IF(Y54>0,HLOOKUP(BW88,$DY$110:$ME$112,3)*Y54*2,0) -> 0 | BZ123: =IF(AB54>0,HLOOKUP(BZ88,$DY$110:$ME$112,3)*AB54*2,0) -> 0 | CC123: =IF(AE54>0,HLOOKUP(CC88,$DY$110:$ME$112,3)*AE54*2,0) -> 0 | CF123: =IF(AH54>0,HLOOKUP(CF88,$DY$110:$ME$112,3)*AH54*2,0) -> 0 | CI123: =IF(AK54>0,HLOOKUP(CI88,$DY$110:$ME$112,3)*AK54*2,0) -> 0 | CL123: =IF(AN54>0,HLOOKUP(CL88,$DY$110:$ME$112,3)*AN54*2,0) -> 0 | CO123: =IF(AQ54>0,HLOOKUP(CO88,$DY$110:$ME$112,3)*AQ54*2,0) -> 0 | CR123: =IF(AT54>0,HLOOKUP(CR88,$DY$110:$ME$112,3)*AT54*2,0) -> 0 | CU123: =IF(AW54>0,HLOOKUP(CU88,$DY$110:$ME$112,3)*AW54*2,0) -> 0 | CX123: =IF(AZ54>0,HLOOKUP(CX88,$DY$110:$ME$112,3)*AZ54*2,0) -> 0 | DA123: =IF(BC54>0,HLOOKUP(DA88,$DY$110:$ME$112,3)*BC54*2,0) -> 0 | DD123: =IF(BF54>0,HLOOKUP(DD88,$DY$110:$ME$112,3)*BF54*2,0) -> 0
T125: =VLOOKUP(G123,PL!$B$9:$BH$1265,33,FALSE) -> Aluminium, 40x30
C127: =C123+1 -> 3 | G127: =IF(AL127=0,"N/A","AXE_EX_40_30_AL") -> AXE_EX_40_30_AL | T127: =VLOOKUP(G127,PL!$B$9:$BH$1265,14,FALSE) -> Extension | AL127: =ROUND(SUM(BK127:DF127)*(1+$BF$87),0) -> 83 | AR127: =VLOOKUP(G127,PL!$B$9:$BH$818,52,FALSE) -> SOL-5805 | BK127: =IF($N$81="Combination",IF(M54>0,ROUND(HLOOKUP(BK88,$DY$110:$ME$112,2),0)+ROUND(HLOOKUP(BK88,$DY$110:$ME$112,3),0)-IF(M54>0,1,0),0),(ROUNDUP(($AE$45*M58+20*(M58-1)+$N$85*2)/$N$81,0)-1))*2*M54 -> 80 | BN127: =IF($N$81="Combination",IF(P54>0,ROUND(HLOOKUP(BN88,$DY$110:$ME$112,2),0)+ROUND(HLOOKUP(BN88,$DY$110:$ME$112,3),0)-IF(P54>0,1,0),0),(ROUNDUP(($AE$45*P58+20*(P58-1)+$N$85*2)/$N$81,0)-1))*2*P54 -> 0 | BQ127: =IF($N$81="Combination",IF(S54>0,ROUND(HLOOKUP(BQ88,$DY$110:$ME$112,2),0)+ROUND(HLOOKUP(BQ88,$DY$110:$ME$112,3),0)-IF(S54>0,1,0),0),(ROUNDUP(($AE$45*S58+20*(S58-1)+$N$85*2)/$N$81,0)-1))*2*S54 -> 0 | BT127: =IF($N$81="Combination",IF(V54>0,ROUND(HLOOKUP(BT88,$DY$110:$ME$112,2),0)+ROUND(HLOOKUP(BT88,$DY$110:$ME$112,3),0)-IF(V54>0,1,0),0),(ROUNDUP(($AE$45*V58+20*(V58-1)+$N$85*2)/$N$81,0)-1))*2*V54 -> 0 | BW127: =IF($N$81="Combination",IF(Y54>0,ROUND(HLOOKUP(BW88,$DY$110:$ME$112,2),0)+ROUND(HLOOKUP(BW88,$DY$110:$ME$112,3),0)-IF(Y54>0,1,0),0),(ROUNDUP(($AE$45*Y58+20*(Y58-1)+$N$85*2)/$N$81,0)-1))*2*Y54 -> 0 | BZ127: =IF($N$81="Combination",IF(AB54>0,ROUND(HLOOKUP(BZ88,$DY$110:$ME$112,2),0)+ROUND(HLOOKUP(BZ88,$DY$110:$ME$112,3),0)-IF(AB54>0,1,0),0),(ROUNDUP(($AE$45*AB58+20*(AB58-1)+$N$85*2)/$N$81,0)-1))*2*AB54 -> 0 | CC127: =IF($N$81="Combination",IF(AE54>0,ROUND(HLOOKUP(CC88,$DY$110:$ME$112,2),0)+ROUND(HLOOKUP(CC88,$DY$110:$ME$112,3),0)-IF(AE54>0,1,0),0),(ROUNDUP(($AE$45*AE58+20*(AE58-1)+$N$85*2)/$N$81,0)-1))*2*AE54 -> 0 | CF127: =IF($N$81="Combination",IF(AH54>0,ROUND(HLOOKUP(CF88,$DY$110:$ME$112,2),0)+ROUND(HLOOKUP(CF88,$DY$110:$ME$112,3),0)-IF(AH54>0,1,0),0),(ROUNDUP(($AE$45*AH58+20*(AH58-1)+$N$85*2)/$N$81,0)-1))*2*AH54 -> 0 | CI127: =IF($N$81="Combination",IF(AK54>0,ROUND(HLOOKUP(CI88,$DY$110:$ME$112,2),0)+ROUND(HLOOKUP(CI88,$DY$110:$ME$112,3),0)-IF(AK54>0,1,0),0),(ROUNDUP(($AE$45*AK58+20*(AK58-1)+$N$85*2)/$N$81,0)-1))*2*AK54 -> 0 | CL127: =IF($N$81="Combination",IF(AN54>0,ROUND(HLOOKUP(CL88,$DY$110:$ME$112,2),0)+ROUND(HLOOKUP(CL88,$DY$110:$ME$112,3),0)-IF(AN54>0,1,0),0),(ROUNDUP(($AE$45*AN58+20*(AN58-1)+$N$85*2)/$N$81,0)-1))*2*AN54 -> 0 | CO127: =IF($N$81="Combination",IF(AQ54>0,ROUND(HLOOKUP(CO88,$DY$110:$ME$112,2),0)+ROUND(HLOOKUP(CO88,$DY$110:$ME$112,3),0)-IF(AQ54>0,1,0),0),(ROUNDUP(($AE$45*AQ58+20*(AQ58-1)+$N$85*2)/$N$81,0)-1))*2*AQ54 -> 0 | CR127: =IF($N$81="Combination",IF(AT54>0,ROUND(HLOOKUP(CR88,$DY$110:$ME$112,2),0)+ROUND(HLOOKUP(CR88,$DY$110:$ME$112,3),0)-IF(AT54>0,1,0),0),(ROUNDUP(($AE$45*AT58+20*(AT58-1)+$N$85*2)/$N$81,0)-1))*2*AT54 -> 0 | CU127: =IF($N$81="Combination",IF(AW54>0,ROUND(HLOOKUP(CU88,$DY$110:$ME$112,2),0)+ROUND(HLOOKUP(CU88,$DY$110:$ME$112,3),0)-IF(AW54>0,1,0),0),(ROUNDUP(($AE$45*AW58+20*(AW58-1)+$N$85*2)/$N$81,0)-1))*2*AW54 -> 0 | CX127: =IF($N$81="Combination",IF(AZ54>0,ROUND(HLOOKUP(CX88,$DY$110:$ME$112,2),0)+ROUND(HLOOKUP(CX88,$DY$110:$ME$112,3),0)-IF(AZ54>0,1,0),0),(ROUNDUP(($AE$45*AZ58+20*(AZ58-1)+$N$85*2)/$N$81,0)-1))*2*AZ54 -> 0 | DA127: =IF($N$81="Combination",IF(BC54>0,ROUND(HLOOKUP(DA88,$DY$110:$ME$112,2),0)+ROUND(HLOOKUP(DA88,$DY$110:$ME$112,3),0)-IF(BC54>0,1,0),0),(ROUNDUP(($AE$45*BC58+20*(BC58-1)+$N$85*2)/$N$81,0)-1))*2*BC54 -> 0 | DD127: =IF($N$81="Combination",IF(BF54>0,ROUND(HLOOKUP(DD88,$DY$110:$ME$112,2),0)+ROUND(HLOOKUP(DD88,$DY$110:$ME$112,3),0)-IF(BF54>0,1,0),0),(ROUNDUP(($AE$45*BF58+20*(BF58-1)+$N$85*2)/$N$81,0)-1))*2*BF54 -> 0
T129: =VLOOKUP(G127,PL!$B$9:$BH$1265,33,FALSE) -> Aluminium, Rail Profile 40x30
C131: =C127+1 -> 4 | G131: ="AXE_F_RS_RD_"&IF($W$45<2200,"S","L")&"_"&$AO$31&"_AL" -> AXE_F_RS_RD_L_10_AL | T131: =VLOOKUP(G131,PL!$B$9:$BH$1265,14,FALSE) -> Raised Frame | AL131: =SUM(BK131:DF132) -> 200 | AR131: =VLOOKUP(G131,PL!$B$9:$BH$818,52,FALSE) -> 0 | BK131: =(ROUNDUP(($AE$45*M58+20*(M58-1)+$N$85*2-2*$N$89)/$AX$35,0)+1)*M54 -> 200 | BN131: =(ROUNDUP(($AE$45*P58+20*(P58-1)+$N$85*2-2*$N$89)/$AX$35,0)+1)*P54 -> 0 | BQ131: =(ROUNDUP(($AE$45*S58+20*(S58-1)+$N$85*2-2*$N$89)/$AX$35,0)+1)*S54 -> 0 | BT131: =(ROUNDUP(($AE$45*V58+20*(V58-1)+$N$85*2-2*$N$89)/$AX$35,0)+1)*V54 -> 0 | BW131: =(ROUNDUP(($AE$45*Y58+20*(Y58-1)+$N$85*2-2*$N$89)/$AX$35,0)+1)*Y54 -> 0 | BZ131: =(ROUNDUP(($AE$45*AB58+20*(AB58-1)+$N$85*2-2*$N$89)/$AX$35,0)+1)*AB54 -> 0 | CC131: =(ROUNDUP(($AE$45*AE58+20*(AE58-1)+$N$85*2-2*$N$89)/$AX$35,0)+1)*AE54 -> 0 | CF131: =(ROUNDUP(($AE$45*AH58+20*(AH58-1)+$N$85*2-2*$N$89)/$AX$35,0)+1)*AH54 -> 0 | CI131: =(ROUNDUP(($AE$45*AK58+20*(AK58-1)+$N$85*2-2*$N$89)/$AX$35,0)+1)*AK54 -> 0 | CL131: =(ROUNDUP(($AE$45*AN58+20*(AN58-1)+$N$85*2-2*$N$89)/$AX$35,0)+1)*AN54 -> 0 | CO131: =(ROUNDUP(($AE$45*AQ58+20*(AQ58-1)+$N$85*2-2*$N$89)/$AX$35,0)+1)*AQ54 -> 0 | CR131: =(ROUNDUP(($AE$45*AT58+20*(AT58-1)+$N$85*2-2*$N$89)/$AX$35,0)+1)*AT54 -> 0 | CU131: =(ROUNDUP(($AE$45*AW58+20*(AW58-1)+$N$85*2-2*$N$89)/$AX$35,0)+1)*AW54 -> 0 | CX131: =(ROUNDUP(($AE$45*AZ58+20*(AZ58-1)+$N$85*2-2*$N$89)/$AX$35,0)+1)*AZ54 -> 0 | DA131: =(ROUNDUP(($AE$45*BC58+20*(BC58-1)+$N$85*2-2*$N$89)/$AX$35,0)+1)*BC54 -> 0 | DD131: =(ROUNDUP(($AE$45*BF58+20*(BF58-1)+$N$85*2-2*$N$89)/$AX$35,0)+1)*BF54 -> 0
T133: =VLOOKUP(G131,PL!$B$9:$BH$1265,33,FALSE) -> Aluminium, Railed, Long, 10deg
C135: =C131+1 -> 5 | G135: =IF($AI$85="Included","AXE_CM_CF_"&$AM$45,"AXE_CM_AP")&"_AL" -> AXE_CM_CF_30_AL | T135: =VLOOKUP(G135,PL!$B$9:$BH$1265,14,FALSE) -> Mid Clamp | AL135: =ROUND(SUM(BK135:DF135)*(1+$BF$81),0) -> 490 | AR135: =VLOOKUP(G135,PL!$B$9:$BH$818,52,FALSE) -> SOL-580101 | BK135: =M54*M58*2-BK139/2 -> 480 | BN135: =P54*P58*2-BN139/2 -> 0 | BQ135: =S54*S58*2-BQ139/2 -> 0 | BT135: =V54*V58*2-BT139/2 -> 0 | BW135: =Y54*Y58*2-BW139/2 -> 0 | BZ135: =AB54*AB58*2-BZ139/2 -> 0 | CC135: =AE54*AE58*2-CC139/2 -> 0 | CF135: =AH54*AH58*2-CF139/2 -> 0 | CI135: =AK54*AK58*2-CI139/2 -> 0 | CL135: =AN54*AN58*2-CL139/2 -> 0 | CO135: =AQ54*AQ58*2-CO139/2 -> 0 | CR135: =AT54*AT58*2-CR139/2 -> 0 | CU135: =AW54*AW58*2-CU139/2 -> 0 | CX135: =AZ54*AZ58*2-CX139/2 -> 0 | DA135: =BC54*BC58*2-DA139/2 -> 0 | DD135: =BF54*BF58*2-DD139/2 -> 0
T137: =VLOOKUP(G135,PL!$B$9:$BH$1265,33,FALSE) -> Aluminium, Click Fix, 30mm high
C139: =C135+1 -> 6 | G139: =IF($AI$85="Included","AXE_CE_CF_"&$AM$45,"AXE_CE_AP_"&$AM$45)&"_AL" -> AXE_CE_CF_30_AL | T139: =VLOOKUP(G139,PL!$B$9:$BH$1265,14,FALSE) -> End Clamp | AL139: =ROUND(SUM(BK139:DF139)*(1+$BF$91),0) -> 41 | AR139: =VLOOKUP(G139,PL!$B$9:$BH$818,52,FALSE) -> SOL-580301 | BK139: =4*M54 -> 40 | BN139: =4*P54 -> 0 | BQ139: =4*S54 -> 0 | BT139: =4*V54 -> 0 | BW139: =4*Y54 -> 0 | BZ139: =4*AB54 -> 0 | CC139: =4*AE54 -> 0 | CF139: =4*AH54 -> 0 | CI139: =4*AK54 -> 0 | CL139: =4*AN54 -> 0 | CO139: =4*AQ54 -> 0 | CR139: =4*AT54 -> 0 | CU139: =4*AW54 -> 0 | CX139: =4*AZ54 -> 0 | DA139: =4*BC54 -> 0 | DD139: =4*BF54 -> 0
T141: =VLOOKUP(G139,PL!$B$9:$BH$1265,33,FALSE) -> Aluminium, Click Fix, 30mm high
C143: =C139+1 -> 7 | G143: ="AXE_BR_"&IF($AO$35="Corrugated","COR_H", IF(OR($AO$35="Corrugated (L-bracket)",$AO$35="IBR (L-bracket)"),"L_R", IF(OR($AO$35="Corrugated (Rib Surface)",$AO$35="IBR (Rib Surface)"),"RS_H", IF(OR($AO$35="Corrugated (Ridge)",$AO$35="IBR (Ridge)"),"RF_H", IF($AO$35="IBR","IBR_H", IF($AO$35="Craft-Lock","CL_H", IF(OR($AO$35="Klip-Lok",$AO$35="ProLok",$AO$35="Saflok"),"FL_H", IF($AO$35="Springlok","SL_H", IF($AO$35="Novotexi","NT_H", IF(OR($AO$35="Brownbuilt",$AO$35="Dimondek"),"GL_H", IF(OR($AO$35="Brownbuilt (Pinch)",$AO$35="Dimondek (Pinch)"),"PF_H", IF(OR($AO$35="Dimondek (Stand Rib)",$AO$35="Zip-Tek"),"SR_H","L_S"))))))))))))&"_AL" -> AXE_BR_IBR_H_AL | T143: =VLOOKUP(G143,PL!$B$9:$BH$1265,14,FALSE) -> IBR Bracket | AL143: =ROUND(SUM(BK143:DF143)*(1+$BF$81),0) -> 408 | AR143: =VLOOKUP(G143,PL!$B$9:$BH$818,52,FALSE) -> SOL-59020 | BK143: =(ROUNDUP(($AE$45*M58+20*(M58-1)+$N$85*2-2*$N$89)/$AX$35,0)+1)*2*M54 -> 400 | BN143: =(ROUNDUP(($AE$45*P58+20*(P58-1)+$N$85*2-2*$N$89)/$AX$35,0)+1)*2*P54 -> 0 | BQ143: =(ROUNDUP(($AE$45*S58+20*(S58-1)+$N$85*2-2*$N$89)/$AX$35,0)+1)*2*S54 -> 0 | BT143: =(ROUNDUP(($AE$45*V58+20*(V58-1)+$N$85*2-2*$N$89)/$AX$35,0)+1)*2*V54 -> 0 | BW143: =(ROUNDUP(($AE$45*Y58+20*(Y58-1)+$N$85*2-2*$N$89)/$AX$35,0)+1)*2*Y54 -> 0 | BZ143: =(ROUNDUP(($AE$45*AB58+20*(AB58-1)+$N$85*2-2*$N$89)/$AX$35,0)+1)*2*AB54 -> 0 | CC143: =(ROUNDUP(($AE$45*AE58+20*(AE58-1)+$N$85*2-2*$N$89)/$AX$35,0)+1)*2*AE54 -> 0 | CF143: =(ROUNDUP(($AE$45*AH58+20*(AH58-1)+$N$85*2-2*$N$89)/$AX$35,0)+1)*2*AH54 -> 0 | CI143: =(ROUNDUP(($AE$45*AK58+20*(AK58-1)+$N$85*2-2*$N$89)/$AX$35,0)+1)*2*AK54 -> 0 | CL143: =(ROUNDUP(($AE$45*AN58+20*(AN58-1)+$N$85*2-2*$N$89)/$AX$35,0)+1)*2*AN54 -> 0 | CO143: =(ROUNDUP(($AE$45*AQ58+20*(AQ58-1)+$N$85*2-2*$N$89)/$AX$35,0)+1)*2*AQ54 -> 0 | CR143: =(ROUNDUP(($AE$45*AT58+20*(AT58-1)+$N$85*2-2*$N$89)/$AX$35,0)+1)*2*AT54 -> 0 | CU143: =(ROUNDUP(($AE$45*AW58+20*(AW58-1)+$N$85*2-2*$N$89)/$AX$35,0)+1)*2*AW54 -> 0 | CX143: =(ROUNDUP(($AE$45*AZ58+20*(AZ58-1)+$N$85*2-2*$N$89)/$AX$35,0)+1)*2*AZ54 -> 0 | DA143: =(ROUNDUP(($AE$45*BC58+20*(BC58-1)+$N$85*2-2*$N$89)/$AX$35,0)+1)*2*BC54 -> 0 | DD143: =(ROUNDUP(($AE$45*BF58+20*(BF58-1)+$N$85*2-2*$N$89)/$AX$35,0)+1)*2*BF54 -> 0
T145: =VLOOKUP(G143,PL!$B$9:$BH$1265,33,FALSE) -> Aluminium, Horizontal
C147: =C143+1 -> 8 | G147: =IF(AL147=0,"N/A","AXE_BR_L_S"&"_AL") -> AXE_BR_L_S_AL | T147: =VLOOKUP(G147,PL!$B$9:$BH$1265,14,FALSE) -> L Bracket | AL147: =ROUND(SUM(BK147:DF147)*(1+$BF$81),0) -> 408 | AR147: =VLOOKUP(G147,PL!$B$9:$BH$818,52,FALSE) -> SOL-5808 | BK147: =IF(MID($G$143,8,1)="L",0,BK143) -> 400 | BN147: =IF(MID($G$143,8,1)="L",0,BN143) -> 0 | BQ147: =IF(MID($G$143,8,1)="L",0,BQ143) -> 0 | BT147: =IF(MID($G$143,8,1)="L",0,BT143) -> 0 | BW147: =IF(MID($G$143,8,1)="L",0,BW143) -> 0 | BZ147: =IF(MID($G$143,8,1)="L",0,BZ143) -> 0 | CC147: =IF(MID($G$143,8,1)="L",0,CC143) -> 0 | CF147: =IF(MID($G$143,8,1)="L",0,CF143) -> 0 | CI147: =IF(MID($G$143,8,1)="L",0,CI143) -> 0 | CL147: =IF(MID($G$143,8,1)="L",0,CL143) -> 0 | CO147: =IF(MID($G$143,8,1)="L",0,CO143) -> 0 | CR147: =IF(MID($G$143,8,1)="L",0,CR143) -> 0 | CU147: =IF(MID($G$143,8,1)="L",0,CU143) -> 0 | CX147: =IF(MID($G$143,8,1)="L",0,CX143) -> 0 | DA147: =IF(MID($G$143,8,1)="L",0,DA143) -> 0 | DD147: =IF(MID($G$143,8,1)="L",0,DD143) -> 0
T149: =VLOOKUP(G147,PL!$B$9:$BH$1265,33,FALSE) -> Aluminium, Slotted
C151: =C147+1 -> 9 | G151: =IF(AL151=0,"N/A",IF($N$93="Cables","AXE_RW_L_5_SS",IF($N$93="Gripple","AXE_RW_G_6_"&AF151*1000&"_8_SH","AXE_L_AE_40_40_3_AL"))) -> AXE_L_AE_40_40_3_AL | T151: =VLOOKUP(G151,PL!$B$9:$BH$1265,14,FALSE) -> Equal Angle | AE151: ( | AF151: =IF(AL151=0,0,IF($N$93="Angles",2,2.5)) -> 2 | AI151: m) | AL151: =ROUND(SUM(BK151:DF151),0) -> 80 | AR151: =VLOOKUP(G151,PL!$B$9:$BH$828,52,FALSE) -> SOL-5955 | BK151: =IF($N$93="Not Included",0,(IF(M62>10,M54*4,IF(M62>6,M54*3,IF(M62>4,M54*2,M54))))*2) -> 80 | BN151: =IF($N$93="Not Included",0,(IF(P62>10,P54*4,IF(P62>6,P54*3,IF(P62>4,P54*2,P54))))*2) -> 0 | BQ151: =IF($N$93="Not Included",0,(IF(S62>10,S54*4,IF(S62>6,S54*3,IF(S62>4,S54*2,S54))))*2) -> 0 | BT151: =IF($N$93="Not Included",0,(IF(V62>10,V54*4,IF(V62>6,V54*3,IF(V62>4,V54*2,V54))))*2) -> 0 | BW151: =IF($N$93="Not Included",0,(IF(Y62>10,Y54*4,IF(Y62>6,Y54*3,IF(Y62>4,Y54*2,Y54))))*2) -> 0 | BZ151: =IF($N$93="Not Included",0,(IF(AB62>10,AB54*4,IF(AB62>6,AB54*3,IF(AB62>4,AB54*2,AB54))))*2) -> 0 | CC151: =IF($N$93="Not Included",0,(IF(AE62>10,AE54*4,IF(AE62>6,AE54*3,IF(AE62>4,AE54*2,AE54))))*2) -> 0 | CF151: =IF($N$93="Not Included",0,(IF(AH62>10,AH54*4,IF(AH62>6,AH54*3,IF(AH62>4,AH54*2,AH54))))*2) -> 0 | CI151: =IF($N$93="Not Included",0,(IF(AK62>10,AK54*4,IF(AK62>6,AK54*3,IF(AK62>4,AK54*2,AK54))))*2) -> 0 | CL151: =IF($N$93="Not Included",0,(IF(AN62>10,AN54*4,IF(AN62>6,AN54*3,IF(AN62>4,AN54*2,AN54))))*2) -> 0 | CO151: =IF($N$93="Not Included",0,(IF(AQ62>10,AQ54*4,IF(AQ62>6,AQ54*3,IF(AQ62>4,AQ54*2,AQ54))))*2) -> 0 | CR151: =IF($N$93="Not Included",0,(IF(AT62>10,AT54*4,IF(AT62>6,AT54*3,IF(AT62>4,AT54*2,AT54))))*2) -> 0 | CU151: =IF($N$93="Not Included",0,(IF(AW62>10,AW54*4,IF(AW62>6,AW54*3,IF(AW62>4,AW54*2,AW54))))*2) -> 0 | CX151: =IF($N$93="Not Included",0,(IF(AZ62>10,AZ54*4,IF(AZ62>6,AZ54*3,IF(AZ62>4,AZ54*2,AZ54))))*2) -> 0 | DA151: =IF($N$93="Not Included",0,(IF(BC62>10,BC54*4,IF(BC62>6,BC54*3,IF(BC62>4,BC54*2,BC54))))*2) -> 0 | DD151: =IF($N$93="Not Included",0,(IF(BF62>10,BF54*4,IF(BF62>6,BF54*3,IF(BF62>4,BF54*2,BF54))))*2) -> 0
T153: =VLOOKUP(G151,PL!$B$9:$BH$1265,33,FALSE) -> Aluminium, 40x40x3
C155: =C151+1 -> 10 | G155: =IF(AL155=0,"N/A","AXE_EC_40_30_AL") -> N/A | T155: =VLOOKUP(G155,PL!$B$9:$BH$1265,14,FALSE) -> No Item | AL155: =ROUND(SUM(BK155:DF155),0) -> 0 | AR155: =VLOOKUP(G155,PL!$B$9:$BH$818,52,FALSE) -> - | BK155: =IF($AI$89="Included",1,0)*M54*4 -> 0 | BN155: =IF($AI$89="Included",1,0)*P54*4 -> 0 | BQ155: =IF($AI$89="Included",1,0)*S54*4 -> 0 | BT155: =IF($AI$89="Included",1,0)*V54*4 -> 0 | BW155: =IF($AI$89="Included",1,0)*Y54*4 -> 0 | BZ155: =IF($AI$89="Included",1,0)*AB54*4 -> 0 | CC155: =IF($AI$89="Included",1,0)*AE54*4 -> 0 | CF155: =IF($AI$89="Included",1,0)*AH54*4 -> 0 | CI155: =IF($AI$89="Included",1,0)*AK54*4 -> 0 | CL155: =IF($AI$89="Included",1,0)*AN54*4 -> 0 | CO155: =IF($AI$89="Included",1,0)*AQ54*4 -> 0 | CR155: =IF($AI$89="Included",1,0)*AT54*4 -> 0 | CU155: =IF($AI$89="Included",1,0)*AW54*4 -> 0 | CX155: =IF($AI$89="Included",1,0)*AZ54*4 -> 0 | DA155: =IF($AI$89="Included",1,0)*BC54*4 -> 0 | DD155: =IF($AI$89="Included",1,0)*BF54*4 -> 0
T157: =VLOOKUP(G155,PL!$B$9:$BH$1265,33,FALSE) -> .
C159: =C155+1 -> 11 | G159: =IF(AL159=0,"N/A","AXE_CC_SS") -> N/A | T159: =VLOOKUP(G159,PL!$B$9:$BH$1265,14,FALSE) -> No Item | AL159: =ROUND(SUM(BK159:DF159)*(1+$BF$81),0) -> 0 | AR159: =VLOOKUP(G159,PL!$B$9:$BH$818,52,FALSE) -> - | BK159: =IF($AI$81="Included",1,0)*M58*M54 -> 0 | BN159: =IF($AI$81="Included",1,0)*P58*P54 -> 0 | BQ159: =IF($AI$81="Included",1,0)*S58*S54 -> 0 | BT159: =IF($AI$81="Included",1,0)*V58*V54 -> 0 | BW159: =IF($AI$81="Included",1,0)*Y58*Y54 -> 0 | BZ159: =IF($AI$81="Included",1,0)*AB58*AB54 -> 0 | CC159: =IF($AI$81="Included",1,0)*AE58*AE54 -> 0 | CF159: =IF($AI$81="Included",1,0)*AH58*AH54 -> 0 | CI159: =IF($AI$81="Included",1,0)*AK58*AK54 -> 0 | CL159: =IF($AI$81="Included",1,0)*AN58*AN54 -> 0 | CO159: =IF($AI$81="Included",1,0)*AQ58*AQ54 -> 0 | CR159: =IF($AI$81="Included",1,0)*AT58*AT54 -> 0 | CU159: =IF($AI$81="Included",1,0)*AW58*AW54 -> 0 | CX159: =IF($AI$81="Included",1,0)*AZ58*AZ54 -> 0 | DA159: =IF($AI$81="Included",1,0)*BC58*BC54 -> 0 | DD159: =IF($AI$81="Included",1,0)*BF58*BF54 -> 0
T161: =VLOOKUP(G159,PL!$B$9:$BH$1265,33,FALSE) -> .
C163: =C159+1 -> 12 | G163: =IF(AL163=0,"N/A","AXE_EL_AL") -> N/A | T163: =VLOOKUP(G163,PL!$B$9:$BH$1265,14,FALSE) -> No Item | AL163: =ROUND(SUM(BK163:DF163)*(1+$BF$87),0) -> 0 | AR163: =VLOOKUP(G163,PL!$B$9:$BH$818,52,FALSE) -> - | BK163: =IF($AI$93="Included",1,0)*M54 -> 0 | BN163: =IF($AI$93="Included",1,0)*P54 -> 0 | BQ163: =IF($AI$93="Included",1,0)*S54 -> 0 | BT163: =IF($AI$93="Included",1,0)*V54 -> 0 | BW163: =IF($AI$93="Included",1,0)*Y54 -> 0 | BZ163: =IF($AI$93="Included",1,0)*AB54 -> 0 | CC163: =IF($AI$93="Included",1,0)*AE54 -> 0 | CF163: =IF($AI$93="Included",1,0)*AH54 -> 0 | CI163: =IF($AI$93="Included",1,0)*AK54 -> 0 | CL163: =IF($AI$93="Included",1,0)*AN54 -> 0 | CO163: =IF($AI$93="Included",1,0)*AQ54 -> 0 | CR163: =IF($AI$93="Included",1,0)*AT54 -> 0 | CU163: =IF($AI$93="Included",1,0)*AW54 -> 0 | CX163: =IF($AI$93="Included",1,0)*AZ54 -> 0 | DA163: =IF($AI$93="Included",1,0)*BC54 -> 0 | DD163: =IF($AI$93="Included",1,0)*BF54 -> 0
T165: =VLOOKUP(G163,PL!$B$9:$BH$1265,33,FALSE) -> .
C167: =C163+1 -> 13 | G167: =IF(AL167=0,"N/A","AXE_CS_8_20"&"_SS") -> N/A | T167: =VLOOKUP(G167,PL!$B$9:$BH$1265,14,FALSE) -> No Item | AL167: =ROUND(SUM(BK167:DF167)*(1+$BF$87),0) -> 0 | AR167: =VLOOKUP(G167,PL!$B$9:$BH$818,52,FALSE) -> - | BK167: =IF($AI$89="Included",1,0)*M54*4 +IF(OR(MID($G$143,8,2)="PF",MID($G$143,8,2)="RS",MID($G$143,8,2)="RF"),BK147,0) -> 0 | BN167: =IF($AI$89="Included",1,0)*P54*4 +IF(OR(MID($G$143,8,2)="PF",MID($G$143,8,2)="RS",MID($G$143,8,2)="RF"),BN147,0) -> 0 | BQ167: =IF($AI$89="Included",1,0)*S54*4 +IF(OR(MID($G$143,8,2)="PF",MID($G$143,8,2)="RS",MID($G$143,8,2)="RF"),BQ147,0) -> 0 | BT167: =IF($AI$89="Included",1,0)*V54*4 +IF(OR(MID($G$143,8,2)="PF",MID($G$143,8,2)="RS",MID($G$143,8,2)="RF"),BT147,0) -> 0 | BW167: =IF($AI$89="Included",1,0)*Y54*4 +IF(OR(MID($G$143,8,2)="PF",MID($G$143,8,2)="RS",MID($G$143,8,2)="RF"),BW147,0) -> 0 | BZ167: =IF($AI$89="Included",1,0)*AB54*4 +IF(OR(MID($G$143,8,2)="PF",MID($G$143,8,2)="RS",MID($G$143,8,2)="RF"),BZ147,0) -> 0 | CC167: =IF($AI$89="Included",1,0)*AE54*4 +IF(OR(MID($G$143,8,2)="PF",MID($G$143,8,2)="RS",MID($G$143,8,2)="RF"),CC147,0) -> 0 | CF167: =IF($AI$89="Included",1,0)*AH54*4 +IF(OR(MID($G$143,8,2)="PF",MID($G$143,8,2)="RS",MID($G$143,8,2)="RF"),CF147,0) -> 0 | CI167: =IF($AI$89="Included",1,0)*AK54*4 +IF(OR(MID($G$143,8,2)="PF",MID($G$143,8,2)="RS",MID($G$143,8,2)="RF"),CI147,0) -> 0 | CL167: =IF($AI$89="Included",1,0)*AN54*4 +IF(OR(MID($G$143,8,2)="PF",MID($G$143,8,2)="RS",MID($G$143,8,2)="RF"),CL147,0) -> 0 | CO167: =IF($AI$89="Included",1,0)*AQ54*4 +IF(OR(MID($G$143,8,2)="PF",MID($G$143,8,2)="RS",MID($G$143,8,2)="RF"),CO147,0) -> 0 | CR167: =IF($AI$89="Included",1,0)*AT54*4 +IF(OR(MID($G$143,8,2)="PF",MID($G$143,8,2)="RS",MID($G$143,8,2)="RF"),CR147,0) -> 0 | CU167: =IF($AI$89="Included",1,0)*AW54*4 +IF(OR(MID($G$143,8,2)="PF",MID($G$143,8,2)="RS",MID($G$143,8,2)="RF"),CU147,0) -> 0 | CX167: =IF($AI$89="Included",1,0)*AZ54*4 +IF(OR(MID($G$143,8,2)="PF",MID($G$143,8,2)="RS",MID($G$143,8,2)="RF"),CX147,0) -> 0 | DA167: =IF($AI$89="Included",1,0)*BC54*4 +IF(OR(MID($G$143,8,2)="PF",MID($G$143,8,2)="RS",MID($G$143,8,2)="RF"),DA147,0) -> 0 | DD167: =IF($AI$89="Included",1,0)*BF54*4 +IF(OR(MID($G$143,8,2)="PF",MID($G$143,8,2)="RS",MID($G$143,8,2)="RF"),DD147,0) -> 0
T169: =VLOOKUP(G167,PL!$B$9:$BH$1265,33,FALSE) -> .
C171: =C167+1 -> 14 | G171: =IF(AL171=0,"N/A","AXE_CS_8_25"&"_SS") -> AXE_CS_8_25_SS | T171: =VLOOKUP(G171,PL!$B$9:$BH$1265,14,FALSE) -> Cap Screws Hexagon | AL171: =ROUND(SUM(BK171:DF171)*(1+$BF$87),0) -> 998 | AR171: =VLOOKUP(G171,PL!$B$9:$BH$818,52,FALSE) -> SOL-59501 | BK171: =BK143+BK151*2 +IF(OR(MID($G$143,8,2)="PF",MID($G$143,8,2)="RS",MID($G$143,8,2)="RF"),0,BK147) -> 960 | BN171: =BN143+BN151*2 +IF(OR(MID($G$143,8,2)="PF",MID($G$143,8,2)="RS",MID($G$143,8,2)="RF"),0,BN147) -> 0 | BQ171: =BQ143+BQ151*2 +IF(OR(MID($G$143,8,2)="PF",MID($G$143,8,2)="RS",MID($G$143,8,2)="RF"),0,BQ147) -> 0 | BT171: =BT143+BT151*2 +IF(OR(MID($G$143,8,2)="PF",MID($G$143,8,2)="RS",MID($G$143,8,2)="RF"),0,BT147) -> 0 | BW171: =BW143+BW151*2 +IF(OR(MID($G$143,8,2)="PF",MID($G$143,8,2)="RS",MID($G$143,8,2)="RF"),0,BW147) -> 0 | BZ171: =BZ143+BZ151*2 +IF(OR(MID($G$143,8,2)="PF",MID($G$143,8,2)="RS",MID($G$143,8,2)="RF"),0,BZ147) -> 0 | CC171: =CC143+CC151*2 +IF(OR(MID($G$143,8,2)="PF",MID($G$143,8,2)="RS",MID($G$143,8,2)="RF"),0,CC147) -> 0 | CF171: =CF143+CF151*2 +IF(OR(MID($G$143,8,2)="PF",MID($G$143,8,2)="RS",MID($G$143,8,2)="RF"),0,CF147) -> 0 | CI171: =CI143+CI151*2 +IF(OR(MID($G$143,8,2)="PF",MID($G$143,8,2)="RS",MID($G$143,8,2)="RF"),0,CI147) -> 0 | CL171: =CL143+CL151*2 +IF(OR(MID($G$143,8,2)="PF",MID($G$143,8,2)="RS",MID($G$143,8,2)="RF"),0,CL147) -> 0 | CO171: =CO143+CO151*2 +IF(OR(MID($G$143,8,2)="PF",MID($G$143,8,2)="RS",MID($G$143,8,2)="RF"),0,CO147) -> 0 | CR171: =CR143+CR151*2 +IF(OR(MID($G$143,8,2)="PF",MID($G$143,8,2)="RS",MID($G$143,8,2)="RF"),0,CR147) -> 0 | CU171: =CU143+CU151*2 +IF(OR(MID($G$143,8,2)="PF",MID($G$143,8,2)="RS",MID($G$143,8,2)="RF"),0,CU147) -> 0 | CX171: =CX143+CX151*2 +IF(OR(MID($G$143,8,2)="PF",MID($G$143,8,2)="RS",MID($G$143,8,2)="RF"),0,CX147) -> 0 | DA171: =DA143+DA151*2 +IF(OR(MID($G$143,8,2)="PF",MID($G$143,8,2)="RS",MID($G$143,8,2)="RF"),0,DA147) -> 0 | DD171: =DD143+DD151*2 +IF(OR(MID($G$143,8,2)="PF",MID($G$143,8,2)="RS",MID($G$143,8,2)="RF"),0,DD147) -> 0
T173: =VLOOKUP(G171,PL!$B$9:$BH$1265,33,FALSE) -> Stainless Steel, M8x25
C175: =C171+1 -> 15 | G175: =IF(AL175=0,"N/A","AXE_CS_8_"&$AM$45-5&"_SS") -> N/A | T175: =VLOOKUP(G175,PL!$B$9:$BH$1265,14,FALSE) -> No Item | AL175: =ROUND(SUM(BK175:DF175)*(1+$BF$87),0) -> 0 | AR175: =VLOOKUP(G175,PL!$B$9:$BH$818,52,FALSE) -> - | BK175: =IF($AI$85="Included",0,BK135+BK139) -> 0 | BN175: =IF($AI$85="Included",0,BN135+BN139) -> 0 | BQ175: =IF($AI$85="Included",0,BQ135+BQ139) -> 0 | BT175: =IF($AI$85="Included",0,BT135+BT139) -> 0 | BW175: =IF($AI$85="Included",0,BW135+BW139) -> 0 | BZ175: =IF($AI$85="Included",0,BZ135+BZ139) -> 0 | CC175: =IF($AI$85="Included",0,CC135+CC139) -> 0 | CF175: =IF($AI$85="Included",0,CF135+CF139) -> 0 | CI175: =IF($AI$85="Included",0,CI135+CI139) -> 0 | CL175: =IF($AI$85="Included",0,CL135+CL139) -> 0 | CO175: =IF($AI$85="Included",0,CO135+CO139) -> 0 | CR175: =IF($AI$85="Included",0,CR135+CR139) -> 0 | CU175: =IF($AI$85="Included",0,CU135+CU139) -> 0 | CX175: =IF($AI$85="Included",0,CX135+CX139) -> 0 | DA175: =IF($AI$85="Included",0,DA135+DA139) -> 0 | DD175: =IF($AI$85="Included",0,DD135+DD139) -> 0
T177: =VLOOKUP(G175,PL!$B$9:$BH$1265,33,FALSE) -> .
C179: =C175+1 -> 16 | G179: =IF(AL179=0,"N/A","AXE_WS_8"&"_SS") -> AXE_WS_8_SS | T179: =VLOOKUP(G179,PL!$B$9:$BH$1265,14,FALSE) -> Spring Washer | AL179: =ROUND(SUM(BK179:DF179)*(1+$BF$87),0) -> 998 | AR179: =VLOOKUP(G179,PL!$B$9:$BH$818,52,FALSE) -> SOL-5951 | BK179: =BK171+BK175+BK167 -> 960 | BN179: =BN171+BN175+BN167 -> 0 | BQ179: =BQ171+BQ175+BQ167 -> 0 | BT179: =BT171+BT175+BT167 -> 0 | BW179: =BW171+BW175+BW167 -> 0 | BZ179: =BZ171+BZ175+BZ167 -> 0 | CC179: =CC171+CC175+CC167 -> 0 | CF179: =CF171+CF175+CF167 -> 0 | CI179: =CI171+CI175+CI167 -> 0 | CL179: =CL171+CL175+CL167 -> 0 | CO179: =CO171+CO175+CO167 -> 0 | CR179: =CR171+CR175+CR167 -> 0 | CU179: =CU171+CU175+CU167 -> 0 | CX179: =CX171+CX175+CX167 -> 0 | DA179: =DA171+DA175+DA167 -> 0 | DD179: =DD171+DD175+DD167 -> 0
T181: =VLOOKUP(G179,PL!$B$9:$BH$1265,33,FALSE) -> Stainless Steel, M8
C183: =C179+1 -> 17 | G183: =IF(AL183=0,"N/A","AXE_NHF_8_SS") -> AXE_NHF_8_SS | T183: =VLOOKUP(G183,PL!$B$9:$BH$1265,14,FALSE) -> Hex Flange Nut | AL183: =ROUND(SUM(BK183:DF183)*(1+$BF$87),0) -> 998 | AR183: =VLOOKUP(G183,PL!$B$9:$BH$818,52,FALSE) -> SOL-59530 | BK183: =BK171-IF($N$93="Angles",0,BK151*2) -> 960 | BN183: =BN171-IF($N$93="Angles",0,BN151*2) -> 0 | BQ183: =BQ171-IF($N$93="Angles",0,BQ151*2) -> 0 | BT183: =BT171-IF($N$93="Angles",0,BT151*2) -> 0 | BW183: =BW171-IF($N$93="Angles",0,BW151*2) -> 0 | BZ183: =BZ171-IF($N$93="Angles",0,BZ151*2) -> 0 | CC183: =CC171-IF($N$93="Angles",0,CC151*2) -> 0 | CF183: =CF171-IF($N$93="Angles",0,CF151*2) -> 0 | CI183: =CI171-IF($N$93="Angles",0,CI151*2) -> 0 | CL183: =CL171-IF($N$93="Angles",0,CL151*2) -> 0 | CO183: =CO171-IF($N$93="Angles",0,CO151*2) -> 0 | CR183: =CR171-IF($N$93="Angles",0,CR151*2) -> 0 | CU183: =CU171-IF($N$93="Angles",0,CU151*2) -> 0 | CX183: =CX171-IF($N$93="Angles",0,CX151*2) -> 0 | DA183: =DA171-IF($N$93="Angles",0,DA151*2) -> 0 | DD183: =DD171-IF($N$93="Angles",0,DD151*2) -> 0
...

Sheet QU RT TL RD
C1: #VALUE! | AN1: Axe Struct (Pty) Ltd | BK1: Brownbuilt
BK2: Brownbuilt (Pinch)
AN3: VAT no.: 4470284136 Reg. no.: 2018/528173/07 | BK3: Corrugated
BK4: Corrugated (L-bracket)
AN5: Tel: +27 (0)10 880 0220 Email: info@axestruct.com | BK5: Corrugated (Rib Surface)
BK6: Corrugated (Ridge)
AN7: www.axestruct.com | BK7: Craft-Lock
BK8: Dimondek
BK9: Dimondek (Pinch)
A10: Provisional Quotation | BK10: Dimondek (Stand Rib)
AN11: Document No.: | AX11: QU RT TL RD | BK11: Flat Surface
BK12: IBR
AN13: Revision: | AX13: 1 | BK13: IBR (L-bracket)
BK14: IBR (Rib Surface)
BK15: IBR (Ridge)
BK16: Klip-Lok
C17: Client: | Y17: Project: | AT17: Date: | AX17: =TODAY() -> 45960 | BK17: Novotexi
BK18: ProLok
BK19: Saflok
BK20: Springlok
T21: ="Roof Top Tilted Railed ("&$AO$35&")" -> Roof Top Tilted Railed (IBR) | BK21: Zip-Tek
B25: Project specifications | AE25: Plant specifications
C28: Capacity | T28: =(J43*BC43)/1000 & " kWp" -> 150 kWp | AF28: Orientation | AO28: Portrait
BK30: 10 | BM30: 1446 | BP30: 1720
C31: Installation type | T31: Tilted Railed | AF31: Angle | AO31: 10 | AQ31: ⁰ Tilt mounted | AX31: =LOOKUP(AO31,BK30:BK35,IF(W45<2200,BM30:BM35,BP30:BP35)) -> 1720 | BA31: mm | BC31: Back to front bracket pitch | BK31: 15 | BM31: 1474 | BP31: 1754
BK32: 20 | BM32: 1515 | BP32: 1803
BK33: 25 | BM33: 1571 | BP33: 1869
AF34: Fixing | BC34: max. Frame span | BK34: 30 | BM34: 1644 | BP34: 1955
AO35: IBR | AW35: - | AX35: 1500 | BA35: mm
B39: Solar panel specifications
C43: Number | J43: =M54*M58+P54*P58+S54*S58+V54*V58+Y54*Y58+AB54*AB58+AE54*AE58+AH54*AH58+AK54*AK58+AN54*AN58+AQ54*AQ58+AT54*AT58+AW54*AW58+AZ54*AZ58+BC54*BC58+BF54*BF58 -> 250 | Q43: Type | W43: JA SOLAR JAM72S40-600 | AV43: Rating | BC43: 600
W45: 2278 | AA45: mm (L) | AE45: 1134 | AI45: mm (B) | AM45: 30 | AQ45: mm (H)
C48: Configuration
M51: 1 | P51: 2 | S51: 3 | V51: 4 | Y51: 5 | AB51: 6 | AE51: 7 | AH51: 8 | AK51: 9 | AN51: 10 | AQ51: 11 | AT51: 12 | AW51: 13 | AZ51: 14 | BC51: 15 | BF51: 16
C54: Rows | M54: 10 | P54: 0 | S54: 0 | V54: 0 | Y54: 0 | AB54: 0 | AE54: 0 | AH54: 0 | AK54: 0 | AN54: 0 | AQ54: 0 | AT54: 0 | AW54: 0 | AZ54: 0 | BC54: 0 | BF54: 0
C58: Modules/Row | M58: 25 | P58: 0 | S58: 0 | V58: 0 | Y58: 0 | AB58: 0 | AE58: 0 | AH58: 0 | AK58: 0 | AN58: 0 | AQ58: 0 | AT58: 0 | AW58: 0 | AZ58: 0 | BC58: 0 | BF58: 0
BK61: Max rib spacing of this type of roof
C62: Brackets/length | M62: =IF(M54>0,IF($AO$35="Flat Surface",BK135/M54,BK147/2/M54),0) -> 20 | P62: =IF(P54>0,BN147/2/P54,0) -> 0 | S62: =IF(S54>0,BQ147/2/S54,0) -> 0 | V62: =IF(V54>0,BT147/2/V54,0) -> 0 | Y62: =IF(Y54>0,BW147/2/Y54,0) -> 0 | AB62: =IF(AB54>0,BZ147/2/AB54,0) -> 0 | AE62: =IF(AE54>0,CC147/2/AE54,0) -> 0 | AH62: =IF(AH54>0,CF147/2/AH54,0) -> 0 | AK62: =IF(AK54>0,CI147/2/AK54,0) -> 0 | AN62: =IF(AN54>0,CL147/2/AN54,0) -> 0 | AQ62: =IF(AQ54>0,CO147/2/AQ54,0) -> 0 | AT62: =IF(AT54>0,CR147/2/AT54,0) -> 0 | AW62: =IF(AW54>0,CU147/2/AW54,0) -> 0 | AZ62: =IF(AZ54>0,CX147/2/AZ54,0) -> 0 | BC62: =IF(BC54>0,DA147/2/BC54,0) -> 0 | BF62: =IF(BF54>0,DD147/2/BF54,0) -> 0
C65: A-frame spacing if evenly distributed
M66: =IF(M58>0,($AE$45*M58+20*(M58-1)+$N$78*2-2*$N$82)/(M62-1),0) -> 1496.3158 | P66: =IF(P58>0,($AE$45*P58+20*(P58-1)+$N$78*2-2*$N$82)/(P62-1),0) -> 0 | S66: =IF(S58>0,($AE$45*S58+20*(S58-1)+$N$78*2-2*$N$82)/(S62-1),0) -> 0 | V66: =IF(V58>0,($AE$45*V58+20*(V58-1)+$N$78*2-2*$N$82)/(V62-1),0) -> 0 | Y66: =IF(Y58>0,($AE$45*Y58+20*(Y58-1)+$N$78*2-2*$N$82)/(Y62-1),0) -> 0 | AB66: =IF(AB58>0,($AE$45*AB58+20*(AB58-1)+$N$78*2-2*$N$82)/(AB62-1),0) -> 0 | AE66: =IF(AE58>0,($AE$45*AE58+20*(AE58-1)+$N$78*2-2*$N$82)/(AE62-1),0) -> 0 | AH66: =IF(AH58>0,($AE$45*AH58+20*(AH58-1)+$N$78*2-2*$N$82)/(AH62-1),0) -> 0 | AK66: =IF(AK58>0,($AE$45*AK58+20*(AK58-1)+$N$78*2-2*$N$82)/(AK62-1),0) -> 0 | AN66: =IF(AN58>0,($AE$45*AN58+20*(AN58-1)+$N$78*2-2*$N$82)/(AN62-1),0) -> 0 | AQ66: =IF(AQ58>0,($AE$45*AQ58+20*(AQ58-1)+$N$78*2-2*$N$82)/(AQ62-1),0) -> 0 | AT66: =IF(AT58>0,($AE$45*AT58+20*(AT58-1)+$N$78*2-2*$N$82)/(AT62-1),0) -> 0 | AW66: =IF(AW58>0,($AE$45*AW58+20*(AW58-1)+$N$78*2-2*$N$82)/(AW62-1),0) -> 0 | AZ66: =IF(AZ58>0,($AE$45*AZ58+20*(AZ58-1)+$N$78*2-2*$N$82)/(AZ62-1),0) -> 0 | BC66: =IF(BC58>0,($AE$45*BC58+20*(BC58-1)+$N$78*2-2*$N$82)/(BC62-1),0) -> 0 | BF66: =IF(BF58>0,($AE$45*BF58+20*(BF58-1)+$N$78*2-2*$N$82)/(BF62-1),0) -> 0 | BL66: =IF(OR(AO35="Corrugated (Side)",AO35="Corrugated (Top)",AO35="Corrugated (Hangerbolt)"),76.2*18,IF(AO35="IBR",171.5*8,IF(OR(AO35="Klip-Lok",AO35="ProLok",AO35="Saflok"),233*6,IF(AO35="Brownbuilt",203*7,IF(OR(AO35="Dimondek (Pinch)",AO35="Dimondek (Stand Rib)"),203*7,IF(AO35="Zip-Tek",420*3,IF(AO35="Craft-Lock",350*4,0))))))) -> 1372 | BO66: mm
B70: Boundaries | W70: Additions | AR70: Over supply
X73: Wire management Cable to Panel clip | BL73: Offcut shorter than this will NOT be considered
C74: Profile length | N74: Combination | S74: mm | AI74: Not Included | AS74: Rails/Brackets/Mid | BF74: 0.02 | BW74: 1000 | CB74: mm
AS76: Clamps/Clips
C77: Rail extended under PV module end | X77: Fastener-Clamp integration "Click system"
N78: 50 | S78: mm | AI78: Included
BK79: 1 | BN79: 2 | BQ79: 3 | BT79: 4 | BW79: 5 | BZ79: 6 | CC79: 7 | CF79: 8 | CI79: 9 | CL79: 10 | CO79: 11 | CR79: 12 | CU79: 13 | CX79: 14 | DA79: 15 | DD79: 16
AS80: Fasteners/Extensions | BF80: 0.04
C81: Distance of 1st Bracket to rail end | BK81: {=IF(M54>0,MIN(IF($DY$110:$ME$110*1000>=BK87,$DY$110:$ME$110*1000)),0)/1000} -> 29.25 | BN81: {=IF(P54>0,MIN(IF($DY$110:$ME$110*1000>=BN87,$DY$110:$ME$110*1000)),0)/1000} -> 0 | BQ81: {=IF(S54>0,MIN(IF($DY$110:$ME$110*1000>=BQ87,$DY$110:$ME$110*1000)),0)/1000} -> 0 | BT81: {=IF(V54>0,MIN(IF($DY$110:$ME$110*1000>=BT87,$DY$110:$ME$110*1000)),0)/1000} -> 0 | BW81: {=IF(Y54>0,MIN(IF($DY$110:$ME$110*1000>=BW87,$DY$110:$ME$110*1000)),0)/1000} -> 0 | BZ81: {=IF(AB54>0,MIN(IF($DY$110:$ME$110*1000>=BZ87,$DY$110:$ME$110*1000)),0)/1000} -> 0 | CC81: {=IF(AE54>0,MIN(IF($DY$110:$ME$110*1000>=CC87,$DY$110:$ME$110*1000)),0)/1000} -> 0 | CF81: {=IF(AH54>0,MIN(IF($DY$110:$ME$110*1000>=CF87,$DY$110:$ME$110*1000)),0)/1000} -> 0 | CI81: {=IF(AK54>0,MIN(IF($DY$110:$ME$110*1000>=CI87,$DY$110:$ME$110*1000)),0)/1000} -> 0 | CL81: {=IF(AN54>0,MIN(IF($DY$110:$ME$110*1000>=CL87,$DY$110:$ME$110*1000)),0)/1000} -> 0 | CO81: {=IF(AQ54>0,MIN(IF($DY$110:$ME$110*1000>=CO87,$DY$110:$ME$110*1000)),0)/1000} -> 0 | CR81: {=IF(AT54>0,MIN(IF($DY$110:$ME$110*1000>=CR87,$DY$110:$ME$110*1000)),0)/1000} -> 0 | CU81: {=IF(AW54>0,MIN(IF($DY$110:$ME$110*1000>=CU87,$DY$110:$ME$110*1000)),0)/1000} -> 0 | CX81: {=IF(AZ54>0,MIN(IF($DY$110:$ME$110*1000>=CX87,$DY$110:$ME$110*1000)),0)/1000} -> 0 | DA81: {=IF(BC54>0,MIN(IF($DY$110:$ME$110*1000>=DA87,$DY$110:$ME$110*1000)),0)/1000} -> 0 | DD81: {=IF(BF54>0,MIN(IF($DY$110:$ME$110*1000>=DD87,$DY$110:$ME$110*1000)),0)/1000} -> 0 | DH81: Lookup Rail length
N82: 250 | S82: mm | X82: Rail End Caps | AI82: Not Included
BK83: =IF(M54>0,HLOOKUP(BK81,$DY$110:$ME$112,2),0) -> 0 | BN83: =IF(P54>0,HLOOKUP(BN81,$DY$110:$ME$112,2),0) -> 0 | BQ83: =IF(S54>0,HLOOKUP(BQ81,$DY$110:$ME$112,2),0) -> 0 | BT83: =IF(V54>0,HLOOKUP(BT81,$DY$110:$ME$112,2),0) -> 0 | BW83: =IF(Y54>0,HLOOKUP(BW81,$DY$110:$ME$112,2),0) -> 0 | BZ83: =IF(AB54>0,HLOOKUP(BZ81,$DY$110:$ME$112,2),0) -> 0 | CC83: =IF(AE54>0,HLOOKUP(CC81,$DY$110:$ME$112,2),0) -> 0 | CF83: =IF(AH54>0,HLOOKUP(CF81,$DY$110:$ME$112,2),0) -> 0 | CI83: =IF(AK54>0,HLOOKUP(CI81,$DY$110:$ME$112,2),0) -> 0 | CL83: =IF(AN54>0,HLOOKUP(CL81,$DY$110:$ME$112,2),0) -> 0 | CO83: =IF(AQ54>0,HLOOKUP(CO81,$DY$110:$ME$112,2),0) -> 0 | CR83: =IF(AT54>0,HLOOKUP(CR81,$DY$110:$ME$112,2),0) -> 0 | CU83: =IF(AW54>0,HLOOKUP(CU81,$DY$110:$ME$112,2),0) -> 0 | CX83: =IF(AZ54>0,HLOOKUP(CX81,$DY$110:$ME$112,2),0) -> 0 | DA83: =IF(BC54>0,HLOOKUP(DA81,$DY$110:$ME$112,2),0) -> 0 | DD83: =IF(BF54>0,HLOOKUP(DD81,$DY$110:$ME$112,2),0) -> 0 | DH83: =DX111 -> 4.7 | DJ83: m Pieces
AS84: End Clamps | BF84: 0.03
BK85: =IF(M54>0,HLOOKUP(BK81,$DY$110:$ME$112,3),0) -> 5 | BN85: =IF(P54>0,HLOOKUP(BN81,$DY$110:$ME$112,3),0) -> 0 | BQ85: =IF(S54>0,HLOOKUP(BQ81,$DY$110:$ME$112,3),0) -> 0 | BT85: =IF(V54>0,HLOOKUP(BT81,$DY$110:$ME$112,3),0) -> 0 | BW85: =IF(Y54>0,HLOOKUP(BW81,$DY$110:$ME$112,3),0) -> 0 | BZ85: =IF(AB54>0,HLOOKUP(BZ81,$DY$110:$ME$112,3),0) -> 0 | CC85: =IF(AE54>0,HLOOKUP(CC81,$DY$110:$ME$112,3),0) -> 0 | CF85: =IF(AH54>0,HLOOKUP(CF81,$DY$110:$ME$112,3),0) -> 0 | CI85: =IF(AK54>0,HLOOKUP(CI81,$DY$110:$ME$112,3),0) -> 0 | CL85: =IF(AN54>0,HLOOKUP(CL81,$DY$110:$ME$112,3),0) -> 0 | CO85: =IF(AQ54>0,HLOOKUP(CO81,$DY$110:$ME$112,3),0) -> 0 | CR85: =IF(AT54>0,HLOOKUP(CR81,$DY$110:$ME$112,3),0) -> 0 | CU85: =IF(AW54>0,HLOOKUP(CU81,$DY$110:$ME$112,3),0) -> 0 | CX85: =IF(AZ54>0,HLOOKUP(CX81,$DY$110:$ME$112,3),0) -> 0 | DA85: =IF(BC54>0,HLOOKUP(DA81,$DY$110:$ME$112,3),0) -> 0 | DD85: =IF(BF54>0,HLOOKUP(DD81,$DY$110:$ME$112,3),0) -> 0 | DH85: =DX112 -> 5.85 | DJ85: m Pieces
X86: Earth Lugs on Rail Ends | AI86: Not Included
BK87: =IF(M58>0,$AE$45*M58+20*(M58-1)+$N$78*2,0) -> 28930 | BN87: =IF(P58>0,$AE$45*P58+20*(P58-1)+$N$78*2,0) -> 0 | BQ87: =IF(S58>0,$AE$45*S58+20*(S58-1)+$N$78*2,0) -> 0 | BT87: =IF(V58>0,$AE$45*V58+20*(V58-1)+$N$78*2,0) -> 0 | BW87: =IF(Y58>0,$AE$45*Y58+20*(Y58-1)+$N$78*2,0) -> 0 | BZ87: =IF(AB58>0,$AE$45*AB58+20*(AB58-1)+$N$78*2,0) -> 0 | CC87: =IF(AE58>0,$AE$45*AE58+20*(AE58-1)+$N$78*2,0) -> 0 | CF87: =IF(AH58>0,$AE$45*AH58+20*(AH58-1)+$N$78*2,0) -> 0 | CI87: =IF(AK58>0,$AE$45*AK58+20*(AK58-1)+$N$78*2,0) -> 0 | CL87: =IF(AN58>0,$AE$45*AN58+20*(AN58-1)+$N$78*2,0) -> 0 | CO87: =IF(AQ58>0,$AE$45*AQ58+20*(AQ58-1)+$N$78*2,0) -> 0 | CR87: =IF(AT58>0,$AE$45*AT58+20*(AT58-1)+$N$78*2,0) -> 0 | CU87: =IF(AW58>0,$AE$45*AW58+20*(AW58-1)+$N$78*2,0) -> 0 | CX87: =IF(AZ58>0,$AE$45*AZ58+20*(AZ58-1)+$N$78*2,0) -> 0 | DA87: =IF(BC58>0,$AE$45*BC58+20*(BC58-1)+$N$78*2,0) -> 0 | DD87: =IF(BF58>0,$AE$45*BF58+20*(BF58-1)+$N$78*2,0) -> 0 | DH87: Rail total length
BK89: =IF($N$74="Combination",0,IF(M58>0,(($AE$45*M58+20*(M58-1)+$N$78*2)/$N$74-ROUNDDOWN(($AE$45*M58+20*(M58-1)+$N$78*2)/$N$74,0))*$N$74,0)) -> 0 | BN89: =IF($N$74="Combination",0,IF(P58>0,(($AE$45*P58+20*(P58-1)+$N$78*2)/$N$74-ROUNDDOWN(($AE$45*P58+20*(P58-1)+$N$78*2)/$N$74,0))*$N$74,0)) -> 0 | BQ89: =IF($N$74="Combination",0,IF(S58>0,(($AE$45*S58+20*(S58-1)+$N$78*2)/$N$74-ROUNDDOWN(($AE$45*S58+20*(S58-1)+$N$78*2)/$N$74,0))*$N$74,0)) -> 0 | BT89: =IF($N$74="Combination",0,IF(V58>0,(($AE$45*V58+20*(V58-1)+$N$78*2)/$N$74-ROUNDDOWN(($AE$45*V58+20*(V58-1)+$N$78*2)/$N$74,0))*$N$74,0)) -> 0 | BW89: =IF($N$74="Combination",0,IF(Y58>0,(($AE$45*Y58+20*(Y58-1)+$N$78*2)/$N$74-ROUNDDOWN(($AE$45*Y58+20*(Y58-1)+$N$78*2)/$N$74,0))*$N$74,0)) -> 0 | BZ89: =IF($N$74="Combination",0,IF(AB58>0,(($AE$45*AB58+20*(AB58-1)+$N$78*2)/$N$74-ROUNDDOWN(($AE$45*AB58+20*(AB58-1)+$N$78*2)/$N$74,0))*$N$74,0)) -> 0 | CC89: =IF($N$74="Combination",0,IF(AE58>0,(($AE$45*AE58+20*(AE58-1)+$N$78*2)/$N$74-ROUNDDOWN(($AE$45*AE58+20*(AE58-1)+$N$78*2)/$N$74,0))*$N$74,0)) -> 0 | CF89: =IF($N$74="Combination",0,IF(AH58>0,(($AE$45*AH58+20*(AH58-1)+$N$78*2)/$N$74-ROUNDDOWN(($AE$45*AH58+20*(AH58-1)+$N$78*2)/$N$74,0))*$N$74,0)) -> 0 | CI89: =IF($N$74="Combination",0,IF(AK58>0,(($AE$45*AK58+20*(AK58-1)+$N$78*2)/$N$74-ROUNDDOWN(($AE$45*AK58+20*(AK58-1)+$N$78*2)/$N$74,0))*$N$74,0)) -> 0 | CL89: =IF($N$74="Combination",0,IF(AN58>0,(($AE$45*AN58+20*(AN58-1)+$N$78*2)/$N$74-ROUNDDOWN(($AE$45*AN58+20*(AN58-1)+$N$78*2)/$N$74,0))*$N$74,0)) -> 0 | CO89: =IF($N$74="Combination",0,IF(AQ58>0,(($AE$45*AQ58+20*(AQ58-1)+$N$78*2)/$N$74-ROUNDDOWN(($AE$45*AQ58+20*(AQ58-1)+$N$78*2)/$N$74,0))*$N$74,0)) -> 0 | CR89: =IF($N$74="Combination",0,IF(AT58>0,(($AE$45*AT58+20*(AT58-1)+$N$78*2)/$N$74-ROUNDDOWN(($AE$45*AT58+20*(AT58-1)+$N$78*2)/$N$74,0))*$N$74,0)) -> 0 | CU89: =IF($N$74="Combination",0,IF(AW58>0,(($AE$45*AW58+20*(AW58-1)+$N$78*2)/$N$74-ROUNDDOWN(($AE$45*AW58+20*(AW58-1)+$N$78*2)/$N$74,0))*$N$74,0)) -> 0 | CX89: =IF($N$74="Combination",0,IF(AZ58>0,(($AE$45*AZ58+20*(AZ58-1)+$N$78*2)/$N$74-ROUNDDOWN(($AE$45*AZ58+20*(AZ58-1)+$N$78*2)/$N$74,0))*$N$74,0)) -> 0 | DA89: =IF($N$74="Combination",0,IF(BC58>0,(($AE$45*BC58+20*(BC58-1)+$N$78*2)/$N$74-ROUNDDOWN(($AE$45*BC58+20*(BC58-1)+$N$78*2)/$N$74,0))*$N$74,0)) -> 0 | DD89: =IF($N$74="Combination",0,IF(BF58>0,(($AE$45*BF58+20*(BF58-1)+$N$78*2)/$N$74-ROUNDDOWN(($AE$45*BF58+20*(BF58-1)+$N$78*2)/$N$74,0))*$N$74,0)) -> 0 | DH89: Too long
A91: Materials specified for atmospheric corrosion category up to C4 as per ISO 9223. Please consult for environments with more aggressive ratings. | BK91: =IF($N$74="Combination",0,IF(M58>0,$N$74-BK89,0)) -> 0 | BN91: =IF($N$74="Combination",0,IF(P58>0,$N$74-BN89,0)) -> 0 | BQ91: =IF($N$74="Combination",0,IF(S58>0,$N$74-BQ89,0)) -> 0 | BT91: =IF($N$74="Combination",0,IF(V58>0,$N$74-BT89,0)) -> 0 | BW91: =IF($N$74="Combination",0,IF(Y58>0,$N$74-BW89,0)) -> 0 | BZ91: =IF($N$74="Combination",0,IF(AB58>0,$N$74-BZ89,0)) -> 0 | CC91: =IF($N$74="Combination",0,IF(AE58>0,$N$74-CC89,0)) -> 0 | CF91: =IF($N$74="Combination",0,IF(AH58>0,$N$74-CF89,0)) -> 0 | CI91: =IF($N$74="Combination",0,IF(AK58>0,$N$74-CI89,0)) -> 0 | CL91: =IF($N$74="Combination",0,IF(AN58>0,$N$74-CL89,0)) -> 0 | CO91: =IF($N$74="Combination",0,IF(AQ58>0,$N$74-CO89,0)) -> 0 | CR91: =IF($N$74="Combination",0,IF(AT58>0,$N$74-CR89,0)) -> 0 | CU91: =IF($N$74="Combination",0,IF(AW58>0,$N$74-CU89,0)) -> 0 | CX91: =IF($N$74="Combination",0,IF(AZ58>0,$N$74-CX89,0)) -> 0 | DA91: =IF($N$74="Combination",0,IF(BC58>0,$N$74-DA89,0)) -> 0 | DD91: =IF($N$74="Combination",0,IF(BF58>0,$N$74-DD89,0)) -> 0 | DH91: Too short
BK93: =BK81*1000-BK87 -> 320 | BN93: =BN81*1000-BN87 -> 0 | BQ93: =BQ81*1000-BQ87 -> 0 | BT93: =BT81*1000-BT87 -> 0 | BW93: =BW81*1000-BW87 -> 0 | BZ93: =BZ81*1000-BZ87 -> 0 | CC93: =CC81*1000-CC87 -> 0 | CF93: =CF81*1000-CF87 -> 0 | CI93: =CI81*1000-CI87 -> 0 | CL93: =CL81*1000-CL87 -> 0 | CO93: =CO81*1000-CO87 -> 0 | CR93: =CR81*1000-CR87 -> 0 | CU93: =CU81*1000-CU87 -> 0 | CX93: =CX81*1000-CX87 -> 0 | DA93: =DA81*1000-DA87 -> 0 | DD93: =DD81*1000-DD87 -> 0 | DH93: Difference: Combination rail vs Needed rail
T110: ="Roof Top Tilted Railed ("&$AO$35&")" -> Roof Top Tilted Railed (IBR) | DY110: =$DX$111*DY111+$DX$112*DY112 -> 0 | DZ110: =$DX$111*DZ111+$DX$112*DZ112 -> 2.35 | EA110: =$DX$111*EA111+$DX$112*EA112 -> 2.925 | EB110: =$DX$111*EB111+$DX$112*EB112 -> 4.7 | EC110: =$DX$111*EC111+$DX$112*EC112 -> 5.275 | ED110: =$DX$111*ED111+$DX$112*ED112 -> 5.85 | EE110: =$DX$111*EE111+$DX$112*EE112 -> 7.05 | EF110: =$DX$111*EF111+$DX$112*EF112 -> 7.625 | ... ME110: =$DX$111*ME111+$DX$112*ME112 -> 52.075
DW111: =DX111*1000 -> 4700 | DX111: 4.7 | DY111: 0 | DZ111: 0.5 | EA111: 0 | EB111: 1 | EC111: 0.5 | ED111: 0 | EE111: 1.5 | EF111: 1 | EG111: 0.5 | EH111: 0 | EI111: 2 | EJ111: 1.5 | EK111: 1 | EL111: 0.5 | EM111: 0 | EN111: 2.5 | EO111: 2 | EP111: 1.5 | EQ111: 1 | ER111: 0.5 | ES111: 0.5 | ET111: 0 | EU111: 2.5 | EV111: 2 | EW111: 1.5 | EX111: 1 | EY111: 3.5 | EZ111: 0.5 | FA111: 0.5 | FB111: 0 | FC111: 0 | FD111: 2 | FE111: 1.5 | FF111: 1.5 | FG111: 1 | FH111: 3.5 | FI111: 0.5 | FJ111: 3 | FK111: 0 | FL111: 0 | FM111: 2 | FN111: 4.5 | FO111: 1.5 | FP111: 1.5 | FQ111: 1 | FR111: 1 | FS111: 0.5 | FT111: 3 | FU111: 0 | FV111: 2.5 | FW111: 2.5 | FX111: 2 | FY111: 4.5 | FZ111: 1.5 | GA111: 4 | GB111: 1 | GC111: 1 | GD111: 0.5 | GE111: 0.5 | GF111: 5.5 | GG111: 0 | GH111: 2.5 | GI111: 2.5 | GJ111: 2 | GK111: 2 | GL111: 1.5 | GM111: 4 | GN111: 1 | GO111: 3.5 | GP111: 3.5 | GQ111: 0.5 | GR111: 0.5 | GS111: 5.5 | GT111: 0 | GU111: 0 | GV111: 5 | GW111: 2 | GX111: 2 | GY111: 1.5 | GZ111: 1.5 | HA111: 6.5 | HB111: 1 | HC111: 3.5 | HD111: 3.5 | HE111: 0.5 | HF111: 3 | HG111: 3 | HH111: 0 | HI111: 0 | HJ111: 5 | HK111: 2 | HL111: 4.5 | HM111: 4.5 | HN111: 1.5 | HO111: 1.5 | HP111: 6.5 | HQ111: 1 | HR111: 1 | HS111: 6 | HT111: 0.5 | HU111: 3 | HV111: 3 | HW111: 0 | HX111: 2.5 | HY111: 2.5 | HZ111: 7.5 | IA111: 2 | IB111: 4.5 | IC111: 4.5 | ID111: 1.5 | IE111: 4 | IF111: 4 | IG111: 1 | IH111: 1 | II111: 6 | IJ111: 0.5 | IK111: 0.5 | IL111: 5.5 | IM111: 5.5 | IN111: 0 | IO111: 2.5 | IP111: 2.5 | IQ111: 7.5 | IR111: 2 | IS111: 2 | IT111: 7 | IU111: 1.5 | IV111: 4 | IW111: 4 | IX111: 1 | IY111: 3.5 | IZ111: 3.5 | JA111: 8.5 | JB111: 0.5 | JC111: 0.5 | JD111: 5.5 | JE111: 5.5 | JF111: 0 | JG111: 0 | JH111: 5 | JI111: 5 | JJ111: 2 | JK111: 2 | JL111: 7 | JM111: 1.5 | JN111: 1.5 | JO111: 6.5 | JP111: 6.5 | JQ111: 1 | JR111: 3.5 | JS111: 3.5 | JT111: 8.5 | JU111: 0.5 | JV111: 3 | JW111: 3 | JX111: 8 | JY111: 0 | JZ111: 0 | KA111: 5 | KB111: 5 | KC111: 2 | KD111: 4.5 | KE111: 4.5 | KF111: 9.5 | KG111: 1.5 | KH111: 1.5 | KI111: 6.5 | KJ111: 6.5 | KK111: 1 | KL111: 1 | KM111: 6 | KN111: 6 | KO111: 0.5 | KP111: 3 | KQ111: 3 | KR111: 8 | KS111: 0 | KT111: 2.5 | KU111: 2.5 | KV111: 7.5 | KW111: 2 | KX111: 4.5 | KY111: 4.5 | KZ111: 1.5 | LA111: 4 | LB111: 4 | LC111: 9 | LD111: 1 | LE111: 1 | LF111: 6 | LG111: 6 | LH111: 0.5 | LI111: 0.5 | LJ111: 5.5 | LK111: 5.5 | LL111: 10.5 | LM111: 0 | LN111: 2.5 | LO111: 2.5 | LP111: 7.5 | LQ111: 7.5 | LR111: 2 | LS111: 2 | LT111: 7 | LU111: 1.5 | LV111: 4 | LW111: 4 | LX111: 9 | LY111: 1 | LZ111: 3.5 | MA111: 3.5 | MB111: 8.5 | MC111: 8.5 | MD111: 0.5 | ME111: 0.5
DW112: =DX112*1000 -> 5850 | DX112: 5.85 | DY112: 0 | DZ112: 0 | EA112: 0.5 | EB112: 0 | EC112: 0.5 | ED112: 1 | EE112: 0 | EF112: 0.5 | EG112: 1 | EH112: 1.5 | EI112: 0 | EJ112: 0.5 | EK112: 1 | EL112: 1.5 | EM112: 2 | EN112: 0 | EO112: 0.5 | EP112: 1 | EQ112: 1.5 | ER112: 2 | ES112: 2 | ET112: 2.5 | EU112: 0.5 | EV112: 1 | EW112: 1.5 | EX112: 2 | EY112: 0 | EZ112: 2.5 | FA112: 2.5 | FB112: 3 | FC112: 3 | FD112: 1.5 | FE112: 2 | FF112: 2 | FG112: 2.5 | FH112: 0.5 | FI112: 3 | FJ112: 1 | FK112: 3.5 | FL112: 3.5 | FM112: 2 | FN112: 0 | FO112: 2.5 | FP112: 2.5 | FQ112: 3 | FR112: 3 | FS112: 3.5 | FT112: 1.5 | FU112: 4 | FV112: 2 | FW112: 2 | FX112: 2.5 | FY112: 0.5 | FZ112: 3 | GA112: 1 | GB112: 3.5 | GC112: 3.5 | GD112: 4 | GE112: 4 | GF112: 0 | GG112: 4.5 | GH112: 2.5 | GI112: 2.5 | GJ112: 3 | GK112: 3 | GL112: 3.5 | GM112: 1.5 | GN112: 4 | GO112: 2 | GP112: 2 | GQ112: 4.5 | GR112: 4.5 | GS112: 0.5 | GT112: 5 | GU112: 5 | GV112: 1 | GW112: 3.5 | GX112: 3.5 | GY112: 4 | GZ112: 4 | HA112: 0 | HB112: 4.5 | HC112: 2.5 | HD112: 2.5 | HE112: 5 | HF112: 3 | HG112: 3 | HH112: 5.5 | HI112: 5.5 | HJ112: 1.5 | HK112: 4 | HL112: 2 | HM112: 2 | HN112: 4.5 | HO112: 4.5 | HP112: 0.5 | HQ112: 5 | HR112: 5 | HS112: 1 | HT112: 5.5 | HU112: 3.5 | HV112: 3.5 | HW112: 6 | HX112: 4 | HY112: 4 | HZ112: 0 | IA112: 4.5 | IB112: 2.5 | IC112: 2.5 | ID112: 5 | IE112: 3 | IF112: 3 | IG112: 5.5 | IH112: 5.5 | II112: 1.5 | IJ112: 6 | IK112: 6 | IL112: 2 | IM112: 2 | IN112: 6.5 | IO112: 4.5 | IP112: 4.5 | IQ112: 0.5 | IR112: 5 | IS112: 5 | IT112: 1 | IU112: 5.5 | IV112: 3.5 | IW112: 3.5 | IX112: 6 | IY112: 4 | IZ112: 4 | JA112: 0 | JB112: 6.5 | JC112: 6.5 | JD112: 2.5 | JE112: 2.5 | JF112: 7 | JG112: 7 | JH112: 3 | JI112: 3 | JJ112: 5.5 | JK112: 5.5 | JL112: 1.5 | JM112: 6 | JN112: 6 | JO112: 2 | JP112: 2 | JQ112: 6.5 | JR112: 4.5 | JS112: 4.5 | JT112: 0.5 | JU112: 7 | JV112: 5 | JW112: 5 | JX112: 1 | JY112: 7.5 | JZ112: 7.5 | KA112: 3.5 | KB112: 3.5 | KC112: 6 | KD112: 4 | KE112: 4 | KF112: 0 | KG112: 6.5 | KH112: 6.5 | KI112: 2.5 | KJ112: 2.5 | KK112: 7 | KL112: 7 | KM112: 3 | KN112: 3 | KO112: 7.5 | KP112: 5.5 | KQ112: 5.5 | KR112: 1.5 | KS112: 8 | KT112: 6 | KU112: 6 | KV112: 2 | KW112: 6.5 | KX112: 4.5 | KY112: 4.5 | KZ112: 7 | LA112: 5 | LB112: 5 | LC112: 1 | LD112: 7.5 | LE112: 7.5 | LF112: 3.5 | LG112: 3.5 | LH112: 8 | LI112: 8 | LJ112: 4 | LK112: 4 | LL112: 0 | LM112: 8.5 | LN112: 6.5 | LO112: 6.5 | LP112: 2.5 | LQ112: 2.5 | LR112: 7 | LS112: 7 | LT112: 3 | LU112: 7.5 | LV112: 5.5 | LW112: 5.5 | LX112: 1.5 | LY112: 8 | LZ112: 6 | MA112: 6 | MB112: 2 | MC112: 2 | MD112: 8.5 | ME112: 8.5
DW113: Combination
C114: No | G114: Product Code | T114: Description of Goods | AL114: Qnty | AQ114: ARB SKU
BK115: 1 | BN115: 2 | BQ115: 3 | BT115: 4 | BW115: 5 | BZ115: 6 | CC115: 7 | CF115: 8 | CI115: 9 | CL115: 10 | CO115: 11 | CR115: 12 | CU115: 13 | CX115: 14 | DA115: 15 | DD115: 16 | DY115: =DZ110-DY110 -> 2.35 | DZ115: =EA110-DZ110 -> 0.575 | EA115: =EB110-EA110 -> 1.775 | EB115: =EC110-EB110 -> 0.575 | EC115: =ED110-EC110 -> 0.575 | ED115: =EE110-ED110 -> 1.2 | EE115: =EF110-EE110 -> 0.575 | EF115: =EG110-EF110 -> 0.575 | ... MD115: =ME110-MD110 -> 0
BK118: =IF($N$74="Combination",0,($AE$45*M58+20*(M58-1)+$N$78*2)*2*M54/$N$74) -> 0 | BN118: =IF($N$74="Combination",0,($AE$45*P58+20*(P58-1)+$N$78*2)*2*P54/$N$74) -> 0 | BQ118: =IF($N$74="Combination",0,($AE$45*S58+20*(S58-1)+$N$78*2)*2*S54/$N$74) -> 0 | BT118: =IF($N$74="Combination",0,($AE$45*V58+20*(V58-1)+$N$78*2)*2*V54/$N$74) -> 0 | BW118: =IF($N$74="Combination",0,($AE$45*Y58+20*(Y58-1)+$N$78*2)*2*Y54/$N$74) -> 0 | BZ118: =IF($N$74="Combination",0,($AE$45*AB58+20*(AB58-1)+$N$78*2)*2*AB54/$N$74) -> 0 | CC118: =IF($N$74="Combination",0,($AE$45*AE58+20*(AE58-1)+$N$78*2)*2*AE54/$N$74) -> 0 | CF118: =IF($N$74="Combination",0,($AE$45*AH58+20*(AH58-1)+$N$78*2)*2*AH54/$N$74) -> 0 | CI118: =IF($N$74="Combination",0,($AE$45*AK58+20*(AK58-1)+$N$78*2)*2*AK54/$N$74) -> 0 | CL118: =IF($N$74="Combination",0,($AE$45*AN58+20*(AN58-1)+$N$78*2)*2*AN54/$N$74) -> 0 | CO118: =IF($N$74="Combination",0,($AE$45*AQ58+20*(AQ58-1)+$N$78*2)*2*AQ54/$N$74) -> 0 | CR118: =IF($N$74="Combination",0,($AE$45*AT58+20*(AT58-1)+$N$78*2)*2*AT54/$N$74) -> 0 | CU118: =IF($N$74="Combination",0,($AE$45*AW58+20*(AW58-1)+$N$78*2)*2*AW54/$N$74) -> 0 | CX118: =IF($N$74="Combination",0,($AE$45*AZ58+20*(AZ58-1)+$N$78*2)*2*AZ54/$N$74) -> 0 | DA118: =IF($N$74="Combination",0,($AE$45*BC58+20*(BC58-1)+$N$78*2)*2*BC54/$N$74) -> 0 | DD118: =IF($N$74="Combination",0,($AE$45*BF58+20*(BF58-1)+$N$78*2)*2*BF54/$N$74) -> 0
C119: 1 | G119: =IF(AL119=0,"N/A","AXE_L_R_40_30"&"_AL") -> N/A | T119: =VLOOKUP(G119,PL!$B$9:$BH$1265,14,FALSE) -> No Item | AF119: =IF(AL119=0,"","("&IF(N74="Combination",DW111,N74)/1000&"m)") | AL119: =IF(N74="Combination",ROUND(SUM(BK121:DF121)*(1+$BF$74),0),ROUNDUP(SUM(BK119:DF119)*(1+$BF$74),0)) -> 0 | AR119: =VLOOKUP(G119,PL!$B$9:$BH$818,52,FALSE) -> - | BK119: =IF($N$74="Combination",0,($AE$45*M58+20*(M58-1)+$N$78*2+IF(OR(BK89<$BW$74,BK91<$BW$74),MIN(BK89,BK91),0))*2*M54/$N$74) -> 0 | BN119: =IF($N$74="Combination",0,($AE$45*P58+20*(P58-1)+$N$78*2+IF(OR(BN89<$BW$74,BN91<$BW$74),MIN(BN89,BN91),0))*2*P54/$N$74) -> 0 | BQ119: =IF($N$74="Combination",0,($AE$45*S58+20*(S58-1)+$N$78*2+IF(OR(BQ89<$BW$74,BQ91<$BW$74),MIN(BQ89,BQ91),0))*2*S54/$N$74) -> 0 | BT119: =IF($N$74="Combination",0,($AE$45*V58+20*(V58-1)+$N$78*2+IF(OR(BT89<$BW$74,BT91<$BW$74),MIN(BT89,BT91),0))*2*V54/$N$74) -> 0 | BW119: =IF($N$74="Combination",0,($AE$45*Y58+20*(Y58-1)+$N$78*2+IF(OR(BW89<$BW$74,BW91<$BW$74),MIN(BW89,BW91),0))*2*Y54/$N$74) -> 0 | BZ119: =IF($N$74="Combination",0,($AE$45*AB58+20*(AB58-1)+$N$78*2+IF(OR(BZ89<$BW$74,BZ91<$BW$74),MIN(BZ89,BZ91),0))*2*AB54/$N$74) -> 0 | CC119: =IF($N$74="Combination",0,($AE$45*AE58+20*(AE58-1)+$N$78*2+IF(OR(CC89<$BW$74,CC91<$BW$74),MIN(CC89,CC91),0))*2*AE54/$N$74) -> 0 | CF119: =IF($N$74="Combination",0,($AE$45*AH58+20*(AH58-1)+$N$78*2+IF(OR(CF89<$BW$74,CF91<$BW$74),MIN(CF89,CF91),0))*2*AH54/$N$74) -> 0 | CI119: =IF($N$74="Combination",0,($AE$45*AK58+20*(AK58-1)+$N$78*2+IF(OR(CI89<$BW$74,CI91<$BW$74),MIN(CI89,CI91),0))*2*AK54/$N$74) -> 0 | CL119: =IF($N$74="Combination",0,($AE$45*AN58+20*(AN58-1)+$N$78*2+IF(OR(CL89<$BW$74,CL91<$BW$74),MIN(CL89,CL91),0))*2*AN54/$N$74) -> 0 | CO119: =IF($N$74="Combination",0,($AE$45*AQ58+20*(AQ58-1)+$N$78*2+IF(OR(CO89<$BW$74,CO91<$BW$74),MIN(CO89,CO91),0))*2*AQ54/$N$74) -> 0 | CR119: =IF($N$74="Combination",0,($AE$45*AT58+20*(AT58-1)+$N$78*2+IF(OR(CR89<$BW$74,CR91<$BW$74),MIN(CR89,CR91),0))*2*AT54/$N$74) -> 0 | CU119: =IF($N$74="Combination",0,($AE$45*AW58+20*(AW58-1)+$N$78*2+IF(OR(CU89<$BW$74,CU91<$BW$74),MIN(CU89,CU91),0))*2*AW54/$N$74) -> 0 | CX119: =IF($N$74="Combination",0,($AE$45*AZ58+20*(AZ58-1)+$N$78*2+IF(OR(CX89<$BW$74,CX91<$BW$74),MIN(CX89,CX91),0))*2*AZ54/$N$74) -> 0 | DA119: =IF($N$74="Combination",0,($AE$45*BC58+20*(BC58-1)+$N$78*2+IF(OR(DA89<$BW$74,DA91<$BW$74),MIN(DA89,DA91),0))*2*BC54/$N$74) -> 0 | DD119: =IF($N$74="Combination",0,($AE$45*BF58+20*(BF58-1)+$N$78*2+IF(OR(DD89<$BW$74,DD91<$BW$74),MIN(DD89,DD91),0))*2*BF54/$N$74) -> 0
T121: =VLOOKUP(G119,PL!$B$9:$BH$1265,33,FALSE) -> . | BK121: =IF(M54>0,HLOOKUP(BK81,$DY$110:$ME$112,2)*M54*2,0) -> 0 | BN121: =IF(P54>0,HLOOKUP(BN81,$DY$110:$ME$112,2)*P54*2,0) -> 0 | BQ121: =IF(S54>0,HLOOKUP(BQ81,$DY$110:$ME$112,2)*S54*2,0) -> 0 | BT121: =IF(V54>0,HLOOKUP(BT81,$DY$110:$ME$112,2)*V54*2,0) -> 0 | BW121: =IF(Y54>0,HLOOKUP(BW81,$DY$110:$ME$112,2)*Y54*2,0) -> 0 | BZ121: =IF(AB54>0,HLOOKUP(BZ81,$DY$110:$ME$112,2)*AB54*2,0) -> 0 | CC121: =IF(AE54>0,HLOOKUP(CC81,$DY$110:$ME$112,2)*AE54*2,0) -> 0 | CF121: =IF(AH54>0,HLOOKUP(CF81,$DY$110:$ME$112,2)*AH54*2,0) -> 0 | CI121: =IF(AK54>0,HLOOKUP(CI81,$DY$110:$ME$112,2)*AK54*2,0) -> 0 | CL121: =IF(AN54>0,HLOOKUP(CL81,$DY$110:$ME$112,2)*AN54*2,0) -> 0 | CO121: =IF(AQ54>0,HLOOKUP(CO81,$DY$110:$ME$112,2)*AQ54*2,0) -> 0 | CR121: =IF(AT54>0,HLOOKUP(CR81,$DY$110:$ME$112,2)*AT54*2,0) -> 0 | CU121: =IF(AW54>0,HLOOKUP(CU81,$DY$110:$ME$112,2)*AW54*2,0) -> 0 | CX121: =IF(AZ54>0,HLOOKUP(CX81,$DY$110:$ME$112,2)*AZ54*2,0) -> 0 | DA121: =IF(BC54>0,HLOOKUP(DA81,$DY$110:$ME$112,2)*BC54*2,0) -> 0 | DD121: =IF(BF54>0,HLOOKUP(DD81,$DY$110:$ME$112,2)*BF54*2,0) -> 0
C123: =C119+1 -> 2 | G123: =IF(AL123=0,"N/A","AXE_L_R_40_30"&"_AL") -> AXE_L_R_40_30_AL | T123: =VLOOKUP(G123,PL!$B$9:$BH$1265,14,FALSE) -> Rail Profile | AF123: =IF(AL123=0,"","("&IF(N74="Combination",DW112/1000,0)&"m)") -> (5.85m) | AL123: =IF(N74="Combination",ROUND(SUM(BK123:DF123)*(1+$BF$74),0),0) -> 102 | AR123: =VLOOKUP(G123,PL!$B$9:$BH$818,52,FALSE) -> SOL-580404 | BK123: =IF(M54>0,HLOOKUP(BK81,$DY$110:$ME$112,3)*M54*2,0) -> 100 | BN123: =IF(P54>0,HLOOKUP(BN81,$DY$110:$ME$112,3)*P54*2,0) -> 0 | BQ123: =IF(S54>0,HLOOKUP(BQ81,$DY$110:$ME$112,3)*S54*2,0) -> 0 | BT123: =IF(V54>0,HLOOKUP(BT81,$DY$110:$ME$112,3)*V54*2,0) -> 0 | BW123: =IF(Y54>0,HLOOKUP(BW81,$DY$110:$ME$112,3)*Y54*2,0) -> 0 | BZ123: =IF(AB54>0,HLOOKUP(BZ81,$DY$110:$ME$112,3)*AB54*2,0) -> 0 | CC123: =IF(AE54>0,HLOOKUP(CC81,$DY$110:$ME$112,3)*AE54*2,0) -> 0 | CF123: =IF(AH54>0,HLOOKUP(CF81,$DY$110:$ME$112,3)*AH54*2,0) -> 0 | CI123: =IF(AK54>0,HLOOKUP(CI81,$DY$110:$ME$112,3)*AK54*2,0) -> 0 | CL123: =IF(AN54>0,HLOOKUP(CL81,$DY$110:$ME$112,3)*AN54*2,0) -> 0 | CO123: =IF(AQ54>0,HLOOKUP(CO81,$DY$110:$ME$112,3)*AQ54*2,0) -> 0 | CR123: =IF(AT54>0,HLOOKUP(CR81,$DY$110:$ME$112,3)*AT54*2,0) -> 0 | CU123: =IF(AW54>0,HLOOKUP(CU81,$DY$110:$ME$112,3)*AW54*2,0) -> 0 | CX123: =IF(AZ54>0,HLOOKUP(CX81,$DY$110:$ME$112,3)*AZ54*2,0) -> 0 | DA123: =IF(BC54>0,HLOOKUP(DA81,$DY$110:$ME$112,3)*BC54*2,0) -> 0 | DD123: =IF(BF54>0,HLOOKUP(DD81,$DY$110:$ME$112,3)*BF54*2,0) -> 0
T125: =VLOOKUP(G123,PL!$B$9:$BH$1265,33,FALSE) -> Aluminium, 40x30
C127: =C123+1 -> 3 | G127: =IF(AL127=0,"N/A","AXE_EX_40_30_AL") -> AXE_EX_40_30_AL | T127: =VLOOKUP(G127,PL!$B$9:$BH$1265,14,FALSE) -> Extension | AL127: =ROUND(SUM(BK127:DF127)*(1+$BF$80),0) -> 83 | AR127: =VLOOKUP(G127,PL!$B$9:$BH$818,52,FALSE) -> SOL-5805 | BK127: =IF($N$74="Combination",IF(M54>0,ROUND(HLOOKUP(BK81,$DY$110:$ME$112,2),0)+ROUND(HLOOKUP(BK81,$DY$110:$ME$112,3),0)-IF(M54>0,1,0),0),(ROUNDUP(($AE$45*M58+20*(M58-1)+$N$78*2)/$N$74,0)-1))*2*M54 -> 80 | BN127: =IF($N$74="Combination",IF(P54>0,ROUND(HLOOKUP(BN81,$DY$110:$ME$112,2),0)+ROUND(HLOOKUP(BN81,$DY$110:$ME$112,3),0)-IF(P54>0,1,0),0),(ROUNDUP(($AE$45*P58+20*(P58-1)+$N$78*2)/$N$74,0)-1))*2*P54 -> 0 | BQ127: =IF($N$74="Combination",IF(S54>0,ROUND(HLOOKUP(BQ81,$DY$110:$ME$112,2),0)+ROUND(HLOOKUP(BQ81,$DY$110:$ME$112,3),0)-IF(S54>0,1,0),0),(ROUNDUP(($AE$45*S58+20*(S58-1)+$N$78*2)/$N$74,0)-1))*2*S54 -> 0 | BT127: =IF($N$74="Combination",IF(V54>0,ROUND(HLOOKUP(BT81,$DY$110:$ME$112,2),0)+ROUND(HLOOKUP(BT81,$DY$110:$ME$112,3),0)-IF(V54>0,1,0),0),(ROUNDUP(($AE$45*V58+20*(V58-1)+$N$78*2)/$N$74,0)-1))*2*V54 -> 0 | BW127: =IF($N$74="Combination",IF(Y54>0,ROUND(HLOOKUP(BW81,$DY$110:$ME$112,2),0)+ROUND(HLOOKUP(BW81,$DY$110:$ME$112,3),0)-IF(Y54>0,1,0),0),(ROUNDUP(($AE$45*Y58+20*(Y58-1)+$N$78*2)/$N$74,0)-1))*2*Y54 -> 0 | BZ127: =IF($N$74="Combination",IF(AB54>0,ROUND(HLOOKUP(BZ81,$DY$110:$ME$112,2),0)+ROUND(HLOOKUP(BZ81,$DY$110:$ME$112,3),0)-IF(AB54>0,1,0),0),(ROUNDUP(($AE$45*AB58+20*(AB58-1)+$N$78*2)/$N$74,0)-1))*2*AB54 -> 0 | CC127: =IF($N$74="Combination",IF(AE54>0,ROUND(HLOOKUP(CC81,$DY$110:$ME$112,2),0)+ROUND(HLOOKUP(CC81,$DY$110:$ME$112,3),0)-IF(AE54>0,1,0),0),(ROUNDUP(($AE$45*AE58+20*(AE58-1)+$N$78*2)/$N$74,0)-1))*2*AE54 -> 0 | CF127: =IF($N$74="Combination",IF(AH54>0,ROUND(HLOOKUP(CF81,$DY$110:$ME$112,2),0)+ROUND(HLOOKUP(CF81,$DY$110:$ME$112,3),0)-IF(AH54>0,1,0),0),(ROUNDUP(($AE$45*AH58+20*(AH58-1)+$N$78*2)/$N$74,0)-1))*2*AH54 -> 0 | CI127: =IF($N$74="Combination",IF(AK54>0,ROUND(HLOOKUP(CI81,$DY$110:$ME$112,2),0)+ROUND(HLOOKUP(CI81,$DY$110:$ME$112,3),0)-IF(AK54>0,1,0),0),(ROUNDUP(($AE$45*AK58+20*(AK58-1)+$N$78*2)/$N$74,0)-1))*2*AK54 -> 0 | CL127: =IF($N$74="Combination",IF(AN54>0,ROUND(HLOOKUP(CL81,$DY$110:$ME$112,2),0)+ROUND(HLOOKUP(CL81,$DY$110:$ME$112,3),0)-IF(AN54>0,1,0),0),(ROUNDUP(($AE$45*AN58+20*(AN58-1)+$N$78*2)/$N$74,0)-1))*2*AN54 -> 0 | CO127: =IF($N$74="Combination",IF(AQ54>0,ROUND(HLOOKUP(CO81,$DY$110:$ME$112,2),0)+ROUND(HLOOKUP(CO81,$DY$110:$ME$112,3),0)-IF(AQ54>0,1,0),0),(ROUNDUP(($AE$45*AQ58+20*(AQ58-1)+$N$78*2)/$N$74,0)-1))*2*AQ54 -> 0 | CR127: =IF($N$74="Combination",IF(AT54>0,ROUND(HLOOKUP(CR81,$DY$110:$ME$112,2),0)+ROUND(HLOOKUP(CR81,$DY$110:$ME$112,3),0)-IF(AT54>0,1,0),0),(ROUNDUP(($AE$45*AT58+20*(AT58-1)+$N$78*2)/$N$74,0)-1))*2*AT54 -> 0 | CU127: =IF($N$74="Combination",IF(AW54>0,ROUND(HLOOKUP(CU81,$DY$110:$ME$112,2),0)+ROUND(HLOOKUP(CU81,$DY$110:$ME$112,3),0)-IF(AW54>0,1,0),0),(ROUNDUP(($AE$45*AW58+20*(AW58-1)+$N$78*2)/$N$74,0)-1))*2*AW54 -> 0 | CX127: =IF($N$74="Combination",IF(AZ54>0,ROUND(HLOOKUP(CX81,$DY$110:$ME$112,2),0)+ROUND(HLOOKUP(CX81,$DY$110:$ME$112,3),0)-IF(AZ54>0,1,0),0),(ROUNDUP(($AE$45*AZ58+20*(AZ58-1)+$N$78*2)/$N$74,0)-1))*2*AZ54 -> 0 | DA127: =IF($N$74="Combination",IF(BC54>0,ROUND(HLOOKUP(DA81,$DY$110:$ME$112,2),0)+ROUND(HLOOKUP(DA81,$DY$110:$ME$112,3),0)-IF(BC54>0,1,0),0),(ROUNDUP(($AE$45*BC58+20*(BC58-1)+$N$78*2)/$N$74,0)-1))*2*BC54 -> 0 | DD127: =IF($N$74="Combination",IF(BF54>0,ROUND(HLOOKUP(DD81,$DY$110:$ME$112,2),0)+ROUND(HLOOKUP(DD81,$DY$110:$ME$112,3),0)-IF(BF54>0,1,0),0),(ROUNDUP(($AE$45*BF58+20*(BF58-1)+$N$78*2)/$N$74,0)-1))*2*BF54 -> 0
T129: =VLOOKUP(G127,PL!$B$9:$BH$1265,33,FALSE) -> Aluminium, Rail Profile 40x30
C131: =C127+1 -> 4 | G131: =IF(AL131=0,"N/A","AXE_F_TL_RD_"&$AO$31&"_AL") -> AXE_F_TL_RD_10_AL | T131: =VLOOKUP(G131,PL!$B$9:$BH$1265,14,FALSE) -> Tilted Frame | AL131: =SUM(BK131:DF132) -> 200 | AR131: =VLOOKUP(G131,PL!$B$9:$BH$818,52,FALSE) -> 0 | BK131: =(ROUNDUP(($AE$45*M58+20*(M58-1)+$N$78*2-2*$N$82)/$AX$35,0)+1)*M54 -> 200 | BN131: =(ROUNDUP(($AE$45*P58+20*(P58-1)+$N$78*2-2*$N$82)/$AX$35,0)+1)*P54 -> 0 | BQ131: =(ROUNDUP(($AE$45*S58+20*(S58-1)+$N$78*2-2*$N$82)/$AX$35,0)+1)*S54 -> 0 | BT131: =(ROUNDUP(($AE$45*V58+20*(V58-1)+$N$78*2-2*$N$82)/$AX$35,0)+1)*V54 -> 0 | BW131: =(ROUNDUP(($AE$45*Y58+20*(Y58-1)+$N$78*2-2*$N$82)/$AX$35,0)+1)*Y54 -> 0 | BZ131: =(ROUNDUP(($AE$45*AB58+20*(AB58-1)+$N$78*2-2*$N$82)/$AX$35,0)+1)*AB54 -> 0 | CC131: =(ROUNDUP(($AE$45*AE58+20*(AE58-1)+$N$78*2-2*$N$82)/$AX$35,0)+1)*AE54 -> 0 | CF131: =(ROUNDUP(($AE$45*AH58+20*(AH58-1)+$N$78*2-2*$N$82)/$AX$35,0)+1)*AH54 -> 0 | CI131: =(ROUNDUP(($AE$45*AK58+20*(AK58-1)+$N$78*2-2*$N$82)/$AX$35,0)+1)*AK54 -> 0 | CL131: =(ROUNDUP(($AE$45*AN58+20*(AN58-1)+$N$78*2-2*$N$82)/$AX$35,0)+1)*AN54 -> 0 | CO131: =(ROUNDUP(($AE$45*AQ58+20*(AQ58-1)+$N$78*2-2*$N$82)/$AX$35,0)+1)*AQ54 -> 0 | CR131: =(ROUNDUP(($AE$45*AT58+20*(AT58-1)+$N$78*2-2*$N$82)/$AX$35,0)+1)*AT54 -> 0 | CU131: =(ROUNDUP(($AE$45*AW58+20*(AW58-1)+$N$78*2-2*$N$82)/$AX$35,0)+1)*AW54 -> 0 | CX131: =(ROUNDUP(($AE$45*AZ58+20*(AZ58-1)+$N$78*2-2*$N$82)/$AX$35,0)+1)*AZ54 -> 0 | DA131: =(ROUNDUP(($AE$45*BC58+20*(BC58-1)+$N$78*2-2*$N$82)/$AX$35,0)+1)*BC54 -> 0 | DD131: =(ROUNDUP(($AE$45*BF58+20*(BF58-1)+$N$78*2-2*$N$82)/$AX$35,0)+1)*BF54 -> 0
T133: =VLOOKUP(G131,PL!$B$9:$BH$1265,33,FALSE) -> Aluminium, Railed, 10deg
C135: =C131+1 -> 5 | G135: =IF(AL135=0,"N/A","AXE_BR_SW_RD_AL") -> AXE_BR_SW_RD_AL | T135: =VLOOKUP(G135,PL!$B$9:$BH$1265,14,FALSE) -> Swivel Bracket | AL135: =ROUND(SUM(BK135:DF135)*(1+$BF$74),0) -> 204 | AR135: =VLOOKUP(G135,PL!$B$9:$BH$818,52,FALSE) -> 0 | BK135: =BK131 -> 200 | BN135: =BN131 -> 0 | BQ135: =BQ131 -> 0 | BT135: =BT131 -> 0 | BW135: =BW131 -> 0 | BZ135: =BZ131 -> 0 | CC135: =CC131 -> 0 | CF135: =CF131 -> 0 | CI135: =CI131 -> 0 | CL135: =CL131 -> 0 | CO135: =CO131 -> 0 | CR135: =CR131 -> 0 | CU135: =CU131 -> 0 | CX135: =CX131 -> 0 | DA135: =DA131 -> 0 | DD135: =DD131 -> 0
T137: =VLOOKUP(G135,PL!$B$9:$BH$1265,33,FALSE) -> Aluminium, Railed
C139: =C135+1 -> 6 | G139: =IF($AI$78="Included","AXE_CM_CF_"&$AM$45,"AXE_CM_AP")&"_AL" -> AXE_CM_CF_30_AL | T139: =VLOOKUP(G139,PL!$B$9:$BH$1265,14,FALSE) -> Mid Clamp | AL139: =ROUND(SUM(BK139:DF139)*(1+$BF$74),0) -> 490 | AR139: =VLOOKUP(G139,PL!$B$9:$BH$818,52,FALSE) -> SOL-580101 | BK139: =M54*M58*2-BK143/2 -> 480 | BN139: =P54*P58*2-BN143/2 -> 0 | BQ139: =S54*S58*2-BQ143/2 -> 0 | BT139: =V54*V58*2-BT143/2 -> 0 | BW139: =Y54*Y58*2-BW143/2 -> 0 | BZ139: =AB54*AB58*2-BZ143/2 -> 0 | CC139: =AE54*AE58*2-CC143/2 -> 0 | CF139: =AH54*AH58*2-CF143/2 -> 0 | CI139: =AK54*AK58*2-CI143/2 -> 0 | CL139: =AN54*AN58*2-CL143/2 -> 0 | CO139: =AQ54*AQ58*2-CO143/2 -> 0 | CR139: =AT54*AT58*2-CR143/2 -> 0 | CU139: =AW54*AW58*2-CU143/2 -> 0 | CX139: =AZ54*AZ58*2-CX143/2 -> 0 | DA139: =BC54*BC58*2-DA143/2 -> 0 | DD139: =BF54*BF58*2-DD143/2 -> 0
T141: =VLOOKUP(G139,PL!$B$9:$BH$1265,33,FALSE) -> Aluminium, Click Fix, 30mm high
C143: =C139+1 -> 7 | G143: =IF($AI$78="Included","AXE_CE_CF_"&$AM$45,"AXE_CE_AP_"&$AM$45)&"_AL" -> AXE_CE_CF_30_AL | T143: =VLOOKUP(G143,PL!$B$9:$BH$1265,14,FALSE) -> End Clamp | AL143: =ROUND(SUM(BK143:DF143)*(1+$BF$84),0) -> 41 | AR143: =VLOOKUP(G143,PL!$B$9:$BH$818,52,FALSE) -> SOL-580301 | BK143: =4*M54 -> 40 | BN143: =4*P54 -> 0 | BQ143: =4*S54 -> 0 | BT143: =4*V54 -> 0 | BW143: =4*Y54 -> 0 | BZ143: =4*AB54 -> 0 | CC143: =4*AE54 -> 0 | CF143: =4*AH54 -> 0 | CI143: =4*AK54 -> 0 | CL143: =4*AN54 -> 0 | CO143: =4*AQ54 -> 0 | CR143: =4*AT54 -> 0 | CU143: =4*AW54 -> 0 | CX143: =4*AZ54 -> 0 | DA143: =4*BC54 -> 0 | DD143: =4*BF54 -> 0
T145: =VLOOKUP(G143,PL!$B$9:$BH$1265,33,FALSE) -> Aluminium, Click Fix, 30mm high
C147: =C143+1 -> 8 | G147: ="AXE_BR_"&IF($AO$35="Corrugated","COR_H", IF(OR($AO$35="Corrugated (L-bracket)",$AO$35="IBR (L-bracket)"),"L_R", IF(OR($AO$35="Corrugated (Rib Surface)",$AO$35="IBR (Rib Surface)"),"RS_H", IF(OR($AO$35="Corrugated (Ridge)",$AO$35="IBR (Ridge)"),"RF_H", IF($AO$35="IBR","IBR_H", IF($AO$35="Craft-Lock","CL_H", IF(OR($AO$35="Klip-Lok",$AO$35="ProLok",$AO$35="Saflok"),"FL_H", IF($AO$35="Springlok","SL_H", IF($AO$35="Novotexi","NT_H", IF(OR($AO$35="Brownbuilt",$AO$35="Dimondek"),"GL_H", IF(OR($AO$35="Brownbuilt (Pinch)",$AO$35="Dimondek (Pinch)"),"PF_H", IF(OR($AO$35="Dimondek (Stand Rib)",$AO$35="Zip-Tek"),"SR_H","L_S"))))))))))))&"_AL" -> AXE_BR_IBR_H_AL | T147: =VLOOKUP(G147,PL!$B$9:$BH$1265,14,FALSE) -> IBR Bracket | AL147: =ROUND(SUM(BK147:DF148)*(1+$BF$74),0) -> 408 | AR147: =VLOOKUP(G147,PL!$B$9:$BH$818,52,FALSE) -> SOL-59020 | BK147: =IF($AO$35="Flat Surface",0,(ROUNDUP(($AE$45*M58+20*(M58-1)+$N$78*2-2*$N$82)/$AX$35,0)+1)*2*M54) -> 400 | BN147: =IF($AO$35="Flat Surface",0,(ROUNDUP(($AE$45*P58+20*(P58-1)+$N$78*2-2*$N$82)/$AX$35,0)+1)*2*P54) -> 0 | BQ147: =IF($AO$35="Flat Surface",0,(ROUNDUP(($AE$45*S58+20*(S58-1)+$N$78*2-2*$N$82)/$AX$35,0)+1)*2*S54) -> 0 | BT147: =IF($AO$35="Flat Surface",0,(ROUNDUP(($AE$45*V58+20*(V58-1)+$N$78*2-2*$N$82)/$AX$35,0)+1)*2*V54) -> 0 | BW147: =IF($AO$35="Flat Surface",0,(ROUNDUP(($AE$45*Y58+20*(Y58-1)+$N$78*2-2*$N$82)/$AX$35,0)+1)*2*Y54) -> 0 | BZ147: =IF($AO$35="Flat Surface",0,(ROUNDUP(($AE$45*AB58+20*(AB58-1)+$N$78*2-2*$N$82)/$AX$35,0)+1)*2*AB54) -> 0 | CC147: =IF($AO$35="Flat Surface",0,(ROUNDUP(($AE$45*AE58+20*(AE58-1)+$N$78*2-2*$N$82)/$AX$35,0)+1)*2*AE54) -> 0 | CF147: =IF($AO$35="Flat Surface",0,(ROUNDUP(($AE$45*AH58+20*(AH58-1)+$N$78*2-2*$N$82)/$AX$35,0)+1)*2*AH54) -> 0 | CI147: =IF($AO$35="Flat Surface",0,(ROUNDUP(($AE$45*AK58+20*(AK58-1)+$N$78*2-2*$N$82)/$AX$35,0)+1)*2*AK54) -> 0 | CL147: =IF($AO$35="Flat Surface",0,(ROUNDUP(($AE$45*AN58+20*(AN58-1)+$N$78*2-2*$N$82)/$AX$35,0)+1)*2*AN54) -> 0 | CO147: =IF($AO$35="Flat Surface",0,(ROUNDUP(($AE$45*AQ58+20*(AQ58-1)+$N$78*2-2*$N$82)/$AX$35,0)+1)*2*AQ54) -> 0 | CR147: =IF($AO$35="Flat Surface",0,(ROUNDUP(($AE$45*AT58+20*(AT58-1)+$N$78*2-2*$N$82)/$AX$35,0)+1)*2*AT54) -> 0 | CU147: =IF($AO$35="Flat Surface",0,(ROUNDUP(($AE$45*AW58+20*(AW58-1)+$N$78*2-2*$N$82)/$AX$35,0)+1)*2*AW54) -> 0 | CX147: =IF($AO$35="Flat Surface",0,(ROUNDUP(($AE$45*AZ58+20*(AZ58-1)+$N$78*2-2*$N$82)/$AX$35,0)+1)*2*AZ54) -> 0 | DA147: =IF($AO$35="Flat Surface",0,(ROUNDUP(($AE$45*BC58+20*(BC58-1)+$N$78*2-2*$N$82)/$AX$35,0)+1)*2*BC54) -> 0 | DD147: =IF($AO$35="Flat Surface",0,(ROUNDUP(($AE$45*BF58+20*(BF58-1)+$N$78*2-2*$N$82)/$AX$35,0)+1)*2*BF54) -> 0
T149: =VLOOKUP(G147,PL!$B$9:$BH$1265,33,FALSE) -> Aluminium, Horizontal
C151: =C147+1 -> 9 | G151: =IF(AL151=0,"N/A","AXE_EC_40_30_AL") -> N/A | T151: =VLOOKUP(G151,PL!$B$9:$BH$1265,14,FALSE) -> No Item | AL151: =ROUND(SUM(BK151:DF151),0) -> 0 | AR151: =VLOOKUP(G151,PL!$B$9:$BH$818,52,FALSE) -> - | BK151: =IF($AI$82="Included",1,0)*M54*4 -> 0 | BN151: =IF($AI$82="Included",1,0)*P54*4 -> 0 | BQ151: =IF($AI$82="Included",1,0)*S54*4 -> 0 | BT151: =IF($AI$82="Included",1,0)*V54*4 -> 0 | BW151: =IF($AI$82="Included",1,0)*Y54*4 -> 0 | BZ151: =IF($AI$82="Included",1,0)*AB54*4 -> 0 | CC151: =IF($AI$82="Included",1,0)*AE54*4 -> 0 | CF151: =IF($AI$82="Included",1,0)*AH54*4 -> 0 | CI151: =IF($AI$82="Included",1,0)*AK54*4 -> 0 | CL151: =IF($AI$82="Included",1,0)*AN54*4 -> 0 | CO151: =IF($AI$82="Included",1,0)*AQ54*4 -> 0 | CR151: =IF($AI$82="Included",1,0)*AT54*4 -> 0 | CU151: =IF($AI$82="Included",1,0)*AW54*4 -> 0 | CX151: =IF($AI$82="Included",1,0)*AZ54*4 -> 0 | DA151: =IF($AI$82="Included",1,0)*BC54*4 -> 0 | DD151: =IF($AI$82="Included",1,0)*BF54*4 -> 0
T153: =VLOOKUP(G151,PL!$B$9:$BH$1265,33,FALSE) -> .
C155: =C151+1 -> 10 | G155: =IF(AL155=0,"N/A","AXE_CC_SS") -> N/A | T155: =VLOOKUP(G155,PL!$B$9:$BH$1265,14,FALSE) -> No Item | AL155: =ROUND(SUM(BK155:DF155)*(1+$BF$74),0) -> 0 | AR155: =VLOOKUP(G155,PL!$B$9:$BH$818,52,FALSE) -> - | BK155: =IF($AI$74="Included",1,0)*M58*M54 -> 0 | BN155: =IF($AI$74="Included",1,0)*P58*P54 -> 0 | BQ155: =IF($AI$74="Included",1,0)*S58*S54 -> 0 | BT155: =IF($AI$74="Included",1,0)*V58*V54 -> 0 | BW155: =IF($AI$74="Included",1,0)*Y58*Y54 -> 0 | BZ155: =IF($AI$74="Included",1,0)*AB58*AB54 -> 0 | CC155: =IF($AI$74="Included",1,0)*AE58*AE54 -> 0 | CF155: =IF($AI$74="Included",1,0)*AH58*AH54 -> 0 | CI155: =IF($AI$74="Included",1,0)*AK58*AK54 -> 0 | CL155: =IF($AI$74="Included",1,0)*AN58*AN54 -> 0 | CO155: =IF($AI$74="Included",1,0)*AQ58*AQ54 -> 0 | CR155: =IF($AI$74="Included",1,0)*AT58*AT54 -> 0 | CU155: =IF($AI$74="Included",1,0)*AW58*AW54 -> 0 | CX155: =IF($AI$74="Included",1,0)*AZ58*AZ54 -> 0 | DA155: =IF($AI$74="Included",1,0)*BC58*BC54 -> 0 | DD155: =IF($AI$74="Included",1,0)*BF58*BF54 -> 0
T157: =VLOOKUP(G155,PL!$B$9:$BH$1265,33,FALSE) -> .
C159: =C155+1 -> 11 | G159: =IF(AL159=0,"N/A","AXE_EL_AL") -> N/A | T159: =VLOOKUP(G159,PL!$B$9:$BH$1265,14,FALSE) -> No Item | AL159: =ROUND(SUM(BK159:DF159)*(1+$BF$80),0) -> 0 | AR159: =VLOOKUP(G159,PL!$B$9:$BH$818,52,FALSE) -> - | BK159: =IF($AI$86="Included",1,0)*M54 -> 0 | BN159: =IF($AI$86="Included",1,0)*P54 -> 0 | BQ159: =IF($AI$86="Included",1,0)*S54 -> 0 | BT159: =IF($AI$86="Included",1,0)*V54 -> 0 | BW159: =IF($AI$86="Included",1,0)*Y54 -> 0 | BZ159: =IF($AI$86="Included",1,0)*AB54 -> 0 | CC159: =IF($AI$86="Included",1,0)*AE54 -> 0 | CF159: =IF($AI$86="Included",1,0)*AH54 -> 0 | CI159: =IF($AI$86="Included",1,0)*AK54 -> 0 | CL159: =IF($AI$86="Included",1,0)*AN54 -> 0 | CO159: =IF($AI$86="Included",1,0)*AQ54 -> 0 | CR159: =IF($AI$86="Included",1,0)*AT54 -> 0 | CU159: =IF($AI$86="Included",1,0)*AW54 -> 0 | CX159: =IF($AI$86="Included",1,0)*AZ54 -> 0 | DA159: =IF($AI$86="Included",1,0)*BC54 -> 0 | DD159: =IF($AI$86="Included",1,0)*BF54 -> 0
T161: =VLOOKUP(G159,PL!$B$9:$BH$1265,33,FALSE) -> .
C163: =C159+1 -> 12 | G163: =IF(AL163=0,"N/A","AXE_CS_8_20"&"_SS") -> N/A | T163: =VLOOKUP(G163,PL!$B$9:$BH$1265,14,FALSE) -> No Item | AL163: =ROUND(SUM(BK163:DF163)*(1+$BF$80),0) -> 0 | AR163: =VLOOKUP(G163,PL!$B$9:$BH$818,52,FALSE) -> - | BK163: =IF($AI$82="Included",1,0)*M54*4 +IF(OR(MID($G$147,8,2)="PF",MID($G$147,8,2)="RS",MID($G$147,8,2)="RF"),BK147,0) -> 0 | BN163: =IF($AI$82="Included",1,0)*P54*4 +IF(OR(MID($G$147,8,2)="PF",MID($G$147,8,2)="RS",MID($G$147,8,2)="RF"),BN147,0) -> 0 | BQ163: =IF($AI$82="Included",1,0)*S54*4 +IF(OR(MID($G$147,8,2)="PF",MID($G$147,8,2)="RS",MID($G$147,8,2)="RF"),BQ147,0) -> 0 | BT163: =IF($AI$82="Included",1,0)*V54*4 +IF(OR(MID($G$147,8,2)="PF",MID($G$147,8,2)="RS",MID($G$147,8,2)="RF"),BT147,0) -> 0 | BW163: =IF($AI$82="Included",1,0)*Y54*4 +IF(OR(MID($G$147,8,2)="PF",MID($G$147,8,2)="RS",MID($G$147,8,2)="RF"),BW147,0) -> 0 | BZ163: =IF($AI$82="Included",1,0)*AB54*4 +IF(OR(MID($G$147,8,2)="PF",MID($G$147,8,2)="RS",MID($G$147,8,2)="RF"),BZ147,0) -> 0 | CC163: =IF($AI$82="Included",1,0)*AE54*4 +IF(OR(MID($G$147,8,2)="PF",MID($G$147,8,2)="RS",MID($G$147,8,2)="RF"),CC147,0) -> 0 | CF163: =IF($AI$82="Included",1,0)*AH54*4 +IF(OR(MID($G$147,8,2)="PF",MID($G$147,8,2)="RS",MID($G$147,8,2)="RF"),CF147,0) -> 0 | CI163: =IF($AI$82="Included",1,0)*AK54*4 +IF(OR(MID($G$147,8,2)="PF",MID($G$147,8,2)="RS",MID($G$147,8,2)="RF"),CI147,0) -> 0 | CL163: =IF($AI$82="Included",1,0)*AN54*4 +IF(OR(MID($G$147,8,2)="PF",MID($G$147,8,2)="RS",MID($G$147,8,2)="RF"),CL147,0) -> 0 | CO163: =IF($AI$82="Included",1,0)*AQ54*4 +IF(OR(MID($G$147,8,2)="PF",MID($G$147,8,2)="RS",MID($G$147,8,2)="RF"),CO147,0) -> 0 | CR163: =IF($AI$82="Included",1,0)*AT54*4 +IF(OR(MID($G$147,8,2)="PF",MID($G$147,8,2)="RS",MID($G$147,8,2)="RF"),CR147,0) -> 0 | CU163: =IF($AI$82="Included",1,0)*AW54*4 +IF(OR(MID($G$147,8,2)="PF",MID($G$147,8,2)="RS",MID($G$147,8,2)="RF"),CU147,0) -> 0 | CX163: =IF($AI$82="Included",1,0)*AZ54*4 +IF(OR(MID($G$147,8,2)="PF",MID($G$147,8,2)="RS",MID($G$147,8,2)="RF"),CX147,0) -> 0 | DA163: =IF($AI$82="Included",1,0)*BC54*4 +IF(OR(MID($G$147,8,2)="PF",MID($G$147,8,2)="RS",MID($G$147,8,2)="RF"),DA147,0) -> 0 | DD163: =IF($AI$82="Included",1,0)*BF54*4 +IF(OR(MID($G$147,8,2)="PF",MID($G$147,8,2)="RS",MID($G$147,8,2)="RF"),DD147,0) -> 0
T165: =VLOOKUP(G163,PL!$B$9:$BH$1265,33,FALSE) -> .
C167: =C163+1 -> 13 | G167: =IF(AL167=0,"N/A","AXE_CS_8_25"&"_SS") -> AXE_CS_8_25_SS | T167: =VLOOKUP(G167,PL!$B$9:$BH$1265,14,FALSE) -> Cap Screws Hexagon | AL167: =ROUND(SUM(BK167:DF167)*(1+$BF$80),0) -> 416 | AR167: =VLOOKUP(G167,PL!$B$9:$BH$818,52,FALSE) -> SOL-59501 | BK167: =IF(OR(MID($G$147,8,2)="PF",MID($G$147,8,2)="RS",MID($G$147,8,2)="RF"),0,BK147) -> 400 | BN167: =IF(OR(MID($G$147,8,2)="PF",MID($G$147,8,2)="RS",MID($G$147,8,2)="RF"),0,BN147) -> 0 | BQ167: =IF(OR(MID($G$147,8,2)="PF",MID($G$147,8,2)="RS",MID($G$147,8,2)="RF"),0,BQ147) -> 0 | BT167: =IF(OR(MID($G$147,8,2)="PF",MID($G$147,8,2)="RS",MID($G$147,8,2)="RF"),0,BT147) -> 0 | BW167: =IF(OR(MID($G$147,8,2)="PF",MID($G$147,8,2)="RS",MID($G$147,8,2)="RF"),0,BW147) -> 0 | BZ167: =IF(OR(MID($G$147,8,2)="PF",MID($G$147,8,2)="RS",MID($G$147,8,2)="RF"),0,BZ147) -> 0 | CC167: =IF(OR(MID($G$147,8,2)="PF",MID($G$147,8,2)="RS",MID($G$147,8,2)="RF"),0,CC147) -> 0 | CF167: =IF(OR(MID($G$147,8,2)="PF",MID($G$147,8,2)="RS",MID($G$147,8,2)="RF"),0,CF147) -> 0 | CI167: =IF(OR(MID($G$147,8,2)="PF",MID($G$147,8,2)="RS",MID($G$147,8,2)="RF"),0,CI147) -> 0 | CL167: =IF(OR(MID($G$147,8,2)="PF",MID($G$147,8,2)="RS",MID($G$147,8,2)="RF"),0,CL147) -> 0 | CO167: =IF(OR(MID($G$147,8,2)="PF",MID($G$147,8,2)="RS",MID($G$147,8,2)="RF"),0,CO147) -> 0 | CR167: =IF(OR(MID($G$147,8,2)="PF",MID($G$147,8,2)="RS",MID($G$147,8,2)="RF"),0,CR147) -> 0 | CU167: =IF(OR(MID($G$147,8,2)="PF",MID($G$147,8,2)="RS",MID($G$147,8,2)="RF"),0,CU147) -> 0 | CX167: =IF(OR(MID($G$147,8,2)="PF",MID($G$147,8,2)="RS",MID($G$147,8,2)="RF"),0,CX147) -> 0 | DA167: =IF(OR(MID($G$147,8,2)="PF",MID($G$147,8,2)="RS",MID($G$147,8,2)="RF"),0,DA147) -> 0 | DD167: =IF(OR(MID($G$147,8,2)="PF",MID($G$147,8,2)="RS",MID($G$147,8,2)="RF"),0,DD147) -> 0
T169: =VLOOKUP(G167,PL!$B$9:$BH$1265,33,FALSE) -> Stainless Steel, M8x25
C171: =C167+1 -> 14 | G171: =IF(AL171=0,"N/A","AXE_CS_8_"&$AM$45-5&"_SS") -> N/A | T171: =VLOOKUP(G171,PL!$B$9:$BH$1265,14,FALSE) -> No Item | AL171: =ROUND(SUM(BK171:DF171)*(1+$BF$80),0) -> 0 | AR171: =VLOOKUP(G171,PL!$B$9:$BH$818,52,FALSE) -> - | BK171: =IF($AI$78="Included",0,BK139+BK143) -> 0 | BN171: =IF($AI$78="Included",0,BN139+BN143) -> 0 | BQ171: =IF($AI$78="Included",0,BQ139+BQ143) -> 0 | BT171: =IF($AI$78="Included",0,BT139+BT143) -> 0 | BW171: =IF($AI$78="Included",0,BW139+BW143) -> 0 | BZ171: =IF($AI$78="Included",0,BZ139+BZ143) -> 0 | CC171: =IF($AI$78="Included",0,CC139+CC143) -> 0 | CF171: =IF($AI$78="Included",0,CF139+CF143) -> 0 | CI171: =IF($AI$78="Included",0,CI139+CI143) -> 0 | CL171: =IF($AI$78="Included",0,CL139+CL143) -> 0 | CO171: =IF($AI$78="Included",0,CO139+CO143) -> 0 | CR171: =IF($AI$78="Included",0,CR139+CR143) -> 0 | CU171: =IF($AI$78="Included",0,CU139+CU143) -> 0 | CX171: =IF($AI$78="Included",0,CX139+CX143) -> 0 | DA171: =IF($AI$78="Included",0,DA139+DA143) -> 0 | DD171: =IF($AI$78="Included",0,DD139+DD143) -> 0
T173: =VLOOKUP(G171,PL!$B$9:$BH$1265,33,FALSE) -> .
C175: =C171+1 -> 15 | G175: =IF(AL175=0,"N/A","AXE_WS_8"&"_SS") -> AXE_WS_8_SS | T175: =VLOOKUP(G175,PL!$B$9:$BH$1265,14,FALSE) -> Spring Washer | AL175: =ROUND(SUM(BK175:DF175)*(1+$BF$80),0) -> 416 | AR175: =VLOOKUP(G175,PL!$B$9:$BH$818,52,FALSE) -> SOL-5951 | BK175: =BK167+BK171+BK163 -> 400 | BN175: =BN167+BN171+BN163 -> 0 | BQ175: =BQ167+BQ171+BQ163 -> 0 | BT175: =BT167+BT171+BT163 -> 0 | BW175: =BW167+BW171+BW163 -> 0 | BZ175: =BZ167+BZ171+BZ163 -> 0 | CC175: =CC167+CC171+CC163 -> 0 | CF175: =CF167+CF171+CF163 -> 0 | CI175: =CI167+CI171+CI163 -> 0 | CL175: =CL167+CL171+CL163 -> 0 | CO175: =CO167+CO171+CO163 -> 0 | CR175: =CR167+CR171+CR163 -> 0 | CU175: =CU167+CU171+CU163 -> 0 | CX175: =CX167+CX171+CX163 -> 0 | DA175: =DA167+DA171+DA163 -> 0 | DD175: =DD167+DD171+DD163 -> 0
T177: =VLOOKUP(G175,PL!$B$9:$BH$1265,33,FALSE) -> Stainless Steel, M8
C179: =C175+1 -> 16 | G179: =IF(AL179=0,"N/A","AXE_NHF_8_SS") -> AXE_NHF_8_SS | T179: =VLOOKUP(G179,PL!$B$9:$BH$1265,14,FALSE) -> Hex Flange Nut | AL179: =ROUND(SUM(BK179:DF179)*(1+$BF$80),0) -> 416 | AR179: =VLOOKUP(G179,PL!$B$9:$BH$818,52,FALSE) -> SOL-59530 | BK179: =BK167 -> 400 | BN179: =BN167 -> 0 | BQ179: =BQ167 -> 0 | BT179: =BT167 -> 0 | BW179: =BW167 -> 0 | BZ179: =BZ167 -> 0 | CC179: =CC167 -> 0 | CF179: =CF167 -> 0 | CI179: =CI167 -> 0 | CL179: =CL167 -> 0 | CO179: =CO167 -> 0 | CR179: =CR167 -> 0 | CU179: =CU167 -> 0 | CX179: =CX167 -> 0 | DA179: =DA167 -> 0 | DD179: =DD167 -> 0
T181: =VLOOKUP(G179,PL!$B$9:$BH$1265,33,FALSE) -> Stainless Steel, M8
C183: =C179+1 -> 17 | G183: =IF(AL183=0,"N/A","AXE_NSQ_8_SS") -> N/A | T183: =VLOOKUP(G183,PL!$B$9:$BH$1265,14,FALSE) -> No Item | AL183: =ROUND(SUM(BK183:DF183)*(1+$BF$80),0) -> 0 | AR183: =VLOOKUP(G183,PL!$B$9:$BH$818,52,FALSE) -> - | BK183: =BK163+BK171-IF(MID($G$147,8,2)="PF",BK147,0) -> 0 | BN183: =BN163+BN171-IF(MID($G$147,8,2)="PF",BN147,0) -> 0 | BQ183: =BQ163+BQ171-IF(MID($G$147,8,2)="PF",BQ147,0) -> 0 | BT183: =BT163+BT171-IF(MID($G$147,8,2)="PF",BT147,0) -> 0 | BW183: =BW163+BW171-IF(MID($G$147,8,2)="PF",BW147,0) -> 0 | BZ183: =BZ163+BZ171-IF(MID($G$147,8,2)="PF",BZ147,0) -> 0 | CC183: =CC163+CC171-IF(MID($G$147,8,2)="PF",CC147,0) -> 0 | CF183: =CF163+CF171-IF(MID($G$147,8,2)="PF",CF147,0) -> 0 | CI183: =CI163+CI171-IF(MID($G$147,8,2)="PF",CI147,0) -> 0 | CL183: =CL163+CL171-IF(MID($G$147,8,2)="PF",CL147,0) -> 0 | CO183: =CO163+CO171-IF(MID($G$147,8,2)="PF",CO147,0) -> 0 | CR183: =CR163+CR171-IF(MID($G$147,8,2)="PF",CR147,0) -> 0 | CU183: =CU163+CU171-IF(MID($G$147,8,2)="PF",CU147,0) -> 0 | CX183: =CX163+CX171-IF(MID($G$147,8,2)="PF",CX147,0) -> 0 | DA183: =DA163+DA171-IF(MID($G$147,8,2)="PF",DA147,0) -> 0 | DD183: =DD163+DD171-IF(MID($G$147,8,2)="PF",DD147,0) -> 0
T185: =VLOOKUP(G183,PL!$B$9:$BH$1265,33,FALSE) -> .
C187: =C183+1 -> 18 | G187: =IF(AL187=0,"N/A","AXE_NST_8_PP") -> N/A | T187: =VLOOKUP(G187,PL!$B$9:$BH$1265,14,FALSE) -> No Item | AL187: =ROUND(SUM(BK187:DF187)*(1+$BF$80),0) -> 0 | AR187: =VLOOKUP(G187,PL!$B$9:$BH$818,52,FALSE) -> - | BK187: =BK183 -> 0 | BN187: =BN183 -> 0 | BQ187: =BQ183 -> 0 | BT187: =BT183 -> 0 | BW187: =BW183 -> 0 | BZ187: =BZ183 -> 0 | CC187: =CC183 -> 0 | CF187: =CF183 -> 0 | CI187: =CI183 -> 0 | CL187: =CL183 -> 0 | CO187: =CO183 -> 0 | CR187: =CR183 -> 0 | CU187: =CU183 -> 0 | CX187: =CX183 -> 0 | DA187: =DA183 -> 0 | DD187: =DD183 -> 0
...

Sheet QU RT RSD RL 
C1: #VALUE! | AN1: Axe Struct (Pty) Ltd | BK1: Brownbuilt
BK2: Brownbuilt (Pinch)
AN3: VAT no.: 4470284136 Reg. no.: 2018/528173/07 | BK3: Corrugated
BK4: Corrugated (L-bracket)
AN5: Tel: +27 (0)10 880 0220 Email: info@axestruct.com | BK5: Corrugated (Rib Surface)
BK6: Corrugated (Ridge)
AN7: www.axestruct.com | BK7: Craft-Lock
BK8: Dimondek
BK9: Dimondek (Pinch)
A10: Provisional Quotation | BK10: Dimondek (Stand Rib)
AN11: Document No.: | AX11: QU RT RSD RL | BK11: Flat Surface
BK12: IBR
AN13: Revision: | AX13: 1 | BK13: IBR (L-bracket)
BK14: IBR (Rib Surface)
BK15: IBR (Ridge)
BK16: Klip-Lok
C17: Client: | Y17: Project: | AT17: Date: | AX17: =TODAY() -> 45960 | BK17: Novotexi
BK18: ProLok
BK19: Saflok
BK20: Springlok
T21: ="Roof Top Raised Railless ("&$AO$35&")" -> Roof Top Raised Railless (IBR) | BK21: Zip-Tek
B25: Project specifications | AE25: Plant specifications
C28: Capacity | T28: =(J43*BC43)/1000 & " kWp" -> 60 kWp | AF28: Orientation | AO28: Landscape
BK30: 10 | BM30: 1162 | BP30: 1310
C31: Installation type | T31: Raised Railless | AF31: Angle | AO31: 10 | AQ31: ⁰ Tilt mounted | AX31: =LOOKUP(AO31,BK30:BK35,IF(AE45<1150,BM30:BM35,BP30:BP35)) -> 1162 | BA31: mm | BC31: Back to front bracket pitch | BK31: 15 | BM31: 1140 | BP31: 1285
BK32: 20 | BM32: 1109 | BP32: 1250
BK33: 25 | BM33: 1069 | BP33: 1205
AF34: Fixing
AO35: IBR
B39: Solar panel specifications
C43: Number | J43: =M54*M58+P54*P58+S54*S58+V54*V58+Y54*Y58+AB54*AB58+AE54*AE58+AH54*AH58+AK54*AK58+AN54*AN58+AQ54*AQ58+AT54*AT58+AW54*AW58+AZ54*AZ58+BC54*BC58+BF54*BF58 -> 100 | Q43: Type | W43: JA SOLAR JAM72S40-600 | AV43: Rating | BC43: 600
W45: 2278 | AA45: mm (L) | AE45: 1134 | AI45: mm (B) | AM45: 30 | AQ45: mm (H)
B48: Configuration
M51: 1 | P51: 2 | Q51: 2 | S51: 3 | T51: 3 | V51: 4 | W51: 4 | Y51: 5 | Z51: 5 | AB51: 6 | AC51: 6 | AE51: 7 | AF51: 7 | AH51: 8 | AI51: 8 | AK51: 9 | AL51: 9 | AN51: 10 | AO51: 10 | AQ51: 11 | AR51: 11 | AT51: 12 | AU51: 12 | AW51: 13 | AX51: 13 | AZ51: 14 | BA51: 14 | BC51: 15 | BF51: 16
C54: Rows | M54: 10 | P54: 0 | Q54: 100 | S54: 0 | T54: 100 | V54: 0 | W54: 100 | Y54: 0 | Z54: 100 | AB54: 0 | AC54: 100 | AE54: 0 | AH54: 0 | AI54: 100 | AK54: 0 | AL54: 100 | AN54: 0 | AO54: 100 | AQ54: 0 | AR54: 100 | AT54: 0 | AU54: 100 | AW54: 0 | AX54: 100 | AZ54: 0 | BA54: 100 | BC54: 0 | BF54: 0
C58: Modules/Row | M58: 10 | N58: 30 | P58: 0 | Q58: 30 | S58: 0 | T58: 30 | V58: 0 | W58: 30 | Y58: 0 | Z58: 30 | AB58: 0 | AC58: 30 | AE58: 0 | AH58: 0 | AI58: 30 | AK58: 0 | AL58: 30 | AN58: 0 | AO58: 30 | AQ58: 0 | AR58: 30 | AT58: 0 | AU58: 30 | AW58: 0 | AX58: 30 | AZ58: 0 | BA58: 30 | BC58: 0 | BF58: 0
C62: Additions | AS62: Over supply
C65: Wire management Cable to Panel clip
N66: Not Included | AS66: Rails/Brackets/ | BF66: 0.02
AS68: Clips
C69: Fastener-Clamp integration "Click system"
N70: Included
AS72: Fasteners/Extensions | BF72: 0.04
C73: Sway prevention
N74: Angles
AS76: End Clamps | BF76: 0.03
A81: Materials specified for atmospheric corrosion category up to C4 as per ISO 9223. Please consult for environments with more aggressive ratings.
T110: ="Roof Top Raised Railless ("&$AO$35&")" -> Roof Top Raised Railless (IBR)
C114: No | G114: Product Code | T114: Description of Goods | AL114: Qnty | AQ114: ARB SKU
BK115: 1 | BN115: 2 | BQ115: 3 | BT115: 4 | BW115: 5 | BZ115: 6 | CC115: 7 | CF115: 8 | CI115: 9 | CL115: 10 | CO115: 11 | CR115: 12 | CU115: 13 | CX115: 14 | DA115: 15 | DD115: 16
C119: 1 | G119: ="AXE_F_RS_RL_"&IF($AE$45<1150,"S","L")&"_"&$AO$31&"_AL" -> AXE_F_RS_RL_S_10_AL | T119: =VLOOKUP(G119,PL!$B$9:$BH$1265,14,FALSE) -> Raised Frame | AL119: =SUM(BK119:DF120) -> 200 | AR119: =VLOOKUP(G119,PL!$B$9:$BH$818,52,FALSE) -> 0 | BK119: =M58*2*M54 -> 200 | BN119: =P58*2*P54 -> 0 | BQ119: =S58*2*S54 -> 0 | BT119: =V58*2*V54 -> 0 | BW119: =Y58*2*Y54 -> 0 | BZ119: =AB58*2*AB54 -> 0 | CC119: =AE58*2*AE54 -> 0 | CF119: =AH58*2*AH54 -> 0 | CI119: =AK58*2*AK54 -> 0 | CL119: =AN58*2*AN54 -> 0 | CO119: =AQ58*2*AQ54 -> 0 | CR119: =AT58*2*AT54 -> 0 | CU119: =AW58*2*AW54 -> 0 | CX119: =AZ58*2*AZ54 -> 0 | DA119: =BC58*2*BC54 -> 0 | DD119: =BF58*2*BF54 -> 0
T121: =VLOOKUP(G119,PL!$B$9:$BH$1265,33,FALSE) -> Aluminium, Railless, Short, 10deg
C123: =C119+1 -> 2 | G123: =IF($N$70="Included","AXE_CE_CF_"&$AM$45,"AXE_CE_AP_"&$AM$45)&"_AL" -> AXE_CE_CF_30_AL | T123: =VLOOKUP(G123,PL!$B$9:$BH$1265,14,FALSE) -> End Clamp | AL123: =ROUND(SUM(BK123:DF123)*(1+$BF$76),0) -> 412 | AR123: =VLOOKUP(G123,PL!$B$9:$BH$818,52,FALSE) -> SOL-580301 | BK123: =M58*4*M54 -> 400 | BN123: =P58*4*P54 -> 0 | BQ123: =S58*4*S54 -> 0 | BT123: =V58*4*V54 -> 0 | BW123: =Y58*4*Y54 -> 0 | BZ123: =AB58*4*AB54 -> 0 | CC123: =AE58*4*AE54 -> 0 | CF123: =AH58*4*AH54 -> 0 | CI123: =AK58*4*AK54 -> 0 | CL123: =AN58*4*AN54 -> 0 | CO123: =AQ58*4*AQ54 -> 0 | CR123: =AT58*4*AT54 -> 0 | CU123: =AW58*4*AW54 -> 0 | CX123: =AZ58*4*AZ54 -> 0 | DA123: =BC58*4*BC54 -> 0 | DD123: =BF58*4*BF54 -> 0
T125: =VLOOKUP(G123,PL!$B$9:$BH$1265,33,FALSE) -> Aluminium, Click Fix, 30mm high
C127: =C123+1 -> 3 | G127: ="AXE_BR_"&IF($AO$35="Corrugated","COR_H", IF(OR($AO$35="Corrugated (L-bracket)",$AO$35="IBR (L-bracket)"),"L_R", IF(OR($AO$35="Corrugated (Rib Surface)",$AO$35="IBR (Rib Surface)"),"RS_H", IF(OR($AO$35="Corrugated (Ridge)",$AO$35="IBR (Ridge)"),"RF_H", IF($AO$35="IBR","IBR_H", IF($AO$35="Craft-Lock","CL_H", IF(OR($AO$35="Klip-Lok",$AO$35="ProLok",$AO$35="Saflok"),"FL_H", IF($AO$35="Springlok","SL_H", IF($AO$35="Novotexi","NT_H", IF(OR($AO$35="Brownbuilt",$AO$35="Dimondek"),"GL_H", IF(OR($AO$35="Brownbuilt (Pinch)",$AO$35="Dimondek (Pinch)"),"PF_H", IF(OR($AO$35="Dimondek (Stand Rib)",$AO$35="Zip-Tek"),"SR_H","L_S"))))))))))))&"_AL" -> AXE_BR_IBR_H_AL | T127: =VLOOKUP(G127,PL!$B$9:$BH$1265,14,FALSE) -> IBR Bracket | AL127: =ROUND(SUM(BK127:DF127)*(1+$BF$66),0) -> 408 | AR127: =VLOOKUP(G127,PL!$B$9:$BH$818,52,FALSE) -> SOL-59020 | BK127: =M58*4*M54 -> 400 | BN127: =P58*4*P54 -> 0 | BQ127: =S58*4*S54 -> 0 | BT127: =V58*4*V54 -> 0 | BW127: =Y58*4*Y54 -> 0 | BZ127: =AB58*4*AB54 -> 0 | CC127: =AE58*4*AE54 -> 0 | CF127: =AH58*4*AH54 -> 0 | CI127: =AK58*4*AK54 -> 0 | CL127: =AN58*4*AN54 -> 0 | CO127: =AQ58*4*AQ54 -> 0 | CR127: =AT58*4*AT54 -> 0 | CU127: =AW58*4*AW54 -> 0 | CX127: =AZ58*4*AZ54 -> 0 | DA127: =BC58*4*BC54 -> 0 | DD127: =BF58*4*BF54 -> 0
T129: =VLOOKUP(G127,PL!$B$9:$BH$1265,33,FALSE) -> Aluminium, Horizontal
C131: =C127+1 -> 4 | G131: =IF(AL131=0,"N/A","AXE_BR_L_S"&"_AL") -> AXE_BR_L_S_AL | T131: =VLOOKUP(G131,PL!$B$9:$BH$1265,14,FALSE) -> L Bracket | AL131: =ROUND(SUM(BK131:DF131)*(1+$BF$66),0) -> 408 | AR131: =VLOOKUP(G131,PL!$B$9:$BH$818,52,FALSE) -> SOL-5808 | BK131: =IF(MID($G$127,8,1)="L",0,BK127) -> 400 | BN131: =IF(MID($G$127,8,1)="L",0,BN127) -> 0 | BQ131: =IF(MID($G$127,8,1)="L",0,BQ127) -> 0 | BT131: =IF(MID($G$127,8,1)="L",0,BT127) -> 0 | BW131: =IF(MID($G$127,8,1)="L",0,BW127) -> 0 | BZ131: =IF(MID($G$127,8,1)="L",0,BZ127) -> 0 | CC131: =IF(MID($G$127,8,1)="L",0,CC127) -> 0 | CF131: =IF(MID($G$127,8,1)="L",0,CF127) -> 0 | CI131: =IF(MID($G$127,8,1)="L",0,CI127) -> 0 | CL131: =IF(MID($G$127,8,1)="L",0,CL127) -> 0 | CO131: =IF(MID($G$127,8,1)="L",0,CO127) -> 0 | CR131: =IF(MID($G$127,8,1)="L",0,CR127) -> 0 | CU131: =IF(MID($G$127,8,1)="L",0,CU127) -> 0 | CX131: =IF(MID($G$127,8,1)="L",0,CX127) -> 0 | DA131: =IF(MID($G$127,8,1)="L",0,DA127) -> 0 | DD131: =IF(MID($G$127,8,1)="L",0,DD127) -> 0
T133: =VLOOKUP(G131,PL!$B$9:$BH$1265,33,FALSE) -> Aluminium, Slotted
C135: =C131+1 -> 5 | G135: =IF(AL135=0,"N/A",IF($N$74="Cables","AXE_RW_L_5_SS",IF($N$74="Gripple","AXE_RW_G_6_"&AF135*1000&"_8_SH","AXE_L_AE_40_40_3_AL"))) -> AXE_L_AE_40_40_3_AL | T135: =VLOOKUP(G135,PL!$B$9:$BH$1265,14,FALSE) -> Equal Angle | AE135: ( | AF135: =IF(AL135=0,0,IF($N$74="Angles",2,2.5)) -> 2 | AI135: m) | AL135: =ROUND(SUM(BK135:DF135),0) -> 200 | AR135: =VLOOKUP(G135,PL!$B$9:$BH$818,52,FALSE) -> SOL-5955 | BK135: =IF($N$74="Not Included",0,M54*M58*2) -> 200 | BN135: =IF($N$74="Not Included",0,P54*P58*2) -> 0 | BQ135: =IF($N$74="Not Included",0,S54*S58*2) -> 0 | BT135: =IF($N$74="Not Included",0,V54*V58*2) -> 0 | BW135: =IF($N$74="Not Included",0,Y54*Y58*2) -> 0 | BZ135: =IF($N$74="Not Included",0,AB54*AB58*2) -> 0 | CC135: =IF($N$74="Not Included",0,AE54*AE58*2) -> 0 | CF135: =IF($N$74="Not Included",0,AH54*AH58*2) -> 0 | CI135: =IF($N$74="Not Included",0,AK54*AK58*2) -> 0 | CL135: =IF($N$74="Not Included",0,AN54*AN58*2) -> 0 | CO135: =IF($N$74="Not Included",0,AQ54*AQ58*2) -> 0 | CR135: =IF($N$74="Not Included",0,AT54*AT58*2) -> 0 | CU135: =IF($N$74="Not Included",0,AW54*AW58*2) -> 0 | CX135: =IF($N$74="Not Included",0,AZ54*AZ58*2) -> 0 | DA135: =IF($N$74="Not Included",0,BC54*BC58*2) -> 0 | DD135: =IF($N$74="Not Included",0,BF54*BF58*2) -> 0
T137: =VLOOKUP(G135,PL!$B$9:$BH$1265,33,FALSE) -> Aluminium, 40x40x3
C139: =C135+1 -> 6 | G139: =IF(AL139=0,"N/A","AXE_CC_SS") -> N/A | T139: =VLOOKUP(G139,PL!$B$9:$BH$1265,14,FALSE) -> No Item | AL139: =ROUND(SUM(BK139:DF139)*(1+$BF$66),0) -> 0 | AR139: =VLOOKUP(G139,PL!$B$9:$BH$818,52,FALSE) -> - | BK139: =IF($N$66="Included",1,0)*M58*M54 -> 0 | BN139: =IF($N$66="Included",1,0)*P58*P54 -> 0 | BQ139: =IF($N$66="Included",1,0)*S58*S54 -> 0 | BT139: =IF($N$66="Included",1,0)*V58*V54 -> 0 | BW139: =IF($N$66="Included",1,0)*Y58*Y54 -> 0 | BZ139: =IF($N$66="Included",1,0)*AB58*AB54 -> 0 | CC139: =IF($N$66="Included",1,0)*AE58*AE54 -> 0 | CF139: =IF($N$66="Included",1,0)*AH58*AH54 -> 0 | CI139: =IF($N$66="Included",1,0)*AK58*AK54 -> 0 | CL139: =IF($N$66="Included",1,0)*AN58*AN54 -> 0 | CO139: =IF($N$66="Included",1,0)*AQ58*AQ54 -> 0 | CR139: =IF($N$66="Included",1,0)*AT58*AT54 -> 0 | CU139: =IF($N$66="Included",1,0)*AW58*AW54 -> 0 | CX139: =IF($N$66="Included",1,0)*AZ58*AZ54 -> 0 | DA139: =IF($N$66="Included",1,0)*BC58*BC54 -> 0 | DD139: =IF($N$66="Included",1,0)*BF58*BF54 -> 0
T141: =VLOOKUP(G139,PL!$B$9:$BH$1265,33,FALSE) -> .
C143: =C139+1 -> 7 | G143: =IF(AL143=0,"N/A","AXE_CS_8_20"&"_SS") -> N/A | T143: =VLOOKUP(G143,PL!$B$9:$BH$1265,14,FALSE) -> No Item | AL143: =ROUND(SUM(BK143:DF143)*(1+$BF$72),0) -> 0 | AR143: =VLOOKUP(G143,PL!$B$9:$BH$818,52,FALSE) -> - | BK143: =IF(OR(MID($G$127,8,2)="PF",MID($G$127,8,2)="RS",MID($G$127,8,2)="RF"),BK131,0) -> 0 | BN143: =IF(OR(MID($G$127,8,2)="PF",MID($G$127,8,2)="RS",MID($G$127,8,2)="RF"),BN131,0) -> 0 | BQ143: =IF(OR(MID($G$127,8,2)="PF",MID($G$127,8,2)="RS",MID($G$127,8,2)="RF"),BQ131,0) -> 0 | BT143: =IF(OR(MID($G$127,8,2)="PF",MID($G$127,8,2)="RS",MID($G$127,8,2)="RF"),BT131,0) -> 0 | BW143: =IF(OR(MID($G$127,8,2)="PF",MID($G$127,8,2)="RS",MID($G$127,8,2)="RF"),BW131,0) -> 0 | BZ143: =IF(OR(MID($G$127,8,2)="PF",MID($G$127,8,2)="RS",MID($G$127,8,2)="RF"),BZ131,0) -> 0 | CC143: =IF(OR(MID($G$127,8,2)="PF",MID($G$127,8,2)="RS",MID($G$127,8,2)="RF"),CC131,0) -> 0 | CF143: =IF(OR(MID($G$127,8,2)="PF",MID($G$127,8,2)="RS",MID($G$127,8,2)="RF"),CF131,0) -> 0 | CI143: =IF(OR(MID($G$127,8,2)="PF",MID($G$127,8,2)="RS",MID($G$127,8,2)="RF"),CI131,0) -> 0 | CL143: =IF(OR(MID($G$127,8,2)="PF",MID($G$127,8,2)="RS",MID($G$127,8,2)="RF"),CL131,0) -> 0 | CO143: =IF(OR(MID($G$127,8,2)="PF",MID($G$127,8,2)="RS",MID($G$127,8,2)="RF"),CO131,0) -> 0 | CR143: =IF(OR(MID($G$127,8,2)="PF",MID($G$127,8,2)="RS",MID($G$127,8,2)="RF"),CR131,0) -> 0 | CU143: =IF(OR(MID($G$127,8,2)="PF",MID($G$127,8,2)="RS",MID($G$127,8,2)="RF"),CU131,0) -> 0 | CX143: =IF(OR(MID($G$127,8,2)="PF",MID($G$127,8,2)="RS",MID($G$127,8,2)="RF"),CX131,0) -> 0 | DA143: =IF(OR(MID($G$127,8,2)="PF",MID($G$127,8,2)="RS",MID($G$127,8,2)="RF"),DA131,0) -> 0 | DD143: =IF(OR(MID($G$127,8,2)="PF",MID($G$127,8,2)="RS",MID($G$127,8,2)="RF"),DD131,0) -> 0
T145: =VLOOKUP(G143,PL!$B$9:$BH$1265,33,FALSE) -> .
C147: =C143+1 -> 8 | G147: =IF(AL147=0,"N/A","AXE_CS_8_25"&"_SS") -> AXE_CS_8_25_SS | T147: =VLOOKUP(G147,PL!$B$9:$BH$1265,14,FALSE) -> Cap Screws Hexagon | AL147: =ROUND(SUM(BK147:DF147)*(1+$BF$72),0) -> 832 | AR147: =VLOOKUP(G147,PL!$B$9:$BH$818,52,FALSE) -> SOL-59501 | BK147: =BK127 +IF(OR(MID($G$127,8,2)="PF",MID($G$127,8,2)="RS",MID($G$127,8,2)="RF"),0,BK131) -> 800 | BN147: =BN127 +IF(OR(MID($G$127,8,2)="PF",MID($G$127,8,2)="RS",MID($G$127,8,2)="RF"),0,BN131) -> 0 | BQ147: =BQ127 +IF(OR(MID($G$127,8,2)="PF",MID($G$127,8,2)="RS",MID($G$127,8,2)="RF"),0,BQ131) -> 0 | BT147: =BT127 +IF(OR(MID($G$127,8,2)="PF",MID($G$127,8,2)="RS",MID($G$127,8,2)="RF"),0,BT131) -> 0 | BW147: =BW127 +IF(OR(MID($G$127,8,2)="PF",MID($G$127,8,2)="RS",MID($G$127,8,2)="RF"),0,BW131) -> 0 | BZ147: =BZ127 +IF(OR(MID($G$127,8,2)="PF",MID($G$127,8,2)="RS",MID($G$127,8,2)="RF"),0,BZ131) -> 0 | CC147: =CC127 +IF(OR(MID($G$127,8,2)="PF",MID($G$127,8,2)="RS",MID($G$127,8,2)="RF"),0,CC131) -> 0 | CF147: =CF127 +IF(OR(MID($G$127,8,2)="PF",MID($G$127,8,2)="RS",MID($G$127,8,2)="RF"),0,CF131) -> 0 | CI147: =CI127 +IF(OR(MID($G$127,8,2)="PF",MID($G$127,8,2)="RS",MID($G$127,8,2)="RF"),0,CI131) -> 0 | CL147: =CL127 +IF(OR(MID($G$127,8,2)="PF",MID($G$127,8,2)="RS",MID($G$127,8,2)="RF"),0,CL131) -> 0 | CO147: =CO127 +IF(OR(MID($G$127,8,2)="PF",MID($G$127,8,2)="RS",MID($G$127,8,2)="RF"),0,CO131) -> 0 | CR147: =CR127 +IF(OR(MID($G$127,8,2)="PF",MID($G$127,8,2)="RS",MID($G$127,8,2)="RF"),0,CR131) -> 0 | CU147: =CU127 +IF(OR(MID($G$127,8,2)="PF",MID($G$127,8,2)="RS",MID($G$127,8,2)="RF"),0,CU131) -> 0 | CX147: =CX127 +IF(OR(MID($G$127,8,2)="PF",MID($G$127,8,2)="RS",MID($G$127,8,2)="RF"),0,CX131) -> 0 | DA147: =DA127 +IF(OR(MID($G$127,8,2)="PF",MID($G$127,8,2)="RS",MID($G$127,8,2)="RF"),0,DA131) -> 0 | DD147: =DD127 +IF(OR(MID($G$127,8,2)="PF",MID($G$127,8,2)="RS",MID($G$127,8,2)="RF"),0,DD131) -> 0
T149: =VLOOKUP(G147,PL!$B$9:$BH$1265,33,FALSE) -> Stainless Steel, M8x25
C151: =C147+1 -> 9 | G151: =IF(AL151=0,"N/A","AXE_CS_8_"&$AM$45-5&"_SS") -> N/A | T151: =VLOOKUP(G151,PL!$B$9:$BH$1265,14,FALSE) -> No Item | AL151: =ROUND(SUM(BK151:DF151)*(1+$BF$72),0) -> 0 | AR151: =VLOOKUP(G151,PL!$B$9:$BH$818,52,FALSE) -> - | BK151: =IF($N$70="Included",0,BK123) -> 0 | BN151: =IF($N$70="Included",0,BN123) -> 0 | BQ151: =IF($N$70="Included",0,BQ123) -> 0 | BT151: =IF($N$70="Included",0,BT123) -> 0 | BW151: =IF($N$70="Included",0,BW123) -> 0 | BZ151: =IF($N$70="Included",0,BZ123) -> 0 | CC151: =IF($N$70="Included",0,CC123) -> 0 | CF151: =IF($N$70="Included",0,CF123) -> 0 | CI151: =IF($N$70="Included",0,CI123) -> 0 | CL151: =IF($N$70="Included",0,CL123) -> 0 | CO151: =IF($N$70="Included",0,CO123) -> 0 | CR151: =IF($N$70="Included",0,CR123) -> 0 | CU151: =IF($N$70="Included",0,CU123) -> 0 | CX151: =IF($N$70="Included",0,CX123) -> 0 | DA151: =IF($N$70="Included",0,DA123) -> 0 | DD151: =IF($N$70="Included",0,DD123) -> 0
T153: =VLOOKUP(G151,PL!$B$9:$BH$1265,33,FALSE) -> .
C155: =C151+1 -> 10 | G155: =IF(AL155=0,"N/A","AXE_WS_8"&"_SS") -> AXE_WS_8_SS | T155: =VLOOKUP(G155,PL!$B$9:$BH$1265,14,FALSE) -> Spring Washer | AL155: =ROUND(SUM(BK155:DF155)*(1+$BF$72),0) -> 832 | AR155: =VLOOKUP(G155,PL!$B$9:$BH$818,52,FALSE) -> SOL-5951 | BK155: =BK151+BK147 -> 800 | BN155: =BN151+BN147 -> 0 | BQ155: =BQ151+BQ147 -> 0 | BT155: =BT151+BT147 -> 0 | BW155: =BW151+BW147 -> 0 | BZ155: =BZ151+BZ147 -> 0 | CC155: =CC151+CC147 -> 0 | CF155: =CF151+CF147 -> 0 | CI155: =CI151+CI147 -> 0 | CL155: =CL151+CL147 -> 0 | CO155: =CO151+CO147 -> 0 | CR155: =CR151+CR147 -> 0 | CU155: =CU151+CU147 -> 0 | CX155: =CX151+CX147 -> 0 | DA155: =DA151+DA147 -> 0 | DD155: =DD151+DD147 -> 0
T157: =VLOOKUP(G155,PL!$B$9:$BH$1265,33,FALSE) -> Stainless Steel, M8
C159: =C155+1 -> 11 | G159: =IF(AL159=0,"N/A","AXE_NHF_8_SS") -> AXE_NHF_8_SS | T159: =VLOOKUP(G159,PL!$B$9:$BH$1265,14,FALSE) -> Hex Flange Nut | AL159: =ROUND(SUM(BK159:DF159)*(1+$BF$72),0) -> 832 | AR159: =VLOOKUP(G159,PL!$B$9:$BH$818,52,FALSE) -> SOL-59530 | BK159: =BK147 -> 800 | BN159: =BN147 -> 0 | BQ159: =BQ147 -> 0 | BT159: =BT147 -> 0 | BW159: =BW147 -> 0 | BZ159: =BZ147 -> 0 | CC159: =CC147 -> 0 | CF159: =CF147 -> 0 | CI159: =CI147 -> 0 | CL159: =CL147 -> 0 | CO159: =CO147 -> 0 | CR159: =CR147 -> 0 | CU159: =CU147 -> 0 | CX159: =CX147 -> 0 | DA159: =DA147 -> 0 | DD159: =DD147 -> 0
T161: =VLOOKUP(G159,PL!$B$9:$BH$1265,33,FALSE) -> Stainless Steel, M8
C163: =C159+1 -> 12 | G163: =IF(AL163=0,"N/A","AXE_NSQ_8_SS") -> N/A | T163: =VLOOKUP(G163,PL!$B$9:$BH$1265,14,FALSE) -> No Item | AL163: =ROUND(SUM(BK163:DF163)*(1+$BF$72),0) -> 0 | AR163: =VLOOKUP(G163,PL!$B$9:$BH$818,52,FALSE) -> - | BK163: =BK151+BK143-IF(MID($G$127,8,2)="PF",BK131,0) -> 0 | BN163: =BN151+BN143-IF(MID($G$127,8,2)="PF",BN131,0) -> 0 | BQ163: =BQ151+BQ143-IF(MID($G$127,8,2)="PF",BQ131,0) -> 0 | BT163: =BT151+BT143-IF(MID($G$127,8,2)="PF",BT131,0) -> 0 | BW163: =BW151+BW143-IF(MID($G$127,8,2)="PF",BW131,0) -> 0 | BZ163: =BZ151+BZ143-IF(MID($G$127,8,2)="PF",BZ131,0) -> 0 | CC163: =CC151+CC143-IF(MID($G$127,8,2)="PF",CC131,0) -> 0 | CF163: =CF151+CF143-IF(MID($G$127,8,2)="PF",CF131,0) -> 0 | CI163: =CI151+CI143-IF(MID($G$127,8,2)="PF",CI131,0) -> 0 | CL163: =CL151+CL143-IF(MID($G$127,8,2)="PF",CL131,0) -> 0 | CO163: =CO151+CO143-IF(MID($G$127,8,2)="PF",CO131,0) -> 0 | CR163: =CR151+CR143-IF(MID($G$127,8,2)="PF",CR131,0) -> 0 | CU163: =CU151+CU143-IF(MID($G$127,8,2)="PF",CU131,0) -> 0 | CX163: =CX151+CX143-IF(MID($G$127,8,2)="PF",CX131,0) -> 0 | DA163: =DA151+DA143-IF(MID($G$127,8,2)="PF",DA131,0) -> 0 | DD163: =DD151+DD143-IF(MID($G$127,8,2)="PF",DD131,0) -> 0
T165: =VLOOKUP(G163,PL!$B$9:$BH$1265,33,FALSE) -> .
C167: =C163+1 -> 13 | G167: =IF(AL167=0,"N/A","AXE_NST_8_PP") -> N/A | T167: =VLOOKUP(G167,PL!$B$9:$BH$1265,14,FALSE) -> No Item | AL167: =ROUND(SUM(BK167:DF167)*(1+$BF$72),0) -> 0 | AR167: =VLOOKUP(G167,PL!$B$9:$BH$818,52,FALSE) -> - | BK167: =BK163 -> 0 | BN167: =BN163 -> 0 | BQ167: =BQ163 -> 0 | BT167: =BT163 -> 0 | BW167: =BW163 -> 0 | BZ167: =BZ163 -> 0 | CC167: =CC163 -> 0 | CF167: =CF163 -> 0 | CI167: =CI163 -> 0 | CL167: =CL163 -> 0 | CO167: =CO163 -> 0 | CR167: =CR163 -> 0 | CU167: =CU163 -> 0 | CX167: =CX163 -> 0 | DA167: =DA163 -> 0 | DD167: =DD163 -> 0
T169: =VLOOKUP(G167,PL!$B$9:$BH$1265,33,FALSE) -> .
C171: =C167+1 -> 14 | G171: =IF(AL171=0,"N/A","AXE_NE_8_SS") -> N/A | T171: =VLOOKUP(G171,PL!$B$9:$BH$1265,14,FALSE) -> No Item | AL171: =ROUND(SUM(BK171:DF171)*(1+$BF$72),0) -> 0 | AR171: =VLOOKUP(G171,PL!$B$9:$BH$818,52,FALSE) -> - | BK171: =IF($N$74="Angles",0,BK135*2) -> 0 | BN171: =IF($N$74="Angles",0,BN135*2) -> 0 | BQ171: =IF($N$74="Angles",0,BQ135*2) -> 0 | BT171: =IF($N$74="Angles",0,BT135*2) -> 0 | BW171: =IF($N$74="Angles",0,BW135*2) -> 0 | BZ171: =IF($N$74="Angles",0,BZ135*2) -> 0 | CC171: =IF($N$74="Angles",0,CC135*2) -> 0 | CF171: =IF($N$74="Angles",0,CF135*2) -> 0 | CI171: =IF($N$74="Angles",0,CI135*2) -> 0 | CL171: =IF($N$74="Angles",0,CL135*2) -> 0 | CO171: =IF($N$74="Angles",0,CO135*2) -> 0 | CR171: =IF($N$74="Angles",0,CR135*2) -> 0 | CU171: =IF($N$74="Angles",0,CU135*2) -> 0 | CX171: =IF($N$74="Angles",0,CX135*2) -> 0 | DA171: =IF($N$74="Angles",0,DA135*2) -> 0 | DD171: =IF($N$74="Angles",0,DD135*2) -> 0
T173: =VLOOKUP(G171,PL!$B$9:$BH$1265,33,FALSE) -> .
C175: =C171+1 -> 15 | G175: =IF(AL175=0,"N/A","AXE_RW_C_5_SS") -> N/A | T175: =VLOOKUP(G175,PL!$B$9:$BH$1265,14,FALSE) -> No Item | AL175: =ROUND(SUM(BK175:DF175)*(1+$BF$72),0) -> 0 | AR175: =VLOOKUP(G175,PL!$B$9:$BH$818,52,FALSE) -> - | BK175: =BK179*4 -> 0 | BN175: =BN179*4 -> 0 | BQ175: =BQ179*4 -> 0 | BT175: =BT179*4 -> 0 | BW175: =BW179*4 -> 0 | BZ175: =BZ179*4 -> 0 | CC175: =CC179*4 -> 0 | CF175: =CF179*4 -> 0 | CI175: =CI179*4 -> 0 | CL175: =CL179*4 -> 0 | CO175: =CO179*4 -> 0 | CR175: =CR179*4 -> 0 | CU175: =CU179*4 -> 0 | CX175: =CX179*4 -> 0 | DA175: =DA179*4 -> 0 | DD175: =DD179*4 -> 0
T177: =VLOOKUP(G175,PL!$B$9:$BH$1265,33,FALSE) -> .
C179: =C175+1 -> 16 | G179: =IF(AL179=0,"N/A","AXE_RW_B_6_SS") -> N/A | T179: =VLOOKUP(G179,PL!$B$9:$BH$1265,14,FALSE) -> No Item | AL179: =ROUND(SUM(BK179:DF179)*(1+$BF$72),0) -> 0 | AR179: =VLOOKUP(G179,PL!$B$9:$BH$818,52,FALSE) -> - | BK179: =IF($N$74="Cables",BK135,0) -> 0 | BN179: =IF($N$74="Cables",BN135,0) -> 0 | BQ179: =IF($N$74="Cables",BQ135,0) -> 0 | BT179: =IF($N$74="Cables",BT135,0) -> 0 | BW179: =IF($N$74="Cables",BW135,0) -> 0 | BZ179: =IF($N$74="Cables",BZ135,0) -> 0 | CC179: =IF($N$74="Cables",CC135,0) -> 0 | CF179: =IF($N$74="Cables",CF135,0) -> 0 | CI179: =IF($N$74="Cables",CI135,0) -> 0 | CL179: =IF($N$74="Cables",CL135,0) -> 0 | CO179: =IF($N$74="Cables",CO135,0) -> 0 | CR179: =IF($N$74="Cables",CR135,0) -> 0 | CU179: =IF($N$74="Cables",CU135,0) -> 0 | CX179: =IF($N$74="Cables",CX135,0) -> 0 | DA179: =IF($N$74="Cables",DA135,0) -> 0 | DD179: =IF($N$74="Cables",DD135,0) -> 0
T181: =VLOOKUP(G179,PL!$B$9:$BH$1265,33,FALSE) -> .
C183: =C179+1 -> 17 | G183: =IF(AL183=0,"N/A","AXE_ST_6.3_22_SC") -> AXE_ST_6.3_22_SC | T183: =VLOOKUP(G183,PL!$B$9:$BH$1265,14,FALSE) -> Self Drilling Tek Screw | AL183: =ROUND(SUM(BK183:DF183)*(1+$BF$72),0) -> 1664 | AR183: =VLOOKUP(G183,PL!$B$9:$BH$818,52,FALSE) -> SOL-5952 | BK183: =IF(OR(MID($G$127,8,2)="IB",MID($G$127,8,2)="RS",MID($G$127,8,2)="CO"),BK127*4, IF(MID($G$127,8,2)="RF",BK127*2,0)) -> 1600 | BN183: =IF(OR(MID($G$127,8,2)="IB",MID($G$127,8,2)="RS",MID($G$127,8,2)="CO"),BN127*4, IF(MID($G$127,8,2)="RF",BN127*2,0)) -> 0 | BQ183: =IF(OR(MID($G$127,8,2)="IB",MID($G$127,8,2)="RS",MID($G$127,8,2)="CO"),BQ127*4, IF(MID($G$127,8,2)="RF",BQ127*2,0)) -> 0 | BT183: =IF(OR(MID($G$127,8,2)="IB",MID($G$127,8,2)="RS",MID($G$127,8,2)="CO"),BT127*4, IF(MID($G$127,8,2)="RF",BT127*2,0)) -> 0 | BW183: =IF(OR(MID($G$127,8,2)="IB",MID($G$127,8,2)="RS",MID($G$127,8,2)="CO"),BW127*4, IF(MID($G$127,8,2)="RF",BW127*2,0)) -> 0 | BZ183: =IF(OR(MID($G$127,8,2)="IB",MID($G$127,8,2)="RS",MID($G$127,8,2)="CO"),BZ127*4, IF(MID($G$127,8,2)="RF",BZ127*2,0)) -> 0 | CC183: =IF(OR(MID($G$127,8,2)="IB",MID($G$127,8,2)="RS",MID($G$127,8,2)="CO"),CC127*4, IF(MID($G$127,8,2)="RF",CC127*2,0)) -> 0 | CF183: =IF(OR(MID($G$127,8,2)="IB",MID($G$127,8,2)="RS",MID($G$127,8,2)="CO"),CF127*4, IF(MID($G$127,8,2)="RF",CF127*2,0)) -> 0 | CI183: =IF(OR(MID($G$127,8,2)="IB",MID($G$127,8,2)="RS",MID($G$127,8,2)="CO"),CI127*4, IF(MID($G$127,8,2)="RF",CI127*2,0)) -> 0 | CL183: =IF(OR(MID($G$127,8,2)="IB",MID($G$127,8,2)="RS",MID($G$127,8,2)="CO"),CL127*4, IF(MID($G$127,8,2)="RF",CL127*2,0)) -> 0 | CO183: =IF(OR(MID($G$127,8,2)="IB",MID($G$127,8,2)="RS",MID($G$127,8,2)="CO"),CO127*4, IF(MID($G$127,8,2)="RF",CO127*2,0)) -> 0 | CR183: =IF(OR(MID($G$127,8,2)="IB",MID($G$127,8,2)="RS",MID($G$127,8,2)="CO"),CR127*4, IF(MID($G$127,8,2)="RF",CR127*2,0)) -> 0 | CU183: =IF(OR(MID($G$127,8,2)="IB",MID($G$127,8,2)="RS",MID($G$127,8,2)="CO"),CU127*4, IF(MID($G$127,8,2)="RF",CU127*2,0)) -> 0 | CX183: =IF(OR(MID($G$127,8,2)="IB",MID($G$127,8,2)="RS",MID($G$127,8,2)="CO"),CX127*4, IF(MID($G$127,8,2)="RF",CX127*2,0)) -> 0 | DA183: =IF(OR(MID($G$127,8,2)="IB",MID($G$127,8,2)="RS",MID($G$127,8,2)="CO"),DA127*4, IF(MID($G$127,8,2)="RF",DA127*2,0)) -> 0 | DD183: =IF(OR(MID($G$127,8,2)="IB",MID($G$127,8,2)="RS",MID($G$127,8,2)="CO"),DD127*4, IF(MID($G$127,8,2)="RF",DD127*2,0)) -> 0
T185: =VLOOKUP(G183,PL!$B$9:$BH$1265,33,FALSE) -> Class4 Coated Steel, M6.3x22
C187: =C183+1 -> 18 | G187: =IF(AL187=0,"N/A","AXE_ST_5.5_85_SC") -> N/A | T187: =VLOOKUP(G187,PL!$B$9:$BH$1265,14,FALSE) -> No Item | AL187: =ROUND(SUM(BK187:DF187)*(1+$BF$72),0) -> 0 | AR187: =VLOOKUP(G187,PL!$B$9:$BH$818,52,FALSE) -> - | BK187: =IF(MID($G$127,8,1)="L",IF($AO$35="Flat Surface",0,BK127),0) -> 0 | BN187: =IF(MID($G$127,8,1)="L",IF($AO$35="Flat Surface",0,BN127),0) -> 0 | BQ187: =IF(MID($G$127,8,1)="L",IF($AO$35="Flat Surface",0,BQ127),0) -> 0 | BT187: =IF(MID($G$127,8,1)="L",IF($AO$35="Flat Surface",0,BT127),0) -> 0 | BW187: =IF(MID($G$127,8,1)="L",IF($AO$35="Flat Surface",0,BW127),0) -> 0 | BZ187: =IF(MID($G$127,8,1)="L",IF($AO$35="Flat Surface",0,BZ127),0) -> 0 | CC187: =IF(MID($G$127,8,1)="L",IF($AO$35="Flat Surface",0,CC127),0) -> 0 | CF187: =IF(MID($G$127,8,1)="L",IF($AO$35="Flat Surface",0,CF127),0) -> 0 | CI187: =IF(MID($G$127,8,1)="L",IF($AO$35="Flat Surface",0,CI127),0) -> 0 | CL187: =IF(MID($G$127,8,1)="L",IF($AO$35="Flat Surface",0,CL127),0) -> 0 | CO187: =IF(MID($G$127,8,1)="L",IF($AO$35="Flat Surface",0,CO127),0) -> 0 | CR187: =IF(MID($G$127,8,1)="L",IF($AO$35="Flat Surface",0,CR127),0) -> 0 | CU187: =IF(MID($G$127,8,1)="L",IF($AO$35="Flat Surface",0,CU127),0) -> 0 | CX187: =IF(MID($G$127,8,1)="L",IF($AO$35="Flat Surface",0,CX127),0) -> 0 | DA187: =IF(MID($G$127,8,1)="L",IF($AO$35="Flat Surface",0,DA127),0) -> 0 | DD187: =IF(MID($G$127,8,1)="L",IF($AO$35="Flat Surface",0,DD127),0) -> 0
T189: =VLOOKUP(G187,PL!$B$9:$BH$1265,33,FALSE) -> .
C191: =C187+1 -> 19 | G191: =IF(AL191=0,"N/A","AXE_RW_G_TT") -> N/A | T191: =VLOOKUP(G191,PL!$B$9:$BH$1265,14,FALSE) -> No Item | AL191: =SUM(BK191:DF191) -> 0 | AR191: =VLOOKUP(G191,PL!$B$9:$BH$818,52,FALSE) -> - | BK191: =IF($N$74="Gripple",1,0) -> 0
T193: =VLOOKUP(G191,PL!$B$9:$BH$1265,33,FALSE) -> .
C195: =C191+1 -> 20 | G195: =IF(AL195=0,"N/A","Anti_Seize_S") -> N/A | T195: =VLOOKUP(G195,PL!$B$9:$BH$1265,14,FALSE) -> No Item | AL195: =SUM(BK195:DF195) -> 0 | AR195: =VLOOKUP(G195,PL!$B$9:$BH$818,52,FALSE) -> - | BK195: =IF($N$70="Not Included",ROUNDUP(SUM(BK123:DF123)/1000,0),0) -> 0
T197: =VLOOKUP(G195,PL!$B$9:$BH$1265,33,FALSE) -> .
C199: =C195+1 -> 21 | G199: N/A | T199: =VLOOKUP(G199,PL!$B$9:$BH$1265,14,FALSE) -> No Item | AL199: 0 | AR199: =VLOOKUP(G199,PL!$B$9:$BH$818,52,FALSE) -> -
A205: This quotation is valid for a period of 10 days and subject to stock availability. Delivery location and site conditions can affect the price
A208: Thank you for affording us the opportunity to submit a quote. We trust that the above meets with your favourable approval and we look forward to being of service to you.

Sheet QU RT TL RL
C1: #VALUE! | AN1: Axe Struct (Pty) Ltd | BK1: Brownbuilt
BK2: Brownbuilt (Pinch)
AN3: VAT no.: 4470284136 Reg. no.: 2018/528173/07 | BK3: Corrugated
BK4: Corrugated (L-bracket)
AN5: Tel: +27 (0)10 880 0220 Email: info@axestruct.com | BK5: Corrugated (Rib Surface)
BK6: Corrugated (Ridge)
AN7: www.axestruct.com | BK7: Craft-Lock
BK8: Dimondek
BK9: Dimondek (Pinch)
A10: Provisional Quotation | BK10: Dimondek (Stand Rib)
AN11: Document No.: | AX11: QU RT TL RL | BK11: Flat Surface
BK12: IBR
AN13: Revision: | AX13: 1 | BK13: IBR (L-bracket)
BK14: IBR (Rib Surface)
BK15: IBR (Ridge)
BK16: Klip-Lok
C17: Client: | Y17: Project: | AT17: Date: | AX17: =TODAY() -> 45960 | BK17: Novotexi
BK18: ProLok
BK19: Saflok
BK20: Springlok
T21: ="Roof Top Tilted Railless ("&$AO$35&")" -> Roof Top Tilted Railless (IBR) | BK21: Zip-Tek
C25: Project specifications | AF25: Plant specifications
C28: Capacity | T28: =(J43*BC43)/1000 & " kWp" -> 60 kWp | AF28: Orientation | AO28: Landscape
BK30: 10 | BM30: 1198 | BP30: 1351
C31: Installation type | T31: Tilted Railless | AF31: Angle | AO31: 10 | AQ31: ⁰ Tilt mounted | AX31: =LOOKUP(AO31,BK30:BK35,IF(AE45<1150,BM30:BM35,BP30:BP35)) -> 1198 | BA31: mm | BC31: Back to front bracket pitch | BK31: 15 | BM31: 1222 | BP31: 1377
BK32: 20 | BM32: 1256 | BP32: 1415
BK33: 25 | BM33: 1302 | BP33: 1467
AF34: Fixing | BK34: 30 | BM34: 1363 | BP34: 1536
AO35: IBR
B39: Solar panel specifications
C43: Number | J43: =M54*M58+P54*P58+S54*S58+V54*V58+Y54*Y58+AB54*AB58+AE54*AE58+AH54*AH58+AK54*AK58+AN54*AN58+AQ54*AQ58+AT54*AT58+AW54*AW58+AZ54*AZ58+BC54*BC58+BF54*BF58 -> 100 | Q43: Type | W43: JA SOLAR JAM72S40-600 | AV43: Rating | BC43: 600
W45: 2278 | AA45: mm (L) | AE45: 1134 | AI45: mm (B) | AM45: 30 | AQ45: mm (H)
B48: Configuration
M51: 1 | P51: 2 | S51: 3 | V51: 4 | Y51: 5 | AB51: 6 | AE51: 7 | AH51: 8 | AK51: 9 | AN51: 10 | AQ51: 11 | AT51: 12 | AW51: 13 | AZ51: 14 | BC51: 15 | BF51: 16
C54: Rows | M54: 10 | P54: 0 | S54: 0 | V54: 0 | Y54: 0 | AB54: 0 | AE54: 0 | AH54: 0 | AK54: 0 | AN54: 0 | AQ54: 0 | AT54: 0 | AW54: 0 | AZ54: 0 | BC54: 0 | BF54: 0
C58: Modules/Row | M58: 10 | P58: 0 | S58: 0 | V58: 0 | Y58: 0 | AB58: 0 | AE58: 0 | AH58: 0 | AK58: 0 | AN58: 0 | AQ58: 0 | AT58: 0 | AW58: 0 | AZ58: 0 | BC58: 0 | BF58: 0
B62: Additions | AR62: Over supply
C65: Wire management Cable to Panel clip
N66: Not Included | AS66: Rails/Brackets/ | BF66: 0.02
AS68: Clips
AS72: Fasteners/Extensions | BF72: 0.04
AS76: End Clamps | BF76: 0.03
A81: Materials specified for atmospheric corrosion category up to C4 as per ISO 9223. Please consult for environments with more aggressive ratings.
T110: ="Roof Top Tilted Railless ("&$AO$35&")" -> Roof Top Tilted Railless (IBR)
C114: No | G114: Product Code | T114: Description of Goods | AL114: Qnty | AQ114: ARB SKU
BK115: 1 | BN115: 2 | BQ115: 3 | BT115: 4 | BW115: 5 | BZ115: 6 | CC115: 7 | CF115: 8 | CI115: 9 | CL115: 10 | CO115: 11 | CR115: 12 | CU115: 13 | CX115: 14 | DA115: 15 | DD115: 16
C119: 1 | G119: ="AXE_F_TL_RL_"&$AO$31&"_AL" -> AXE_F_TL_RL_10_AL | T119: =VLOOKUP(G119,PL!$B$9:$BH$1265,14,FALSE) -> Tilted Frame | AL119: =SUM(BK119:DF120) -> 200 | AR119: =VLOOKUP(G119,PL!$B$9:$BH$818,52,FALSE) -> 0 | BK119: =M58*2*M54 -> 200 | BN119: =P58*2*P54 -> 0 | BQ119: =S58*2*S54 -> 0 | BT119: =V58*2*V54 -> 0 | BW119: =Y58*2*Y54 -> 0 | BZ119: =AB58*2*AB54 -> 0 | CC119: =AE58*2*AE54 -> 0 | CF119: =AH58*2*AH54 -> 0 | CI119: =AK58*2*AK54 -> 0 | CL119: =AN58*2*AN54 -> 0 | CO119: =AQ58*2*AQ54 -> 0 | CR119: =AT58*2*AT54 -> 0 | CU119: =AW58*2*AW54 -> 0 | CX119: =AZ58*2*AZ54 -> 0 | DA119: =BC58*2*BC54 -> 0 | DD119: =BF58*2*BF54 -> 0
T121: =VLOOKUP(G119,PL!$B$9:$BH$1265,33,FALSE) -> Aluminium, Railless, 10deg
C123: =C119+1 -> 2 | G123: =IF(AL123=0,"N/A","AXE_BR_SW_RL"&"_AL") -> AXE_BR_SW_RL_AL | T123: =VLOOKUP(G123,PL!$B$9:$BH$1265,14,FALSE) -> Swivel Bracket | AL123: =ROUND(SUM(BK123:DF123)*(1+$BF$66),0) -> 204 | AR123: =VLOOKUP(G123,PL!$B$9:$BH$818,52,FALSE) -> SOL-580703 | BK123: =BK119 -> 200 | BN123: =BN119 -> 0 | BQ123: =BQ119 -> 0 | BT123: =BT119 -> 0 | BW123: =BW119 -> 0 | BZ123: =BZ119 -> 0 | CC123: =CC119 -> 0 | CF123: =CF119 -> 0 | CI123: =CI119 -> 0 | CL123: =CL119 -> 0 | CO123: =CO119 -> 0 | CR123: =CR119 -> 0 | CU123: =CU119 -> 0 | CX123: =CX119 -> 0 | DA123: =DA119 -> 0 | DD123: =DD119 -> 0
T125: =VLOOKUP(G123,PL!$B$9:$BH$1265,33,FALSE) -> Aluminium, Railless
C127: =C123+1 -> 3 | G127: =IF(AL127=0,"N/A","AXE_CE_AP_"&$AM$45&"_AL") -> AXE_CE_AP_30_AL | T127: =VLOOKUP(G127,PL!$B$9:$BH$1265,14,FALSE) -> End Clamp | AL127: =ROUND(SUM(BK127:DF127)*(1+$BF$76),0) -> 412 | AR127: =VLOOKUP(G127,PL!$B$9:$BH$818,52,FALSE) -> SOL-58011 | BK127: =M58*4*M54 -> 400 | BN127: =P58*4*P54 -> 0 | BQ127: =S58*4*S54 -> 0 | BT127: =V58*4*V54 -> 0 | BW127: =Y58*4*Y54 -> 0 | BZ127: =AB58*4*AB54 -> 0 | CC127: =AE58*4*AE54 -> 0 | CF127: =AH58*4*AH54 -> 0 | CI127: =AK58*4*AK54 -> 0 | CL127: =AN58*4*AN54 -> 0 | CO127: =AQ58*4*AQ54 -> 0 | CR127: =AT58*4*AT54 -> 0 | CU127: =AW58*4*AW54 -> 0 | CX127: =AZ58*4*AZ54 -> 0 | DA127: =BC58*4*BC54 -> 0 | DD127: =BF58*4*BF54 -> 0
T129: =VLOOKUP(G127,PL!$B$9:$BH$1265,33,FALSE) -> Aluminium, All purpose, 30mm high
C131: =C127+1 -> 4 | G131: ="AXE_BR_"&IF($AO$35="Corrugated","COR_H", IF(OR($AO$35="Corrugated (L-bracket)",$AO$35="IBR (L-bracket)"),"L_R", IF(OR($AO$35="Corrugated (Rib Surface)",$AO$35="IBR (Rib Surface)"),"RS_H", IF(OR($AO$35="Corrugated (Ridge)",$AO$35="IBR (Ridge)"),"RF_H", IF($AO$35="IBR","IBR_H", IF($AO$35="Craft-Lock","CL_H", IF(OR($AO$35="Klip-Lok",$AO$35="ProLok",$AO$35="Saflok"),"FL_H", IF($AO$35="Springlok","SL_H", IF($AO$35="Novotexi","NT_H", IF(OR($AO$35="Brownbuilt",$AO$35="Dimondek"),"GL_H", IF(OR($AO$35="Brownbuilt (Pinch)",$AO$35="Dimondek (Pinch)"),"PF_H", IF(OR($AO$35="Dimondek (Stand Rib)",$AO$35="Zip-Tek"),"SR_H","L_S"))))))))))))&"_AL" -> AXE_BR_IBR_H_AL | T131: =VLOOKUP(G131,PL!$B$9:$BH$1265,14,FALSE) -> IBR Bracket | AL131: =ROUND(SUM(BK131:DF131)*(1+$BF$66),0) -> 408 | AR131: =VLOOKUP(G131,PL!$B$9:$BH$818,52,FALSE) -> SOL-59020 | BK131: =IF($AO$35="Flat Surface",0,M58*4*M54) -> 400 | BN131: =IF($AO$35="Flat Surface",0,P58*4*P54) -> 0 | BQ131: =IF($AO$35="Flat Surface",0,S58*4*S54) -> 0 | BT131: =IF($AO$35="Flat Surface",0,V58*4*V54) -> 0 | BW131: =IF($AO$35="Flat Surface",0,Y58*4*Y54) -> 0 | BZ131: =IF($AO$35="Flat Surface",0,AB58*4*AB54) -> 0 | CC131: =IF($AO$35="Flat Surface",0,AE58*4*AE54) -> 0 | CF131: =IF($AO$35="Flat Surface",0,AH58*4*AH54) -> 0 | CI131: =IF($AO$35="Flat Surface",0,AK58*4*AK54) -> 0 | CL131: =IF($AO$35="Flat Surface",0,AN58*4*AN54) -> 0 | CO131: =IF($AO$35="Flat Surface",0,AQ58*4*AQ54) -> 0 | CR131: =IF($AO$35="Flat Surface",0,AT58*4*AT54) -> 0 | CU131: =IF($AO$35="Flat Surface",0,AW58*4*AW54) -> 0 | CX131: =IF($AO$35="Flat Surface",0,AZ58*4*AZ54) -> 0 | DA131: =IF($AO$35="Flat Surface",0,BC58*4*BC54) -> 0 | DD131: =IF($AO$35="Flat Surface",0,BF58*4*BF54) -> 0
T133: =VLOOKUP(G131,PL!$B$9:$BH$1265,33,FALSE) -> Aluminium, Horizontal
C135: =C131+1 -> 5 | G135: =IF(AL135=0,"N/A","AXE_CC_SS") -> N/A | T135: =VLOOKUP(G135,PL!$B$9:$BH$1265,14,FALSE) -> No Item | AL135: =ROUND(SUM(BK135:DF135)*(1+$BF$66),0) -> 0 | AR135: =VLOOKUP(G135,PL!$B$9:$BH$818,52,FALSE) -> - | BK135: =IF($N$66="Included",1,0)*M58*M54 -> 0 | BN135: =IF($N$66="Included",1,0)*P58*P54 -> 0 | BQ135: =IF($N$66="Included",1,0)*S58*S54 -> 0 | BT135: =IF($N$66="Included",1,0)*V58*V54 -> 0 | BW135: =IF($N$66="Included",1,0)*Y58*Y54 -> 0 | BZ135: =IF($N$66="Included",1,0)*AB58*AB54 -> 0 | CC135: =IF($N$66="Included",1,0)*AE58*AE54 -> 0 | CF135: =IF($N$66="Included",1,0)*AH58*AH54 -> 0 | CI135: =IF($N$66="Included",1,0)*AK58*AK54 -> 0 | CL135: =IF($N$66="Included",1,0)*AN58*AN54 -> 0 | CO135: =IF($N$66="Included",1,0)*AQ58*AQ54 -> 0 | CR135: =IF($N$66="Included",1,0)*AT58*AT54 -> 0 | CU135: =IF($N$66="Included",1,0)*AW58*AW54 -> 0 | CX135: =IF($N$66="Included",1,0)*AZ58*AZ54 -> 0 | DA135: =IF($N$66="Included",1,0)*BC58*BC54 -> 0 | DD135: =IF($N$66="Included",1,0)*BF58*BF54 -> 0
T137: =VLOOKUP(G135,PL!$B$9:$BH$1265,33,FALSE) -> .
C139: =C135+1 -> 6 | G139: =IF(AL139=0,"N/A","AXE_CS_8_20"&"_SS") -> N/A | T139: =VLOOKUP(G139,PL!$B$9:$BH$1265,14,FALSE) -> No Item | AL139: =ROUND(SUM(BK139:DF139)*(1+$BF$72),0) -> 0 | AR139: =VLOOKUP(G139,PL!$B$9:$BH$818,52,FALSE) -> - | BK139: =IF(OR(MID($G$131,8,2)="PF",MID($G$131,8,2)="RS",MID($G$131,8,2)="RF"),BK131,0) -> 0 | BN139: =IF(OR(MID($G$131,8,2)="PF",MID($G$131,8,2)="RS",MID($G$131,8,2)="RF"),BN131,0) -> 0 | BQ139: =IF(OR(MID($G$131,8,2)="PF",MID($G$131,8,2)="RS",MID($G$131,8,2)="RF"),BQ131,0) -> 0 | BT139: =IF(OR(MID($G$131,8,2)="PF",MID($G$131,8,2)="RS",MID($G$131,8,2)="RF"),BT131,0) -> 0 | BW139: =IF(OR(MID($G$131,8,2)="PF",MID($G$131,8,2)="RS",MID($G$131,8,2)="RF"),BW131,0) -> 0 | BZ139: =IF(OR(MID($G$131,8,2)="PF",MID($G$131,8,2)="RS",MID($G$131,8,2)="RF"),BZ131,0) -> 0 | CC139: =IF(OR(MID($G$131,8,2)="PF",MID($G$131,8,2)="RS",MID($G$131,8,2)="RF"),CC131,0) -> 0 | CF139: =IF(OR(MID($G$131,8,2)="PF",MID($G$131,8,2)="RS",MID($G$131,8,2)="RF"),CF131,0) -> 0 | CI139: =IF(OR(MID($G$131,8,2)="PF",MID($G$131,8,2)="RS",MID($G$131,8,2)="RF"),CI131,0) -> 0 | CL139: =IF(OR(MID($G$131,8,2)="PF",MID($G$131,8,2)="RS",MID($G$131,8,2)="RF"),CL131,0) -> 0 | CO139: =IF(OR(MID($G$131,8,2)="PF",MID($G$131,8,2)="RS",MID($G$131,8,2)="RF"),CO131,0) -> 0 | CR139: =IF(OR(MID($G$131,8,2)="PF",MID($G$131,8,2)="RS",MID($G$131,8,2)="RF"),CR131,0) -> 0 | CU139: =IF(OR(MID($G$131,8,2)="PF",MID($G$131,8,2)="RS",MID($G$131,8,2)="RF"),CU131,0) -> 0 | CX139: =IF(OR(MID($G$131,8,2)="PF",MID($G$131,8,2)="RS",MID($G$131,8,2)="RF"),CX131,0) -> 0 | DA139: =IF(OR(MID($G$131,8,2)="PF",MID($G$131,8,2)="RS",MID($G$131,8,2)="RF"),DA131,0) -> 0 | DD139: =IF(OR(MID($G$131,8,2)="PF",MID($G$131,8,2)="RS",MID($G$131,8,2)="RF"),DD131,0) -> 0
T141: =VLOOKUP(G139,PL!$B$9:$BH$1265,33,FALSE) -> .
C143: =C139+1 -> 7 | G143: =IF(AL143=0,"N/A","AXE_CS_8_"&IF(OR(MID($G$131,8,2)="PF",MID($G$131,8,2)="RS",MID($G$131,8,2)="RF"),20,25)&"_SS") -> AXE_CS_8_25_SS | T143: =VLOOKUP(G143,PL!$B$9:$BH$1265,14,FALSE) -> Cap Screws Hexagon | AL143: =ROUND(SUM(BK143:DF143)*(1+$BF$72),0) -> 416 | AR143: =VLOOKUP(G143,PL!$B$9:$BH$818,52,FALSE) -> SOL-59501 | BK143: =IF(OR(MID($G$131,8,2)="PF",MID($G$131,8,2)="RS",MID($G$131,8,2)="RF"),0,BK131) -> 400 | BN143: =IF(OR(MID($G$131,8,2)="PF",MID($G$131,8,2)="RS",MID($G$131,8,2)="RF"),0,BN131) -> 0 | BQ143: =IF(OR(MID($G$131,8,2)="PF",MID($G$131,8,2)="RS",MID($G$131,8,2)="RF"),0,BQ131) -> 0 | BT143: =IF(OR(MID($G$131,8,2)="PF",MID($G$131,8,2)="RS",MID($G$131,8,2)="RF"),0,BT131) -> 0 | BW143: =IF(OR(MID($G$131,8,2)="PF",MID($G$131,8,2)="RS",MID($G$131,8,2)="RF"),0,BW131) -> 0 | BZ143: =IF(OR(MID($G$131,8,2)="PF",MID($G$131,8,2)="RS",MID($G$131,8,2)="RF"),0,BZ131) -> 0 | CC143: =IF(OR(MID($G$131,8,2)="PF",MID($G$131,8,2)="RS",MID($G$131,8,2)="RF"),0,CC131) -> 0 | CF143: =IF(OR(MID($G$131,8,2)="PF",MID($G$131,8,2)="RS",MID($G$131,8,2)="RF"),0,CF131) -> 0 | CI143: =IF(OR(MID($G$131,8,2)="PF",MID($G$131,8,2)="RS",MID($G$131,8,2)="RF"),0,CI131) -> 0 | CL143: =IF(OR(MID($G$131,8,2)="PF",MID($G$131,8,2)="RS",MID($G$131,8,2)="RF"),0,CL131) -> 0 | CO143: =IF(OR(MID($G$131,8,2)="PF",MID($G$131,8,2)="RS",MID($G$131,8,2)="RF"),0,CO131) -> 0 | CR143: =IF(OR(MID($G$131,8,2)="PF",MID($G$131,8,2)="RS",MID($G$131,8,2)="RF"),0,CR131) -> 0 | CU143: =IF(OR(MID($G$131,8,2)="PF",MID($G$131,8,2)="RS",MID($G$131,8,2)="RF"),0,CU131) -> 0 | CX143: =IF(OR(MID($G$131,8,2)="PF",MID($G$131,8,2)="RS",MID($G$131,8,2)="RF"),0,CX131) -> 0 | DA143: =IF(OR(MID($G$131,8,2)="PF",MID($G$131,8,2)="RS",MID($G$131,8,2)="RF"),0,DA131) -> 0 | DD143: =IF(OR(MID($G$131,8,2)="PF",MID($G$131,8,2)="RS",MID($G$131,8,2)="RF"),0,DD131) -> 0
T145: =VLOOKUP(G143,PL!$B$9:$BH$1265,33,FALSE) -> Stainless Steel, M8x25
C147: =C143+1 -> 8 | G147: =IF(AL147=0,"N/A","AXE_CS_8_"&$AM$45&"_SS") -> AXE_CS_8_30_SS | T147: =VLOOKUP(G147,PL!$B$9:$BH$1265,14,FALSE) -> Cap Screws Hexagon | AL147: =ROUND(SUM(BK147:DF147)*(1+$BF$72),0) -> 416 | AR147: =VLOOKUP(G147,PL!$B$9:$BH$818,52,FALSE) -> SOL-5950 | BK147: =BK127 -> 400 | BN147: =BN127 -> 0 | BQ147: =BQ127 -> 0 | BT147: =BT127 -> 0 | BW147: =BW127 -> 0 | BZ147: =BZ127 -> 0 | CC147: =CC127 -> 0 | CF147: =CF127 -> 0 | CI147: =CI127 -> 0 | CL147: =CL127 -> 0 | CO147: =CO127 -> 0 | CR147: =CR127 -> 0 | CU147: =CU127 -> 0 | CX147: =CX127 -> 0 | DA147: =DA127 -> 0 | DD147: =DD127 -> 0
T149: =VLOOKUP(G147,PL!$B$9:$BH$1265,33,FALSE) -> Stainless Steel, M8x30
C151: =C147+1 -> 9 | G151: =IF(AL151=0,"N/A","AXE_WS_8"&"_SS") -> AXE_WS_8_SS | T151: =VLOOKUP(G151,PL!$B$9:$BH$1265,14,FALSE) -> Spring Washer | AL151: =ROUND(SUM(BK151:DF151)*(1+$BF$72),0) -> 832 | AR151: =VLOOKUP(G151,PL!$B$9:$BH$818,52,FALSE) -> SOL-5951 | BK151: =BK147+BK143 -> 800 | BN151: =BN147+BN143 -> 0 | BQ151: =BQ147+BQ143 -> 0 | BT151: =BT147+BT143 -> 0 | BW151: =BW147+BW143 -> 0 | BZ151: =BZ147+BZ143 -> 0 | CC151: =CC147+CC143 -> 0 | CF151: =CF147+CF143 -> 0 | CI151: =CI147+CI143 -> 0 | CL151: =CL147+CL143 -> 0 | CO151: =CO147+CO143 -> 0 | CR151: =CR147+CR143 -> 0 | CU151: =CU147+CU143 -> 0 | CX151: =CX147+CX143 -> 0 | DA151: =DA147+DA143 -> 0 | DD151: =DD147+DD143 -> 0
T153: =VLOOKUP(G151,PL!$B$9:$BH$1265,33,FALSE) -> Stainless Steel, M8
C155: =C151+1 -> 10 | G155: =IF(AL155=0,"N/A","AXE_NHF_8_SS") -> AXE_NHF_8_SS | T155: =VLOOKUP(G155,PL!$B$9:$BH$1265,14,FALSE) -> Hex Flange Nut | AL155: =ROUND(SUM(BK155:DF155)*(1+$BF$72),0) -> 832 | AR155: =VLOOKUP(G155,PL!$B$9:$BH$818,52,FALSE) -> SOL-59530 | BK155: =BK147+BK143 -> 800 | BN155: =BN147+BN143 -> 0 | BQ155: =BQ147+BQ143 -> 0 | BT155: =BT147+BT143 -> 0 | BW155: =BW147+BW143 -> 0 | BZ155: =BZ147+BZ143 -> 0 | CC155: =CC147+CC143 -> 0 | CF155: =CF147+CF143 -> 0 | CI155: =CI147+CI143 -> 0 | CL155: =CL147+CL143 -> 0 | CO155: =CO147+CO143 -> 0 | CR155: =CR147+CR143 -> 0 | CU155: =CU147+CU143 -> 0 | CX155: =CX147+CX143 -> 0 | DA155: =DA147+DA143 -> 0 | DD155: =DD147+DD143 -> 0
T157: =VLOOKUP(G155,PL!$B$9:$BH$1265,33,FALSE) -> Stainless Steel, M8
C159: =C155+1 -> 11 | G159: =IF(AL159=0,"N/A","AXE_NSQ_8_SS") -> N/A | T159: =VLOOKUP(G159,PL!$B$9:$BH$1265,14,FALSE) -> No Item | AL159: =ROUND(SUM(BK159:DF159)*(1+$BF$72),0) -> 0 | AR159: =VLOOKUP(G159,PL!$B$9:$BH$818,52,FALSE) -> - | BK159: =BK139-IF(MID($G$131,8,2)="PF",BK131,0) -> 0 | BN159: =BN139-IF(MID($G$131,8,2)="PF",BN131,0) -> 0 | BQ159: =BQ139-IF(MID($G$131,8,2)="PF",BQ131,0) -> 0 | BT159: =BT139-IF(MID($G$131,8,2)="PF",BT131,0) -> 0 | BW159: =BW139-IF(MID($G$131,8,2)="PF",BW131,0) -> 0 | BZ159: =BZ139-IF(MID($G$131,8,2)="PF",BZ131,0) -> 0 | CC159: =CC139-IF(MID($G$131,8,2)="PF",CC131,0) -> 0 | CF159: =CF139-IF(MID($G$131,8,2)="PF",CF131,0) -> 0 | CI159: =CI139-IF(MID($G$131,8,2)="PF",CI131,0) -> 0 | CL159: =CL139-IF(MID($G$131,8,2)="PF",CL131,0) -> 0 | CO159: =CO139-IF(MID($G$131,8,2)="PF",CO131,0) -> 0 | CR159: =CR139-IF(MID($G$131,8,2)="PF",CR131,0) -> 0 | CU159: =CU139-IF(MID($G$131,8,2)="PF",CU131,0) -> 0 | CX159: =CX139-IF(MID($G$131,8,2)="PF",CX131,0) -> 0 | DA159: =DA139-IF(MID($G$131,8,2)="PF",DA131,0) -> 0 | DD159: =DD139-IF(MID($G$131,8,2)="PF",DD131,0) -> 0
T161: =VLOOKUP(G159,PL!$B$9:$BH$1265,33,FALSE) -> .
C163: =C159+1 -> 12 | G163: =IF(AL163=0,"N/A","AXE_NST_8_PP") -> N/A | T163: =VLOOKUP(G163,PL!$B$9:$BH$1265,14,FALSE) -> No Item | AL163: =ROUND(SUM(BK163:DF163)*(1+$BF$72),0) -> 0 | AR163: =VLOOKUP(G163,PL!$B$9:$BH$818,52,FALSE) -> - | BK163: =BK159 -> 0 | BN163: =BN159 -> 0 | BQ163: =BQ159 -> 0 | BT163: =BT159 -> 0 | BW163: =BW159 -> 0 | BZ163: =BZ159 -> 0 | CC163: =CC159 -> 0 | CF163: =CF159 -> 0 | CI163: =CI159 -> 0 | CL163: =CL159 -> 0 | CO163: =CO159 -> 0 | CR163: =CR159 -> 0 | CU163: =CU159 -> 0 | CX163: =CX159 -> 0 | DA163: =DA159 -> 0 | DD163: =DD159 -> 0
T165: =VLOOKUP(G163,PL!$B$9:$BH$1265,33,FALSE) -> .
C167: =C163+1 -> 13 | G167: =IF(AL167=0,"N/A","AXE_ST_6.3_22_SC") -> N/A | T167: =VLOOKUP(G167,PL!$B$9:$BH$1265,14,FALSE) -> No Item | AL167: =ROUND(SUM(BK167:DF167)*(1+$BF$72),0) -> 0 | AR167: =VLOOKUP(G167,PL!$B$9:$BH$818,52,FALSE) -> - | BK167: =IF(OR(MID($G$143,8,2)="IB",MID($G$143,8,2)="RS",MID($G$143,8,2)="CO"),BK143*4, IF(MID($G$143,8,2)="RF",BK143*2,0)) -> 0 | BN167: =IF(OR(MID($G$143,8,2)="IB",MID($G$143,8,2)="RS",MID($G$143,8,2)="CO"),BN143*4, IF(MID($G$143,8,2)="RF",BN143*2,0)) -> 0 | BQ167: =IF(OR(MID($G$143,8,2)="IB",MID($G$143,8,2)="RS",MID($G$143,8,2)="CO"),BQ143*4, IF(MID($G$143,8,2)="RF",BQ143*2,0)) -> 0 | BT167: =IF(OR(MID($G$143,8,2)="IB",MID($G$143,8,2)="RS",MID($G$143,8,2)="CO"),BT143*4, IF(MID($G$143,8,2)="RF",BT143*2,0)) -> 0 | BW167: =IF(OR(MID($G$143,8,2)="IB",MID($G$143,8,2)="RS",MID($G$143,8,2)="CO"),BW143*4, IF(MID($G$143,8,2)="RF",BW143*2,0)) -> 0 | BZ167: =IF(OR(MID($G$143,8,2)="IB",MID($G$143,8,2)="RS",MID($G$143,8,2)="CO"),BZ143*4, IF(MID($G$143,8,2)="RF",BZ143*2,0)) -> 0 | CC167: =IF(OR(MID($G$143,8,2)="IB",MID($G$143,8,2)="RS",MID($G$143,8,2)="CO"),CC143*4, IF(MID($G$143,8,2)="RF",CC143*2,0)) -> 0 | CF167: =IF(OR(MID($G$143,8,2)="IB",MID($G$143,8,2)="RS",MID($G$143,8,2)="CO"),CF143*4, IF(MID($G$143,8,2)="RF",CF143*2,0)) -> 0 | CI167: =IF(OR(MID($G$143,8,2)="IB",MID($G$143,8,2)="RS",MID($G$143,8,2)="CO"),CI143*4, IF(MID($G$143,8,2)="RF",CI143*2,0)) -> 0 | CL167: =IF(OR(MID($G$143,8,2)="IB",MID($G$143,8,2)="RS",MID($G$143,8,2)="CO"),CL143*4, IF(MID($G$143,8,2)="RF",CL143*2,0)) -> 0 | CO167: =IF(OR(MID($G$143,8,2)="IB",MID($G$143,8,2)="RS",MID($G$143,8,2)="CO"),CO143*4, IF(MID($G$143,8,2)="RF",CO143*2,0)) -> 0 | CR167: =IF(OR(MID($G$143,8,2)="IB",MID($G$143,8,2)="RS",MID($G$143,8,2)="CO"),CR143*4, IF(MID($G$143,8,2)="RF",CR143*2,0)) -> 0 | CU167: =IF(OR(MID($G$143,8,2)="IB",MID($G$143,8,2)="RS",MID($G$143,8,2)="CO"),CU143*4, IF(MID($G$143,8,2)="RF",CU143*2,0)) -> 0 | CX167: =IF(OR(MID($G$143,8,2)="IB",MID($G$143,8,2)="RS",MID($G$143,8,2)="CO"),CX143*4, IF(MID($G$143,8,2)="RF",CX143*2,0)) -> 0 | DA167: =IF(OR(MID($G$143,8,2)="IB",MID($G$143,8,2)="RS",MID($G$143,8,2)="CO"),DA143*4, IF(MID($G$143,8,2)="RF",DA143*2,0)) -> 0 | DD167: =IF(OR(MID($G$143,8,2)="IB",MID($G$143,8,2)="RS",MID($G$143,8,2)="CO"),DD143*4, IF(MID($G$143,8,2)="RF",DD143*2,0)) -> 0
T169: =VLOOKUP(G167,PL!$B$9:$BH$1265,33,FALSE) -> .
C171: =C167+1 -> 14 | G171: =IF(AL171=0,"N/A","AXE_ST_5.5_85_SC") -> N/A | T171: =VLOOKUP(G171,PL!$B$9:$BH$1265,14,FALSE) -> No Item | AL171: =ROUND(SUM(BK171:DF171)*(1+$BF$72),0) -> 0 | AR171: =VLOOKUP(G171,PL!$B$9:$BH$818,52,FALSE) -> - | BK171: =IF(MID($G$131,8,1)="L",IF($AO$35="Flat Surface",0,BK131),0) -> 0 | BN171: =IF(MID($G$131,8,1)="L",IF($AO$35="Flat Surface",0,BN131),0) -> 0 | BQ171: =IF(MID($G$131,8,1)="L",IF($AO$35="Flat Surface",0,BQ131),0) -> 0 | BT171: =IF(MID($G$131,8,1)="L",IF($AO$35="Flat Surface",0,BT131),0) -> 0 | BW171: =IF(MID($G$131,8,1)="L",IF($AO$35="Flat Surface",0,BW131),0) -> 0 | BZ171: =IF(MID($G$131,8,1)="L",IF($AO$35="Flat Surface",0,BZ131),0) -> 0 | CC171: =IF(MID($G$131,8,1)="L",IF($AO$35="Flat Surface",0,CC131),0) -> 0 | CF171: =IF(MID($G$131,8,1)="L",IF($AO$35="Flat Surface",0,CF131),0) -> 0 | CI171: =IF(MID($G$131,8,1)="L",IF($AO$35="Flat Surface",0,CI131),0) -> 0 | CL171: =IF(MID($G$131,8,1)="L",IF($AO$35="Flat Surface",0,CL131),0) -> 0 | CO171: =IF(MID($G$131,8,1)="L",IF($AO$35="Flat Surface",0,CO131),0) -> 0 | CR171: =IF(MID($G$131,8,1)="L",IF($AO$35="Flat Surface",0,CR131),0) -> 0 | CU171: =IF(MID($G$131,8,1)="L",IF($AO$35="Flat Surface",0,CU131),0) -> 0 | CX171: =IF(MID($G$131,8,1)="L",IF($AO$35="Flat Surface",0,CX131),0) -> 0 | DA171: =IF(MID($G$131,8,1)="L",IF($AO$35="Flat Surface",0,DA131),0) -> 0 | DD171: =IF(MID($G$131,8,1)="L",IF($AO$35="Flat Surface",0,DD131),0) -> 0
T173: =VLOOKUP(G171,PL!$B$9:$BH$1265,33,FALSE) -> .
