Workbook

Sheet QU RT WW 
C1: #VALUE! | AN1: Axe Struct (Pty) Ltd | BK1: Brownbuilt
BK2: Brownbuilt (Pinch)
AN3: VAT no.: 4470284136 Reg. no.: 2018/528173/07 | BK3: Corrugated
BK4: Corrugated (Rib Surface)
AN5: Tel: +27 (0)10 880 0220 Email: info@axestruct.com | BK5: Corrugated (Hangerbolt)
BK6: Craft-Lock
AN7: www.axestruct.com | BK7: Dimondek
BK8: Dimondek (Pinch)
BK9: Dimondek (Stand Rib)
A10: Provisional Quotation | BK10: IBR
AN11: Document No.: | AX11: QU RT WW | BK11: IBR (Rib Surface)
BK12: Klip-Lok
AN13: Revision: | AX13: 1 | BK13: Novotexi
BK14: ProLok
BK15: Saflok
BK16: Springlok
C17: Client: | Y17: Project: | AT17: Date: | AX17: =TODAY() -> 45960 | BK17: Zip-Tek
T21: Roof Top Walkway
C25: Across the rib (Perpendicular to rib) | X25: 10 | AB25: m | AF25: Along the rib (Parallel to rib) | BA25: 10 | BE25: m
D28: Angle needed to level out surface | X28: 0 | AB28: deg | AG28: Steps needed to climb angled surface | AZ28: Not Required
B32: Over supply | U32: Bracket selection | AL32: Extension | AY32: Walkway width
BK34: Support length
AL35: Not Included
B36: Fasteners | H36: 0.04 | K36: Brackets | Q36: 0.02 | U36: Roof type | AA36: IBR | AY36: 300 | BK36: =AY36+87 -> 387
AL37: =IF($AL$35="Not Included","5 supports / 5.7m Panel","4 supports / 5.7m Panel") -> 5 supports / 5.7m Panel
A42: Materials specified for atmospheric corrosion category up to C4 as per ISO 9223. Please consult for environments with more aggressive ratings.
AC100: `
BK105: Rail length
T106: Roof Top Walkway
BK107: 5.85
B110: No | F110: Product Code | S110: Description of Goods | AL110: Quantity | AR110: ARB SKU
BK111: Ac. Qnty
B115: 1 | F115: ="AXE_L_WW_5700_"&$AY$36&"_AL" -> AXE_L_WW_5700_300_AL | S115: =VLOOKUP(F115,PL!$B$9:$BH$862,14,FALSE) -> Walkway Panel | AL115: =BK115 -> 4 | AS115: =VLOOKUP(F115,PL!$B$9:$BH$818,52,FALSE) -> 0 | BK115: =ROUNDUP(BA25/5.7,0)+ROUNDUP(X25/5.7,0) -> 4
S117: =VLOOKUP(F115,PL!$B$9:$BH$1265,33,FALSE) -> Aluminium, 5700x300x50 mm
B119: =B115+1 -> 2 | F119: =IF(AL119=0,"N/A","AXE_L_R_40_30_AL") -> AXE_L_R_40_30_AL | S119: =VLOOKUP(F119,PL!$B$9:$BH$862,14,FALSE) -> Rail Profile | AF119: =IF(AL119=0,"","("&BK107&"m)") -> (5.85m) | AL119: =BK119 -> 1 | AS119: =VLOOKUP(F119,PL!$B$9:$BH$818,52,FALSE) -> SOL-580404 | BK119: =IF($AZ$28="Included",0,IF($F$127="AXE_AL_BR_RS_H",0,ROUNDUP(IF($AL$35="Included",ROUNDUP($BA$25/5.7,0)*4,ROUNDUP($BA$25/5.7,0)*5)*$BK$36/1000/$BK$107,0))) -> 1
S121: =VLOOKUP(F119,PL!$B$9:$BH$1265,33,FALSE) -> Aluminium, 40x30
B123: =B119+1 -> 3 | F123: =IF(AL123=0,"N/A",IF(X28>0,"AXE_F_AN_WW_"&X28&"_AL","N/A")) -> N/A | S123: =VLOOKUP(F123,PL!$B$9:$BH$862,14,FALSE) -> No Item | AL123: =BK123 -> 0 | AS123: =VLOOKUP(F123,PL!$B$9:$BH$818,52,FALSE) -> - | BK123: =IF(X28>0,IF($AL$35="Included",ROUNDUP(X25/5.7,0)*4,ROUNDUP(X25/5.7,0)*5)+IF($AZ$28="Not Required",0,ROUNDUP(BA25/0.57,0))*2,0) -> 0
S125: =VLOOKUP(F123,PL!$B$9:$BH$1265,33,FALSE) -> .
B127: =B123+1 -> 4 | F127: =IF(AL127=0,"N/A","AXE_BR_"&IF($AA$36="Corrugated","COR_RD", IF(OR($AA$36="Corrugated (Rib Surface)",$AA$36="IBR (Rib Surface)"),"RS_H", IF($AA$36="Corrugated (Hangerbolt)","HB_RD_W", IF($AA$36="IBR","IBR_RD", IF(OR($AA$36="Klip-Lok",$AA$36="ProLok",$AA$36="Saflok"),"FL_RD", IF($AA$36="Novotexi","NT_RD", IF($AA$36="Springlok","SL_RD", IF(OR($AA$36="Brownbuilt",$AA$36="Dimondek"),"GL_RD", IF(OR($AA$36="Brownbuilt (Pinch)",$AA$36="Dimondek (Pinch)"),"PF_RD", IF($AA$36="Craft-Lock","CL_RD", IF(OR($AA$36="Dimondek (Stand Rib)",$AA$36="Zip-Tek"),"SR_RD",0)))))))))))&"_AL") -> AXE_BR_IBR_RD_AL | S127: =VLOOKUP(F127,PL!$B$9:$BH$862,14,FALSE) -> IBR Bracket | AL127: =ROUND(BK127*(1+$Q$36),0) -> 20 | AS127: =VLOOKUP(F127,PL!$B$9:$BH$818,52,FALSE) -> SOL-5901 | BK127: =IF($AZ$28="Included",0,IF($AL$35="Included",ROUNDUP($BA$25/5.7,0)*8,ROUNDUP($BA$25/5.7,0)*10)) -> 20
S129: =VLOOKUP(F127,PL!$B$9:$BH$1265,33,FALSE) -> Aluminium, Railed
...

Sheet QU RT BL
C1: #VALUE! | AN1: Axe Struct (Pty) Ltd
AN3: VAT no.: 4470284136 Reg. no.: 2018/528173/07
AN5: Tel: +27 (0)10 880 0220 Email: info@axestruct.com
AN7: www.axestruct.com
A10: Provisional Quotation
AN11: Document No.: | AX11: QU RT BL
AN13: Revision: | AX13: 1
C17: Client: | Y17: Project: | AT17: Date: | AX17: =TODAY() -> 45960
T21: ="Roof Top Ballast "&$X$78 -> Roof Top Ballast Frameless
B25: Project specifications | AE25: Plant specifications
C28: Capacity | T28: =(J43*BC43)/1000 & " kWp" -> 60 kWp | AF28: Orientation | AO28: Landscape | AV28: Duo-pitch
BK30: 10 | BM30: 1198 | BP30: 1351
C31: Installation type | T31: Rooftop Ballast | AF31: Angle | AO31: 10 | AQ31: ⁰ Tilt mounted | AX31: =LOOKUP(AO31,BK30:BK35,IF(AE45<1150,BM30:BM35,BP30:BP35)) -> 1198 | BA31: mm | BC31: Back to front connect pitch | BK31: 15 | BM31: 1222 | BP31: 1377
AF34: Interrow Spacing
AO35: 250 | AR35: mm Panel edge horisontal dist.
B39: Solar panel specifications
C43: Number | J43: =M54*M58+P54*P58+S54*S58+V54*V58+Y54*Y58+AB54*AB58+AE54*AE58+AH54*AH58+AK54*AK58+AN54*AN58+AQ54*AQ58+AT54*AT58+AW54*AW58+AZ54*AZ58+BC54*BC58+BF54*BF58 -> 100 | Q43: Type | W43: JA Solar JAM72S40-600/MR | AV43: Rating | BC43: 600
W45: 2278 | AA45: mm (L) | AE45: 1134 | AI45: mm (B) | AM45: 30 | AQ45: mm (H)
B48: Configuration
M51: 1 | P51: 2 | S51: 3 | V51: 4 | Y51: 5 | AB51: 6 | AE51: 7 | AH51: 8 | AK51: 9 | AN51: 10 | AQ51: 11 | AT51: 12 | AW51: 13 | AZ51: 14 | BC51: 15 | BF51: 16
C54: =IF($AV$28="Mono-pitch","Columns","Multiple") -> Multiple | M54: 10 | P54: 0 | S54: 0 | V54: 0 | Y54: 0 | AB54: 0 | AE54: 0 | AH54: 0 | AK54: 0 | AN54: 0 | AQ54: 0 | AT54: 0 | AW54: 0 | AZ54: 0 | BC54: 0 | BF54: 0
C58: =IF($AV$28="Mono-pitch","Modules/Column","Modules along rail") -> Modules along rail | M58: 10 | P58: 0 | S58: 0 | V58: 0 | Y58: 0 | AB58: 0 | AE58: 0 | AH58: 0 | AK58: 0 | AN58: 0 | AQ58: 0 | AT58: 0 | AW58: 0 | AZ58: 0 | BC58: 0 | BF58: 0
BK61: Max rib spacing of this type of roof
C62: Additions | X62: Dimensions | AS62: Over supply
BL65: =IF(OR(AO35="Corrugated (Side)",AO35="Corrugated (Top)",AO35="Corrugated (Hangerbolt)"),76.2*18,IF(AO35="IBR",171.5*8,IF(OR(AO35="Klip-Lok",AO35="ProLok",AO35="Saflok"),233*6,IF(AO35="Brownbuilt",203*7,IF(OR(AO35="Dimondek (Pinch)",AO35="Dimondek (Stand Rib)"),203*7,IF(AO35="Zip-Tek",420*3,IF(AO35="Craft-Lock",350*4,0))))))) -> 0 | BO65: mm
C66: Profile length | N66: Combination | S66: mm | X66: Shading angle | AJ66: =IF(AV28="Duo-pitch","N/A",DEGREES(ATAN(AE45*SIN(RADIANS(AO31))/AO35))) -> N/A | AN66: ⁰ | AS66: Rails/Brackets/ | BF66: 0.02
AS68: Clips
C69: Wire management Cable to Panel clip
N70: Not Included | X70: Row Pitch | AJ70: =IF(AV28="Duo-pitch",AX31*2+AO35+50,AE45*COS(RADIANS(AO31))+AO35) -> 2696 | AN70: mm
AS72: Fasteners/Extensions | BF72: 0.05
C73: Fastener-Clamp integration "Click system" | BL73: Offcut shorter than this will NOT be considered
N74: Not Included | W74: Angle shape | BW74: 1000 | CB74: mm
AS76: End Clamps | BF76: 0.03
C78: Wind Deflector Plates | N78: Not Included | X78: Frameless
BK79: 1 | BN79: 2 | BQ79: 3 | BT79: 4 | BW79: 5 | BZ79: 6 | CC79: 7 | CF79: 8 | CI79: 9 | CL79: 10 | CO79: 11 | CR79: 12 | CU79: 13 | CX79: 14 | DA79: 15 | DD79: 16
BK81: {=IF(M54>0,MIN(IF($DY$110:$ME$110*1000>=BK87,$DY$110:$ME$110*1000)),0)/1000} -> 14.05 | BN81: {=IF(P54>0,MIN(IF($DY$110:$ME$110*1000>=BN87,$DY$110:$ME$110*1000)),0)/1000} -> 0 | BQ81: {=IF(S54>0,MIN(IF($DY$110:$ME$110*1000>=BQ87,$DY$110:$ME$110*1000)),0)/1000} -> 0 | BT81: {=IF(V54>0,MIN(IF($DY$110:$ME$110*1000>=BT87,$DY$110:$ME$110*1000)),0)/1000} -> 0 | BW81: {=IF(Y54>0,MIN(IF($DY$110:$ME$110*1000>=BW87,$DY$110:$ME$110*1000)),0)/1000} -> 0 | BZ81: {=IF(AB54>0,MIN(IF($DY$110:$ME$110*1000>=BZ87,$DY$110:$ME$110*1000)),0)/1000} -> 0 | CC81: {=IF(AE54>0,MIN(IF($DY$110:$ME$110*1000>=CC87,$DY$110:$ME$110*1000)),0)/1000} -> 0 | CF81: {=IF(AH54>0,MIN(IF($DY$110:$ME$110*1000>=CF87,$DY$110:$ME$110*1000)),0)/1000} -> 0 | CI81: {=IF(AK54>0,MIN(IF($DY$110:$ME$110*1000>=CI87,$DY$110:$ME$110*1000)),0)/1000} -> 0 | CL81: {=IF(AN54>0,MIN(IF($DY$110:$ME$110*1000>=CL87,$DY$110:$ME$110*1000)),0)/1000} -> 0 | CO81: {=IF(AQ54>0,MIN(IF($DY$110:$ME$110*1000>=CO87,$DY$110:$ME$110*1000)),0)/1000} -> 0 | CR81: {=IF(AT54>0,MIN(IF($DY$110:$ME$110*1000>=CR87,$DY$110:$ME$110*1000)),0)/1000} -> 0 | CU81: {=IF(AW54>0,MIN(IF($DY$110:$ME$110*1000>=CU87,$DY$110:$ME$110*1000)),0)/1000} -> 0 | CX81: {=IF(AZ54>0,MIN(IF($DY$110:$ME$110*1000>=CX87,$DY$110:$ME$110*1000)),0)/1000} -> 0 | DA81: {=IF(BC54>0,MIN(IF($DY$110:$ME$110*1000>=DA87,$DY$110:$ME$110*1000)),0)/1000} -> 0 | DD81: {=IF(BF54>0,MIN(IF($DY$110:$ME$110*1000>=DD87,$DY$110:$ME$110*1000)),0)/1000} -> 0 | DH81: Lookup Rail length
BK83: =IF(M54>0,HLOOKUP(BK81,$DY$110:$ME$112,2),0) -> 0.5 | BN83: =IF(P54>0,HLOOKUP(BN81,$DY$110:$ME$112,2),0) -> 0 | BQ83: =IF(S54>0,HLOOKUP(BQ81,$DY$110:$ME$112,2),0) -> 0 | BT83: =IF(V54>0,HLOOKUP(BT81,$DY$110:$ME$112,2),0) -> 0 | BW83: =IF(Y54>0,HLOOKUP(BW81,$DY$110:$ME$112,2),0) -> 0 | BZ83: =IF(AB54>0,HLOOKUP(BZ81,$DY$110:$ME$112,2),0) -> 0 | CC83: =IF(AE54>0,HLOOKUP(CC81,$DY$110:$ME$112,2),0) -> 0 | CF83: =IF(AH54>0,HLOOKUP(CF81,$DY$110:$ME$112,2),0) -> 0 | CI83: =IF(AK54>0,HLOOKUP(CI81,$DY$110:$ME$112,2),0) -> 0 | CL83: =IF(AN54>0,HLOOKUP(CL81,$DY$110:$ME$112,2),0) -> 0 | CO83: =IF(AQ54>0,HLOOKUP(CO81,$DY$110:$ME$112,2),0) -> 0 | CR83: =IF(AT54>0,HLOOKUP(CR81,$DY$110:$ME$112,2),0) -> 0 | CU83: =IF(AW54>0,HLOOKUP(CU81,$DY$110:$ME$112,2),0) -> 0 | CX83: =IF(AZ54>0,HLOOKUP(CX81,$DY$110:$ME$112,2),0) -> 0 | DA83: =IF(BC54>0,HLOOKUP(DA81,$DY$110:$ME$112,2),0) -> 0 | DD83: =IF(BF54>0,HLOOKUP(DD81,$DY$110:$ME$112,2),0) -> 0 | DH83: =DX111 -> 4.7 | DJ83: m Pieces
BK85: =IF(M54>0,HLOOKUP(BK81,$DY$110:$ME$112,3),0) -> 2 | BN85: =IF(P54>0,HLOOKUP(BN81,$DY$110:$ME$112,3),0) -> 0 | BQ85: =IF(S54>0,HLOOKUP(BQ81,$DY$110:$ME$112,3),0) -> 0 | BT85: =IF(V54>0,HLOOKUP(BT81,$DY$110:$ME$112,3),0) -> 0 | BW85: =IF(Y54>0,HLOOKUP(BW81,$DY$110:$ME$112,3),0) -> 0 | BZ85: =IF(AB54>0,HLOOKUP(BZ81,$DY$110:$ME$112,3),0) -> 0 | CC85: =IF(AE54>0,HLOOKUP(CC81,$DY$110:$ME$112,3),0) -> 0 | CF85: =IF(AH54>0,HLOOKUP(CF81,$DY$110:$ME$112,3),0) -> 0 | CI85: =IF(AK54>0,HLOOKUP(CI81,$DY$110:$ME$112,3),0) -> 0 | CL85: =IF(AN54>0,HLOOKUP(CL81,$DY$110:$ME$112,3),0) -> 0 | CO85: =IF(AQ54>0,HLOOKUP(CO81,$DY$110:$ME$112,3),0) -> 0 | CR85: =IF(AT54>0,HLOOKUP(CR81,$DY$110:$ME$112,3),0) -> 0 | CU85: =IF(AW54>0,HLOOKUP(CU81,$DY$110:$ME$112,3),0) -> 0 | CX85: =IF(AZ54>0,HLOOKUP(CX81,$DY$110:$ME$112,3),0) -> 0 | DA85: =IF(BC54>0,HLOOKUP(DA81,$DY$110:$ME$112,3),0) -> 0 | DD85: =IF(BF54>0,HLOOKUP(DD81,$DY$110:$ME$112,3),0) -> 0 | DH85: =DX112 -> 5.85 | DJ85: m Pieces
A87: Materials specified for atmospheric corrosion category up to C4 as per ISO 9223. Please consult for environments with more aggressive ratings. | BK87: =IF(M58>0,IF($AV$28="Duo-pitch",M58*($AX$31+$AO$35/2+50/2),M58*$AJ$70),0) -> 13480 | BN87: =IF(P58>0,IF($AV$28="Duo-pitch",P58*($AX$31+$AO$35/2+50/2),P58*$AJ$70),0) -> 0 | BQ87: =IF(S58>0,IF($AV$28="Duo-pitch",S58*($AX$31+$AO$35/2+50/2),S58*$AJ$70),0) -> 0 | BT87: =IF(V58>0,IF($AV$28="Duo-pitch",V58*($AX$31+$AO$35/2+50/2),V58*$AJ$70),0) -> 0 | BW87: =IF(Y58>0,IF($AV$28="Duo-pitch",Y58*($AX$31+$AO$35/2+50/2),Y58*$AJ$70),0) -> 0 | BZ87: =IF(AB58>0,IF($AV$28="Duo-pitch",AB58*($AX$31+$AO$35/2+50/2),AB58*$AJ$70),0) -> 0 | CC87: =IF(AE58>0,IF($AV$28="Duo-pitch",AE58*($AX$31+$AO$35/2+50/2),AE58*$AJ$70),0) -> 0 | CF87: =IF(AH58>0,IF($AV$28="Duo-pitch",AH58*($AX$31+$AO$35/2+50/2),AH58*$AJ$70),0) -> 0 | CI87: =IF(AK58>0,IF($AV$28="Duo-pitch",AK58*($AX$31+$AO$35/2+50/2),AK58*$AJ$70),0) -> 0 | CL87: =IF(AN58>0,IF($AV$28="Duo-pitch",AN58*($AX$31+$AO$35/2+50/2),AN58*$AJ$70),0) -> 0 | CO87: =IF(AQ58>0,IF($AV$28="Duo-pitch",AQ58*($AX$31+$AO$35/2+50/2),AQ58*$AJ$70),0) -> 0 | CR87: =IF(AT58>0,IF($AV$28="Duo-pitch",AT58*($AX$31+$AO$35/2+50/2),AT58*$AJ$70),0) -> 0 | CU87: =IF(AW58>0,IF($AV$28="Duo-pitch",AW58*($AX$31+$AO$35/2+50/2),AW58*$AJ$70),0) -> 0 | CX87: =IF(AZ58>0,IF($AV$28="Duo-pitch",AZ58*($AX$31+$AO$35/2+50/2),AZ58*$AJ$70),0) -> 0 | DA87: =IF(BC58>0,IF($AV$28="Duo-pitch",BC58*($AX$31+$AO$35/2+50/2),BC58*$AJ$70),0) -> 0 | DD87: =IF(BF58>0,IF($AV$28="Duo-pitch",BF58*($AX$31+$AO$35/2+50/2),BF58*$AJ$70),0) -> 0 | DH87: Rail total length
BK89: =IF($N$66="Combination",0,IF(M58>0,((IF($AV$28="Duo-pitch",M58*($AX$31+$AO$35/2+50/2),M58*$AJ$70))/$N$66-ROUNDDOWN((IF($AV$28="Duo-pitch",M58*($AX$31+$AO$35/2+50/2),M58*$AJ$70))/$N$66,0))*$N$66,0)) -> 0 | BN89: =IF($N$66="Combination",0,IF(P58>0,((IF($AV$28="Duo-pitch",P58*($AX$31+$AO$35/2+50/2),P58*$AJ$70))/$N$66-ROUNDDOWN((IF($AV$28="Duo-pitch",P58*($AX$31+$AO$35/2+50/2),P58*$AJ$70))/$N$66,0))*$N$66,0)) -> 0 | BQ89: =IF($N$66="Combination",0,IF(S58>0,((IF($AV$28="Duo-pitch",S58*($AX$31+$AO$35/2+50/2),S58*$AJ$70))/$N$66-ROUNDDOWN((IF($AV$28="Duo-pitch",S58*($AX$31+$AO$35/2+50/2),S58*$AJ$70))/$N$66,0))*$N$66,0)) -> 0 | BT89: =IF($N$66="Combination",0,IF(V58>0,((IF($AV$28="Duo-pitch",V58*($AX$31+$AO$35/2+50/2),V58*$AJ$70))/$N$66-ROUNDDOWN((IF($AV$28="Duo-pitch",V58*($AX$31+$AO$35/2+50/2),V58*$AJ$70))/$N$66,0))*$N$66,0)) -> 0 | BW89: =IF($N$66="Combination",0,IF(Y58>0,((IF($AV$28="Duo-pitch",Y58*($AX$31+$AO$35/2+50/2),Y58*$AJ$70))/$N$66-ROUNDDOWN((IF($AV$28="Duo-pitch",Y58*($AX$31+$AO$35/2+50/2),Y58*$AJ$70))/$N$66,0))*$N$66,0)) -> 0 | BZ89: =IF($N$66="Combination",0,IF(AB58>0,((IF($AV$28="Duo-pitch",AB58*($AX$31+$AO$35/2+50/2),AB58*$AJ$70))/$N$66-ROUNDDOWN((IF($AV$28="Duo-pitch",AB58*($AX$31+$AO$35/2+50/2),AB58*$AJ$70))/$N$66,0))*$N$66,0)) -> 0 | CC89: =IF($N$66="Combination",0,IF(AE58>0,((IF($AV$28="Duo-pitch",AE58*($AX$31+$AO$35/2+50/2),AE58*$AJ$70))/$N$66-ROUNDDOWN((IF($AV$28="Duo-pitch",AE58*($AX$31+$AO$35/2+50/2),AE58*$AJ$70))/$N$66,0))*$N$66,0)) -> 0 | CF89: =IF($N$66="Combination",0,IF(AH58>0,((IF($AV$28="Duo-pitch",AH58*($AX$31+$AO$35/2+50/2),AH58*$AJ$70))/$N$66-ROUNDDOWN((IF($AV$28="Duo-pitch",AH58*($AX$31+$AO$35/2+50/2),AH58*$AJ$70))/$N$66,0))*$N$66,0)) -> 0 | CI89: =IF($N$66="Combination",0,IF(AK58>0,((IF($AV$28="Duo-pitch",AK58*($AX$31+$AO$35/2+50/2),AK58*$AJ$70))/$N$66-ROUNDDOWN((IF($AV$28="Duo-pitch",AK58*($AX$31+$AO$35/2+50/2),AK58*$AJ$70))/$N$66,0))*$N$66,0)) -> 0 | CL89: =IF($N$66="Combination",0,IF(AN58>0,((IF($AV$28="Duo-pitch",AN58*($AX$31+$AO$35/2+50/2),AN58*$AJ$70))/$N$66-ROUNDDOWN((IF($AV$28="Duo-pitch",AN58*($AX$31+$AO$35/2+50/2),AN58*$AJ$70))/$N$66,0))*$N$66,0)) -> 0 | CO89: =IF($N$66="Combination",0,IF(AQ58>0,((IF($AV$28="Duo-pitch",AQ58*($AX$31+$AO$35/2+50/2),AQ58*$AJ$70))/$N$66-ROUNDDOWN((IF($AV$28="Duo-pitch",AQ58*($AX$31+$AO$35/2+50/2),AQ58*$AJ$70))/$N$66,0))*$N$66,0)) -> 0 | CR89: =IF($N$66="Combination",0,IF(AT58>0,((IF($AV$28="Duo-pitch",AT58*($AX$31+$AO$35/2+50/2),AT58*$AJ$70))/$N$66-ROUNDDOWN((IF($AV$28="Duo-pitch",AT58*($AX$31+$AO$35/2+50/2),AT58*$AJ$70))/$N$66,0))*$N$66,0)) -> 0 | CU89: =IF($N$66="Combination",0,IF(AW58>0,((IF($AV$28="Duo-pitch",AW58*($AX$31+$AO$35/2+50/2),AW58*$AJ$70))/$N$66-ROUNDDOWN((IF($AV$28="Duo-pitch",AW58*($AX$31+$AO$35/2+50/2),AW58*$AJ$70))/$N$66,0))*$N$66,0)) -> 0 | CX89: =IF($N$66="Combination",0,IF(AZ58>0,((IF($AV$28="Duo-pitch",AZ58*($AX$31+$AO$35/2+50/2),AZ58*$AJ$70))/$N$66-ROUNDDOWN((IF($AV$28="Duo-pitch",AZ58*($AX$31+$AO$35/2+50/2),AZ58*$AJ$70))/$N$66,0))*$N$66,0)) -> 0 | DA89: =IF($N$66="Combination",0,IF(BC58>0,((IF($AV$28="Duo-pitch",BC58*($AX$31+$AO$35/2+50/2),BC58*$AJ$70))/$N$66-ROUNDDOWN((IF($AV$28="Duo-pitch",BC58*($AX$31+$AO$35/2+50/2),BC58*$AJ$70))/$N$66,0))*$N$66,0)) -> 0 | DD89: =IF($N$66="Combination",0,IF(BF58>0,((IF($AV$28="Duo-pitch",BF58*($AX$31+$AO$35/2+50/2),BF58*$AJ$70))/$N$66-ROUNDDOWN((IF($AV$28="Duo-pitch",BF58*($AX$31+$AO$35/2+50/2),BF58*$AJ$70))/$N$66,0))*$N$66,0)) -> 0 | DH89: Too long
...

Sheet QU RT RSD RD 
C1: #VALUE! | AN1: Axe Struct (Pty) Ltd | BK1: Brownbuilt
BK2: Brownbuilt (Pinch)
AN3: VAT no.: 4470284136 Reg. no.: 2018/528173/07 | BK3: Corrugated
BK4: Corrugated (L-bracket)
AN5: Tel: +27 (0)10 880 0220 Email: info@axestruct.com | BK5: Corrugated (Rib Surface)
BK6: Corrugated (Ridge)
AN7: www.axestruct.com | BK7: Craft-Lock
BK8: Dimondek
BK9: Dimondek (Pinch)
A10: Provisional Quotation | BK10: Dimondek (Stand Rib)
AN11: Document No.: | AX11: QU RT RSD RD | BK11: Flat Surface
BK12: IBR
AN13: Revision: | AX13: 1 | BK13: IBR (L-bracket)
BK14: IBR (Rib Surface)
BK15: IBR (Ridge)
BK16: Klip-Lok
C17: Client: | Y17: Project: | AT17: Date: | AX17: =TODAY() -> 45960 | BK17: Novotexi
BK18: ProLok
BK19: Saflok
BK20: Springlok
T21: ="Roof Top Raised Railed ("&$AO$35&")" -> Roof Top Raised Railed (IBR) | BK21: Zip-Tek
C25: Project specifications | AE25: Plant specifications
T28: =(J43*BC43)/1000 & " kWp" -> 150 kWp | AO28: Portrait
C29: Capacity | AF29: Orientation
BK30: 10 | BM30: 1178 | BP30: 1370
T31: Raised Railed | AO31: 10 | AQ31: ⁰ Tilt mounted | AX31: =LOOKUP(AO31,BK30:BK35,IF(W45<2200,BM30:BM35,BP30:BP35)) -> 1370 | BA31: mm | BC31: Back to front bracket pitch | BK31: 15 | BM31: 1155 | BP31: 1344
C32: Installation type | AF32: Angle | BK32: 20 | BM32: 1124 | BP32: 1307
BK33: 25 | BM33: 1084 | BP33: 1261
BC34: max. A-frame span
AF35: Fixing | AO35: IBR | AW35: - | AX35: 1500 | BA35: mm
B39: Solar panel specifications
C43: Number | J43: =M54*M58+P54*P58+S54*S58+V54*V58+Y54*Y58+AB54*AB58+AE54*AE58+AH54*AH58+AK54*AK58+AN54*AN58+AQ54*AQ58+AT54*AT58+AW54*AW58+AZ54*AZ58+BC54*BC58+BF54*BF58 -> 250 | Q43: Type | W43: JA SOLAR JAM72S40-600 | AV43: Rating | BC43: 600
W45: 2278 | AA45: mm (L) | AE45: 1134 | AI45: mm (B) | AM45: 30 | AQ45: mm (H)
B48: Configuration
M51: 1 | P51: 2 | S51: 3 | V51: 4 | Y51: 5 | AB51: 6 | AE51: 7 | AH51: 8 | AK51: 9 | AN51: 10 | AQ51: 11 | AT51: 12 | AW51: 13 | AZ51: 14 | BC51: 15 | BF51: 16
C54: Rows | M54: 10 | P54: 0 | S54: 0 | V54: 0 | Y54: 0 | AB54: 0 | AE54: 0 | AH54: 0 | AK54: 0 | AN54: 0 | AQ54: 0 | AT54: 0 | AW54: 0 | AZ54: 0 | BC54: 0 | BF54: 0
C58: Modules/Row | M58: 25 | P58: 0 | S58: 0 | V58: 0 | Y58: 0 | AB58: 0 | AE58: 0 | AH58: 0 | AK58: 0 | AN58: 0 | AQ58: 0 | AT58: 0 | AW58: 0 | AZ58: 0 | BC58: 0 | BF58: 0
BK61: Max rib spacing of this type of roof
C62: Brackets/length | M62: =IF(M54>0,BK143/2/M54,0) -> 20 | P62: =IF(P54>0,BN143/2/P54,0) -> 0 | S62: =IF(S54>0,BQ143/2/S54,0) -> 0 | V62: =IF(V54>0,BT143/2/V54,0) -> 0 | Y62: =IF(Y54>0,BW143/2/Y54,0) -> 0 | AB62: =IF(AB54>0,BZ143/2/AB54,0) -> 0 | AE62: =IF(AE54>0,CC143/2/AE54,0) -> 0 | AH62: =IF(AH54>0,CF143/2/AH54,0) -> 0 | AK62: =IF(AK54>0,CI143/2/AK54,0) -> 0 | AN62: =IF(AN54>0,CL143/2/AN54,0) -> 0 | AQ62: =IF(AQ54>0,CO143/2/AQ54,0) -> 0 | AT62: =IF(AT54>0,CR143/2/AT54,0) -> 0 | AW62: =IF(AW54>0,CU143/2/AW54,0) -> 0 | AZ62: =IF(AZ54>0,CX143/2/AZ54,0) -> 0 | BC62: =IF(BC54>0,DA143/2/BC54,0) -> 0 | BF62: =IF(BF54>0,DD143/2/BF54,0) -> 0
C65: A-frame spacing if evenly distributed
...

Sheet QU RT TL RD
C1: #VALUE! | AN1: Axe Struct (Pty) Ltd | BK1: Brownbuilt
BK2: Brownbuilt (Pinch)
AN3: VAT no.: 4470284136 Reg. no.: 2018/528173/07 | BK3: Corrugated
BK4: Corrugated (L-bracket)
AN5: Tel: +27 (0)10 880 0220 Email: info@axestruct.com | BK5: Corrugated (Rib Surface)
BK6: Corrugated (Ridge)
AN7: www.axestruct.com | BK7: Craft-Lock
BK8: Dimondek
BK9: Dimondek (Pinch)
A10: Provisional Quotation | BK10: Dimondek (Stand Rib)
AN11: Document No.: | AX11: QU RT TL RD | BK11: Flat Surface
BK12: IBR
AN13: Revision: | AX13: 1 | BK13: IBR (L-bracket)
BK14: IBR (Rib Surface)
BK15: IBR (Ridge)
BK16: Klip-Lok
C17: Client: | Y17: Project: | AT17: Date: | AX17: =TODAY() -> 45960 | BK17: Novotexi
BK18: ProLok
BK19: Saflok
BK20: Springlok
T21: ="Roof Top Tilted Railed ("&$AO$35&")" -> Roof Top Tilted Railed (IBR) | BK21: Zip-Tek
B25: Project specifications | AE25: Plant specifications
C28: Capacity | T28: =(J43*BC43)/1000 & " kWp" -> 150 kWp | AF28: Orientation | AO28: Portrait
BK30: 10 | BM30: 1446 | BP30: 1720
C31: Installation type | T31: Tilted Railed | AF31: Angle | AO31: 10 | AQ31: ⁰ Tilt mounted | AX31: =LOOKUP(AO31,BK30:BK35,IF(W45<2200,BM30:BM35,BP30:BP35)) -> 1720 | BA31: mm | BC31: Back to front bracket pitch | BK31: 15 | BM31: 1474 | BP31: 1754
BK32: 20 | BM32: 1515 | BP32: 1803
BK33: 25 | BM33: 1571 | BP33: 1869
AF34: Fixing | BC34: max. Frame span | BK34: 30 | BM34: 1644 | BP34: 1955
AO35: IBR | AW35: - | AX35: 1500 | BA35: mm
B39: Solar panel specifications
C43: Number | J43: =M54*M58+P54*P58+S54*S58+V54*V58+Y54*Y58+AB54*AB58+AE54*AE58+AH54*AH58+AK54*AK58+AN54*AN58+AQ54*AQ58+AT54*AT58+AW54*AW58+AZ54*AZ58+BC54*BC58+BF54*BF58 -> 250 | Q43: Type | W43: JA SOLAR JAM72S40-600 | AV43: Rating | BC43: 600
W45: 2278 | AA45: mm (L) | AE45: 1134 | AI45: mm (B) | AM45: 30 | AQ45: mm (H)
C48: Configuration
M51: 1 | P51: 2 | S51: 3 | V51: 4 | Y51: 5 | AB51: 6 | AE51: 7 | AH51: 8 | AK51: 9 | AN51: 10 | AQ51: 11 | AT51: 12 | AW51: 13 | AZ51: 14 | BC51: 15 | BF51: 16
C54: Rows | M54: 10 | P54: 0 | S54: 0 | V54: 0 | Y54: 0 | AB54: 0 | AE54: 0 | AH54: 0 | AK54: 0 | AN54: 0 | AQ54: 0 | AT54: 0 | AW54: 0 | AZ54: 0 | BC54: 0 | BF54: 0
C58: Modules/Row | M58: 25 | P58: 0 | S58: 0 | V58: 0 | Y58: 0 | AB58: 0 | AE58: 0 | AH58: 0 | AK58: 0 | AN58: 0 | AQ58: 0 | AT58: 0 | AW58: 0 | AZ58: 0 | BC58: 0 | BF58: 0
BK61: Max rib spacing of this type of roof
C62: Brackets/length | M62: =IF(M54>0,IF($AO$35="Flat Surface",BK135/M54,BK147/2/M54),0) -> 20 | P62: =IF(P54>0,BN147/2/P54,0) -> 0 | S62: =IF(S54>0,BQ147/2/S54,0) -> 0 | V62: =IF(V54>0,BT147/2/V54,0) -> 0 | Y62: =IF(Y54>0,BW147/2/Y54,0) -> 0 | AB62: =IF(AB54>0,BZ147/2/AB54,0) -> 0 | AE62: =IF(AE54>0,CC147/2/AE54,0) -> 0 | AH62: =IF(AH54>0,CF147/2/AH54,0) -> 0 | AK62: =IF(AK54>0,CI147/2/AK54,0) -> 0 | AN62: =IF(AN54>0,CL147/2/AN54,0) -> 0 | AQ62: =IF(AQ54>0,CO147/2/AQ54,0) -> 0 | AT62: =IF(AT54>0,CR147/2/AT54,0) -> 0 | AW62: =IF(AW54>0,CU147/2/AW54,0) -> 0 | AZ62: =IF(AZ54>0,CX147/2/AZ54,0) -> 0 | BC62: =IF(BC54>0,DA147/2/BC54,0) -> 0 | BF62: =IF(BF54>0,DD147/2/BF54,0) -> 0
C65: A-frame spacing if evenly distributed
M66: =IF(M58>0,($AE$45*M58+20*(M58-1)+$N$78*2-2*$N$82)/(M62-1),0) -> 1496.3158 | P66: =IF(P58>0,($AE$45*P58+20*(P58-1)+$N$78*2-2*$N$82)/(P62-1),0) -> 0 | S66: =IF(S58>0,($AE$45*S58+20*(S58-1)+$N$78*2-2*$N$82)/(S62-1),0) -> 0 | V66: =IF(V58>0,($AE$45*V58+20*(V58-1)+$N$78*2-2*$N$82)/(V62-1),0) -> 0 | Y66: =IF(Y58>0,($AE$45*Y58+20*(Y58-1)+$N$78*2-2*$N$82)/(Y62-1),0) -> 0 | AB66: =IF(AB58>0,($AE$45*AB58+20*(AB58-1)+$N$78*2-2*$N$82)/(AB62-1),0) -> 0 | AE66: =IF(AE58>0,($AE$45*AE58+20*(AE58-1)+$N$78*2-2*$N$82)/(AE62-1),0) -> 0 | AH66: =IF(AH58>0,($AE$45*AH58+20*(AH58-1)+$N$78*2-2*$N$82)/(AH62-1),0) -> 0 | AK66: =IF(AK58>0,($AE$45*AK58+20*(AK58-1)+$N$78*2-2*$N$82)/(AK62-1),0) -> 0 | AN66: =IF(AN58>0,($AE$45*AN58+20*(AN58-1)+$N$78*2-2*$N$82)/(AN62-1),0) -> 0 | AQ66: =IF(AQ58>0,($AE$45*AQ58+20*(AQ58-1)+$N$78*2-2*$N$82)/(AQ62-1),0) -> 0 | AT66: =IF(AT58>0,($AE$45*AT58+20*(AT58-1)+$N$78*2-2*$N$82)/(AT62-1),0) -> 0 | AW66: =IF(AW58>0,($AE$45*AW58+20*(AW58-1)+$N$78*2-2*$N$82)/(AW62-1),0) -> 0 | AZ66: =IF(AZ58>0,($AE$45*AZ58+20*(AZ58-1)+$N$78*2-2*$N$82)/(AZ62-1),0) -> 0 | BC66: =IF(BC58>0,($AE$45*BC58+20*(BC58-1)+$N$78*2-2*$N$82)/(BC62-1),0) -> 0 | BF66: =IF(BF58>0,($AE$45*BF58+20*(BF58-1)+$N$78*2-2*$N$82)/(BF62-1),0) -> 0 | BL66: =IF(OR(AO35="Corrugated (Side)",AO35="Corrugated (Top)",AO35="Corrugated (Hangerbolt)"),76.2*18,IF(AO35="IBR",171.5*8,IF(OR(AO35="Klip-Lok",AO35="ProLok",AO35="Saflok"),233*6,IF(AO35="Brownbuilt",203*7,IF(OR(AO35="Dimondek (Pinch)",AO35="Dimondek (Stand Rib)"),203*7,IF(AO35="Zip-Tek",420*3,IF(AO35="Craft-Lock",350*4,0))))))) -> 1372 | BO66: mm
...

Sheet QU RT RSD RL 
C1: #VALUE! | AN1: Axe Struct (Pty) Ltd | BK1: Brownbuilt
BK2: Brownbuilt (Pinch)
AN3: VAT no.: 4470284136 Reg. no.: 2018/528173/07 | BK3: Corrugated
BK4: Corrugated (L-bracket)
AN5: Tel: +27 (0)10 880 0220 Email: info@axestruct.com | BK5: Corrugated (Rib Surface)
BK6: Corrugated (Ridge)
AN7: www.axestruct.com | BK7: Craft-Lock
BK8: Dimondek
BK9: Dimondek (Pinch)
A10: Provisional Quotation | BK10: Dimondek (Stand Rib)
AN11: Document No.: | AX11: QU RT RSD RL | BK11: Flat Surface
BK12: IBR
AN13: Revision: | AX13: 1 | BK13: IBR (L-bracket)
BK14: IBR (Rib Surface)
BK15: IBR (Ridge)
BK16: Klip-Lok
C17: Client: | Y17: Project: | AT17: Date: | AX17: =TODAY() -> 45960 | BK17: Novotexi
BK18: ProLok
BK19: Saflok
BK20: Springlok
T21: ="Roof Top Raised Railless ("&$AO$35&")" -> Roof Top Raised Railless (IBR) | BK21: Zip-Tek
B25: Project specifications | AE25: Plant specifications
C28: Capacity | T28: =(J43*BC43)/1000 & " kWp" -> 60 kWp | AF28: Orientation | AO28: Landscape
BK30: 10 | BM30: 1162 | BP30: 1310
C31: Installation type | T31: Raised Railless | AF31: Angle | AO31: 10 | AQ31: ⁰ Tilt mounted | AX31: =LOOKUP(AO31,BK30:BK35,IF(AE45<1150,BM30:BM35,BP30:BP35)) -> 1162 | BA31: mm | BC31: Back to front bracket pitch | BK31: 15 | BM31: 1140 | BP31: 1285
BK32: 20 | BM32: 1109 | BP32: 1250
BK33: 25 | BM33: 1069 | BP33: 1205
AF34: Fixing
AO35: IBR
B39: Solar panel specifications
C43: Number | J43: =M54*M58+P54*P58+S54*S58+V54*V58+Y54*Y58+AB54*AB58+AE54*AE58+AH54*AH58+AK54*AK58+AN54*AN58+AQ54*AQ58+AT54*AT58+AW54*AW58+AZ54*AZ58+BC54*BC58+BF54*BF58 -> 100 | Q43: Type | W43: JA SOLAR JAM72S40-600 | AV43: Rating | BC43: 600
W45: 2278 | AA45: mm (L) | AE45: 1134 | AI45: mm (B) | AM45: 30 | AQ45: mm (H)
B48: Configuration
M51: 1 | P51: 2 | Q51: 2 | S51: 3 | T51: 3 | V51: 4 | W51: 4 | Y51: 5 | Z51: 5 | AB51: 6 | AC51: 6 | AE51: 7 | AF51: 7 | AH51: 8 | AI51: 8 | AK51: 9 | AL51: 9 | AN51: 10 | AO51: 10 | AQ51: 11 | AR51: 11 | AT51: 12 | AU51: 12 | AW51: 13 | AX51: 13 | AZ51: 14 | BA51: 14 | BC51: 15 | BF51: 16
C54: Rows | M54: 10 | P54: 0 | Q54: 100 | S54: 0 | T54: 100 | V54: 0 | W54: 100 | Y54: 0 | Z54: 100 | AB54: 0 | AC54: 100 | AE54: 0 | AH54: 0 | AI54: 100 | AK54: 0 | AL54: 100 | AN54: 0 | AO54: 100 | AQ54: 0 | AR54: 100 | AT54: 0 | AU54: 100 | AW54: 0 | AX54: 100 | AZ54: 0 | BA54: 100 | BC54: 0 | BF54: 0
C58: Modules/Row | M58: 10 | N58: 30 | P58: 0 | Q58: 30 | S58: 0 | T58: 30 | V58: 0 | W58: 30 | Y58: 0 | Z58: 30 | AB58: 0 | AC58: 30 | AE58: 0 | AH58: 0 | AI58: 30 | AK58: 0 | AL58: 30 | AN58: 0 | AO58: 30 | AQ58: 0 | AR58: 30 | AT58: 0 | AU58: 30 | AW58: 0 | AX58: 30 | AZ58: 0 | BA58: 30 | BC58: 0 | BF58: 0
C62: Additions | AS62: Over supply
C65: Wire management Cable to Panel clip
N66: Not Included | AS66: Rails/Brackets/ | BF66: 0.02
AS68: Clips
...

Sheet QU RT TL RL
C1: #VALUE! | AN1: Axe Struct (Pty) Ltd | BK1: Brownbuilt
BK2: Brownbuilt (Pinch)
AN3: VAT no.: 4470284136 Reg. no.: 2018/528173/07 | BK3: Corrugated
BK4: Corrugated (L-bracket)
AN5: Tel: +27 (0)10 880 0220 Email: info@axestruct.com | BK5: Corrugated (Rib Surface)
BK6: Corrugated (Ridge)
AN7: www.axestruct.com | BK7: Craft-Lock
BK8: Dimondek
BK9: Dimondek (Pinch)
A10: Provisional Quotation | BK10: Dimondek (Stand Rib)
AN11: Document No.: | AX11: QU RT TL RL | BK11: Flat Surface
BK12: IBR
AN13: Revision: | AX13: 1 | BK13: IBR (L-bracket)
BK14: IBR (Rib Surface)
BK15: IBR (Ridge)
BK16: Klip-Lok
C17: Client: | Y17: Project: | AT17: Date: | AX17: =TODAY() -> 45960 | BK17: Novotexi
BK18: ProLok
BK19: Saflok
BK20: Springlok
T21: ="Roof Top Tilted Railless ("&$AO$35&")" -> Roof Top Tilted Railless (IBR) | BK21: Zip-Tek
C25: Project specifications | AF25: Plant specifications
C28: Capacity | T28: =(J43*BC43)/1000 & " kWp" -> 60 kWp | AF28: Orientation | AO28: Landscape
BK30: 10 | BM30: 1198 | BP30: 1351
C31: Installation type | T31: Tilted Railless | AF31: Angle | AO31: 10 | AQ31: ⁰ Tilt mounted | AX31: =LOOKUP(AO31,BK30:BK35,IF(AE45<1150,BM30:BM35,BP30:BP35)) -> 1198 | BA31: mm | BC31: Back to front bracket pitch | BK31: 15 | BM31: 1222 | BP31: 1377
BK32: 20 | BM32: 1256 | BP32: 1415
BK33: 25 | BM33: 1302 | BP33: 1467
AF34: Fixing | BK34: 30 | BM34: 1363 | BP34: 1536
AO35: IBR
B39: Solar panel specifications
C43: Number | J43: =M54*M58+P54*P58+S54*S58+V54*V58+Y54*Y58+AB54*AB58+AE54*AE58+AH54*AH58+AK54*AK58+AN54*AN58+AQ54*AQ58+AT54*AT58+AW54*AW58+AZ54*AZ58+BC54*BC58+BF54*BF58 -> 100 | Q43: Type | W43: JA SOLAR JAM72S40-600 | AV43: Rating | BC43: 600
W45: 2278 | AA45: mm (L) | AE45: 1134 | AI45: mm (B) | AM45: 30 | AQ45: mm (H)
B48: Configuration
M51: 1 | P51: 2 | S51: 3 | V51: 4 | Y51: 5 | AB51: 6 | AE51: 7 | AH51: 8 | AK51: 9 | AN51: 10 | AQ51: 11 | AT51: 12 | AW51: 13 | AZ51: 14 | BC51: 15 | BF51: 16
C54: Rows | M54: 10 | P54: 0 | S54: 0 | V54: 0 | Y54: 0 | AB54: 0 | AE54: 0 | AH54: 0 | AK54: 0 | AN54: 0 | AQ54: 0 | AT54: 0 | AW54: 0 | AZ54: 0 | BC54: 0 | BF54: 0
C58: Modules/Row | M58: 10 | P58: 0 | S58: 0 | V58: 0 | Y58: 0 | AB58: 0 | AE58: 0 | AH58: 0 | AK58: 0 | AN58: 0 | AQ58: 0 | AT58: 0 | AW58: 0 | AZ58: 0 | BC58: 0 | BF58: 0
B62: Additions | AR62: Over supply
C65: Wire management Cable to Panel clip
N66: Not Included | AS66: Rails/Brackets/ | BF66: 0.02
AS68: Clips
...

Sheet QU RT ANG RL 
C1: #VALUE! | AN1: Axe Struct (Pty) Ltd | BK1: Brownbuilt
BK2: Brownbuilt (Pinch)
AN3: VAT no.: 4470284136 Reg. no.: 2018/528173/07 | BK3: Corrugated
BK4: Corrugated (L-bracket)
AN5: Tel: +27 (0)10 880 0220 Email: info@axestruct.com | BK5: Corrugated (Rib Surface)
BK6: Corrugated (Ridge)
AN7: www.axestruct.com | BK7: Craft-Lock
BK8: Dimondek
BK9: Dimondek (Pinch)
A10: Provisional Quotation | BK10: Dimondek (Stand Rib)
AN11: Document No.: | AX11: QU RT ANG RL | BK11: Flat Surface
BK12: IBR
AN13: Revision: | AX13: 1 | BK13: IBR (L-bracket)
BK14: IBR (Rib Surface)
BK15: IBR (Ridge)
BK16: Klip-Lok
C17: Client: | Y17: Project: | AT17: Date: | AX17: =TODAY() -> 45960 | BK17: Novotexi
BK18: ProLok
BK19: Saflok
BK20: Springlok
T21: ="Roof Top Angled Railless ("&$AO$35&")" -> Roof Top Angled Railless (IBR) | BK21: Zip-Tek
C25: Project specifications | AF25: Plant specifications
C28: Capacity | T28: =(J43*BC43)/1000 & " kWp" -> 60 kWp | AF28: Orientation | AO28: Landscape
BK30: 10 | BM30: 1198 | BP30: 1351
C31: Installation type | T31: Angled Railless | AF31: Angle | AO31: 10 | AQ31: ⁰ Tilt mounted | AX31: =LOOKUP(AO31,BK30:BK35,IF(AE45<1150,BM30:BM35,BP30:BP35)) -> 1198 | BA31: mm | BC31: Back to front bracket pitch | BK31: 15 | BM31: 1222 | BP31: 1377
BK32: 20 | BM32: 1256 | BP32: 1415
BK33: 25 | BM33: 1302 | BP33: 1467
AF34: Fixing | BK34: 30 | BM34: 1363 | BP34: 1536
AO35: IBR
B39: Solar panel specifications
C43: Number | J43: =M54*M58+P54*P58+S54*S58+V54*V58+Y54*Y58+AB54*AB58+AE54*AE58+AH54*AH58+AK54*AK58+AN54*AN58+AQ54*AQ58+AT54*AT58+AW54*AW58+AZ54*AZ58+BC54*BC58+BF54*BF58 -> 100 | Q43: Type | W43: JA SOLAR JAM72S40-600 | AV43: Rating | BC43: 600
W45: 2278 | AA45: mm (L) | AE45: 1134 | AI45: mm (B) | AM45: 30 | AQ45: mm (H)
B48: Configuration
M51: 1 | P51: 2 | S51: 3 | V51: 4 | Y51: 5 | AB51: 6 | AE51: 7 | AH51: 8 | AK51: 9 | AN51: 10 | AQ51: 11 | AT51: 12 | AW51: 13 | AZ51: 14 | BC51: 15 | BF51: 16
C54: Rows | M54: 10 | P54: 0 | S54: 0 | V54: 0 | Y54: 0 | AB54: 0 | AE54: 0 | AH54: 0 | AK54: 0 | AN54: 0 | AQ54: 0 | AT54: 0 | AW54: 0 | AZ54: 0 | BC54: 0 | BF54: 0
C58: Modules/Row | M58: 10 | P58: 0 | S58: 0 | V58: 0 | Y58: 0 | AB58: 0 | AE58: 0 | AH58: 0 | AK58: 0 | AN58: 0 | AQ58: 0 | AT58: 0 | AW58: 0 | AZ58: 0 | BC58: 0 | BF58: 0
B62: Additions | AR62: Over supply
C65: Wire management Cable to Panel clip
N66: Not Included | AS66: Rails/Brackets/ | BF66: 0.02
AS68: Clips
...

Sheet QU RT ANG RD
C1: #VALUE! | AN1: Axe Struct (Pty) Ltd | BK1: Brownbuilt
BK2: Brownbuilt (Pinch)
AN3: VAT no.: 4470284136 Reg. no.: 2018/528173/07 | BK3: Corrugated
BK4: Corrugated (L-bracket)
AN5: Tel: +27 (0)10 880 0220 Email: info@axestruct.com | BK5: Corrugated (Rib Surface)
BK6: Corrugated (Ridge)
AN7: www.axestruct.com | BK7: Craft-Lock
BK8: Dimondek
BK9: Dimondek (Pinch)
A10: Provisional Quotation | BK10: Dimondek (Stand Rib)
AN11: Document No.: | AX11: QU RT ANG RD | BK11: Flat Surface
BK12: IBR
AN13: Revision: | AX13: 1 | BK13: IBR (L-bracket)
BK14: IBR (Rib Surface)
BK15: IBR (Ridge)
BK16: Klip-Lok
C17: Client: | Y17: Project: | AT17: Date: | AX17: =TODAY() -> 45960 | BK17: Novotexi
BK18: ProLok
BK19: Saflok
BK20: Springlok
T21: ="Roof Top Angled Railed ("&$AO$35&")" -> Roof Top Angled Railed (IBR) | BK21: Zip-Tek
B25: Project specifications | AE25: Plant specifications
C28: Capacity | T28: =(J43*BC43)/1000 & " kWp" -> 150 kWp | AF28: Orientation | AO28: Portrait
BK30: 10 | BM30: 1446 | BP30: 1720
C31: Installation type | T31: Angled Railed | AF31: Angle | AO31: 10 | AQ31: ⁰ Tilt mounted | AX31: =LOOKUP(AO31,BK30:BK35,IF(W45<2200,BM30:BM35,BP30:BP35)) -> 1720 | BA31: mm | BC31: Back to front bracket pitch | BK31: 15 | BM31: 1474 | BP31: 1754
BK32: 20 | BM32: 1515 | BP32: 1803
BK33: 25 | BM33: 1571 | BP33: 1869
AF34: Fixing | BC34: max. A-frame span | BK34: 30 | BM34: 1644 | BP34: 1955
AO35: IBR | AW35: - | AX35: 1500 | BA35: mm
B39: Solar panel specifications
C43: Number | J43: =M54*M58+P54*P58+S54*S58+V54*V58+Y54*Y58+AB54*AB58+AE54*AE58+AH54*AH58+AK54*AK58+AN54*AN58+AQ54*AQ58+AT54*AT58+AW54*AW58+AZ54*AZ58+BC54*BC58+BF54*BF58 -> 250 | Q43: Type | W43: JA SOLAR JAM72S40-600 | AV43: Rating | BC43: 600
W45: 2278 | AA45: mm (L) | AE45: 1134 | AI45: mm (B) | AM45: 30 | AQ45: mm (H)
C48: Configuration
M51: 1 | P51: 2 | S51: 3 | V51: 4 | Y51: 5 | AB51: 6 | AE51: 7 | AH51: 8 | AK51: 9 | AN51: 10 | AQ51: 11 | AT51: 12 | AW51: 13 | AZ51: 14 | BC51: 15 | BF51: 16
C54: Rows | M54: 10 | P54: 0 | S54: 0 | V54: 0 | Y54: 0 | AB54: 0 | AE54: 0 | AH54: 0 | AK54: 0 | AN54: 0 | AQ54: 0 | AT54: 0 | AW54: 0 | AZ54: 0 | BC54: 0 | BF54: 0
C58: Modules/Row | M58: 25 | P58: 0 | S58: 0 | V58: 0 | Y58: 0 | AB58: 0 | AE58: 0 | AH58: 0 | AK58: 0 | AN58: 0 | AQ58: 0 | AT58: 0 | AW58: 0 | AZ58: 0 | BC58: 0 | BF58: 0
BK61: Max rib spacing of this type of roof
C62: Brackets/length | M62: =IF(M54>0,BK143/2/M54,0) -> 20 | P62: =IF(P54>0,BN143/2/P54,0) -> 0 | S62: =IF(S54>0,BQ143/2/S54,0) -> 0 | V62: =IF(V54>0,BT143/2/V54,0) -> 0 | Y62: =IF(Y54>0,BW143/2/Y54,0) -> 0 | AB62: =IF(AB54>0,BZ143/2/AB54,0) -> 0 | AE62: =IF(AE54>0,CC143/2/AE54,0) -> 0 | AH62: =IF(AH54>0,CF143/2/AH54,0) -> 0 | AK62: =IF(AK54>0,CI143/2/AK54,0) -> 0 | AN62: =IF(AN54>0,CL143/2/AN54,0) -> 0 | AQ62: =IF(AQ54>0,CO143/2/AQ54,0) -> 0 | AT62: =IF(AT54>0,CR143/2/AT54,0) -> 0 | AW62: =IF(AW54>0,CU143/2/AW54,0) -> 0 | AZ62: =IF(AZ54>0,CX143/2/AZ54,0) -> 0 | BC62: =IF(BC54>0,DA143/2/BC54,0) -> 0 | BF62: =IF(BF54>0,DD143/2/BF54,0) -> 0
C65: A-frame spacing if evenly distributed
M66: =IF(M58>0,($AE$45*M58+20*(M58-1)+$N$78*2-2*$N$82)/(M62-1),0) -> 1496.3158 | P66: =IF(P58>0,($AE$45*P58+20*(P58-1)+$N$78*2-2*$N$82)/(P62-1),0) -> 0 | S66: =IF(S58>0,($AE$45*S58+20*(S58-1)+$N$78*2-2*$N$82)/(S62-1),0) -> 0 | V66: =IF(V58>0,($AE$45*V58+20*(V58-1)+$N$78*2-2*$N$82)/(V62-1),0) -> 0 | Y66: =IF(Y58>0,($AE$45*Y58+20*(Y58-1)+$N$78*2-2*$N$82)/(Y62-1),0) -> 0 | AB66: =IF(AB58>0,($AE$45*AB58+20*(AB58-1)+$N$78*2-2*$N$82)/(AB62-1),0) -> 0 | AE66: =IF(AE58>0,($AE$45*AE58+20*(AE58-1)+$N$78*2-2*$N$82)/(AE62-1),0) -> 0 | AH66: =IF(AH58>0,($AE$45*AH58+20*(AH58-1)+$N$78*2-2*$N$82)/(AH62-1),0) -> 0 | AK66: =IF(AK58>0,($AE$45*AK58+20*(AK58-1)+$N$78*2-2*$N$82)/(AK62-1),0) -> 0 | AN66: =IF(AN58>0,($AE$45*AN58+20*(AN58-1)+$N$78*2-2*$N$82)/(AN62-1),0) -> 0 | AQ66: =IF(AQ58>0,($AE$45*AQ58+20*(AQ58-1)+$N$78*2-2*$N$82)/(AQ62-1),0) -> 0 | AT66: =IF(AT58>0,($AE$45*AT58+20*(AT58-1)+$N$78*2-2*$N$82)/(AT62-1),0) -> 0 | AW66: =IF(AW58>0,($AE$45*AW58+20*(AW58-1)+$N$78*2-2*$N$82)/(AW62-1),0) -> 0 | AZ66: =IF(AZ58>0,($AE$45*AZ58+20*(AZ58-1)+$N$78*2-2*$N$82)/(AZ62-1),0) -> 0 | BC66: =IF(BC58>0,($AE$45*BC58+20*(BC58-1)+$N$78*2-2*$N$82)/(BC62-1),0) -> 0 | BF66: =IF(BF58>0,($AE$45*BF58+20*(BF58-1)+$N$78*2-2*$N$82)/(BF62-1),0) -> 0 | BL66: =IF(OR(AO35="Corrugated (Side)",AO35="Corrugated (Top)",AO35="Corrugated (Hangerbolt)"),76.2*18,IF(AO35="IBR",171.5*8,IF(OR(AO35="Klip-Lok",AO35="ProLok",AO35="Saflok"),233*6,IF(AO35="Brownbuilt",203*7,IF(OR(AO35="Dimondek (Pinch)",AO35="Dimondek (Stand Rib)"),203*7,IF(AO35="Zip-Tek",420*3,IF(AO35="Craft-Lock",350*4,0))))))) -> 1372 | BO66: mm
...

Sheet QU RT FL RD
C1: #VALUE! | AN1: Axe Struct (Pty) Ltd | BK1: Brownbuilt
BK2: Brownbuilt (Pinch)
AN3: VAT no.: 4470284136 Reg. no.: 2018/528173/07 | BK3: Corrugated
BK4: Corrugated (L-bracket)
AN5: Tel: +27 (0)10 880 0220 Email: info@axestruct.com | BK5: Corrugated (Rib Surface)
BK6: Corrugated (Ridge)
AN7: www.axestruct.com | BK7: Craft-Lock
BK8: Dimondek
BK9: Dimondek (Pinch)
A10: Provisional Quotation | BK10: Dimondek (Stand Rib)
AN11: Document No.: | AX11: QU RT FL RD | BK11: Flat Surface
BK12: IBR
AN13: Revision: | AX13: 1 | BK13: IBR (L-bracket)
BK14: IBR (Rib Surface)
BK15: IBR (Ridge)
BK16: Klip-Lok
C17: Client: | Y17: Project: | AT17: Date: | AX17: =TODAY() -> 45960 | BK17: Metal Purlin (HB)
BK18: Metal Purlin (HB Vrtical)
BK19: Novotexi
BK20: Novotexi (MacSteel)
T21: ="Roof Top Flush Railed ("&$AO$35&")" -> Roof Top Flush Railed (IBR) | BK21: ProLok
BK22: Rail Clip
BK23: Saflok
BK24: Springlok
B25: Project specifications | AE25: Plant specifications | BK25: Tile Eco SH
BK26: Tile Eco SH Lnd
BK27: Tile Sweep SH
C28: Capacity | T28: =(J43*BC43)/1000 & " kWp" -> 150 kWp | AF28: Orientation | AO28: Portrait | BK28: Tile Sweep SH Lnd
BK29: Tile Eco SS
BK30: Tile Eco SS Lnd
C31: Installation type | T31: Flush Railed | AF31: Angle | AO31: Flat mounted | BK31: Tile Sweep SS
BK32: Tile Sweep SS Lnd
BK33: Wood Purlin (HB)
AF34: Fixing | BC34: max. bracket span | BK34: Wood Purlin (HB Vrtical)
AO35: IBR | AW35: - | AX35: =IF(MID(AO35,1,4)="Tile","1200","1500") -> 1500 | BA35: mm | BK35: Zip-Tek
B39: Solar panel specifications
C43: Number | J43: =M54*M58+P54*P58+S54*S58+V54*V58+Y54*Y58+AB54*AB58+AE54*AE58+AH54*AH58+AK54*AK58+AN54*AN58+AQ54*AQ58+AT54*AT58+AW54*AW58+AZ54*AZ58+BC54*BC58+BF54*BF58 -> 250 | Q43: Type | W43: JA SOLAR JAM72S40-600 | AV43: Rating | BC43: 600 | BT43: =232.33/203.6 -> 1.14111
W45: 2278 | AA45: mm (L) | AE45: 1134 | AI45: mm (B) | AM45: 30 | AQ45: mm (H)
B48: Configuration
M51: 1 | P51: 2 | S51: 3 | V51: 4 | Y51: 5 | AB51: 6 | AE51: 7 | AH51: 8 | AK51: 9 | AN51: 10 | AQ51: 11 | AT51: 12 | AW51: 13 | AZ51: 14 | BC51: 15 | BF51: 16
...

Sheet QU RT FL RL 
C1: #VALUE! | AN1: Axe Struct (Pty) Ltd | BK1: Brownbuilt
BK2: Corrugated
AN3: VAT no.: 4470284136 Reg. no.: 2018/528173/07 | BK3: Corrugated (Rib Surface)
BK4: Corrugated (Ridge)
AN5: Tel: +27 (0)10 880 0220 Email: info@axestruct.com | BK5: Craft-Lock
BK6: Dimondek
AN7: www.axestruct.com | BK7: IBR
BK8: IBR (Rib Surface)
BK9: IBR (Ridge)
A10: Provisional Quotation | BK10: Klip-Lok
AN11: Document No.: | AX11: QU RT FL RL | BK11: Novotexi
BK12: ProLok
AN13: Revision: | AX13: 1 | BK13: Saflok
BK14: Springlok
BK15: Widespan
C17: Client: | Y17: Project: | AT17: Date: | AX17: =TODAY() -> 45960
U21: ="Roof Top Flush Railless ("&AO35&")" -> Roof Top Flush Railless (IBR)
B25: Project specifications | AE25: Plant specifications
C28: Capacity | T28: =(J43*BC43)/1000 & " kWp" -> 60 kWp | AF28: Orientation | AO28: =IF(OR($AO$35="Corrugated (Rib Surface)",$AO$35="IBR (Rib Surface)"),"Portrait","Landscape") -> Landscape
C31: Installation type | T31: Flush Railless | AF31: Angle | AO31: Flat mounted
AF34: Fixing
AO35: IBR
B39: Solar panel specifications
C43: Number | J43: =M54*M58+P54*P58+S54*S58+V54*V58+Y54*Y58+AB54*AB58+AE54*AE58+AH54*AH58+AK54*AK58+AN54*AN58+AQ54*AQ58+AT54*AT58+AW54*AW58+AZ54*AZ58+BC54*BC58+BF54*BF58 -> 100 | Q43: Type | W43: JA SOLAR JAM72S40-600 | AV43: Rating | BC43: 600
W45: 2278 | AA45: mm (L) | AE45: 1134 | AI45: mm (B) | AM45: 30 | AQ45: mm (H)
C48: Configuration
M51: 1 | P51: 2 | S51: 3 | V51: 4 | Y51: 5 | AB51: 6 | AE51: 7 | AH51: 8 | AK51: 9 | AN51: 10 | AQ51: 11 | AT51: 12 | AW51: 13 | AZ51: 14 | BC51: 15 | BF51: 16
C54: =IF($AO$28="Landscape","Columns","Rows") -> Columns | M54: 10 | P54: 0 | S54: 0 | V54: 0 | Y54: 0 | AB54: 0 | AE54: 0 | AH54: 0 | AK54: 0 | AN54: 0 | AQ54: 0 | AT54: 0 | AW54: 0 | AZ54: 0 | BC54: 0 | BF54: 0
C58: =IF($AO$28="Landscape","Modules/Column","Modules/Row") -> Modules/Column | M58: 10 | P58: 0 | S58: 0 | V58: 0 | Y58: 0 | AB58: 0 | AE58: 0 | AH58: 0 | AK58: 0 | AN58: 0 | AQ58: 0 | AT58: 0 | AW58: 0 | AZ58: 0 | BC58: 0 | BF58: 0
B62: Additions | AR62: Over supply
C65: Wire management Cable to Panel clip
N66: Not Included | AS66: Brackets/Mid | BF66: 0.02
AS68: Clamps/Clips
C69: Fastener-Clamp integration "Click system"
N70: Included
AS72: Fasteners | BF72: 0.04
AS76: End Clamps | BF76: 0.03
A81: Materials specified for atmospheric corrosion category up to C4 as per ISO 9223. Please consult for environments with more aggressive ratings.
U110: ="Roof Top Flush Railless ("&AO35&")" -> Roof Top Flush Railless (IBR)
C114: No | G114: Product Code | T114: Description of Goods | AL114: Qnty | AQ114: ARB SKU
...

Sheet PL Copy
C1: #VALUE! | AN1: Axe Struct (Pty) Ltd
AN3: VAT no.: 4470284136 Reg. no.: 2018/528173/07
AN5: Tel: +27 (0)10 880 0220 Email: info@axestruct.com
AN7: www.axestruct.com
A10: Parts List
AN11: Document No.: | AX11: =MID(CELL("filename",A1),FIND("]",CELL("filename",A1))+1,256) -> PL Copy
AN13: Revision: | AX13: 1
C17: Client: | Y17: Project: | AT17: Date: | AX17: =TODAY() -> 45960
B20: No | F20: Product Code | S20: Description of Goods | AL20: Quantity | AR20: ARB SKU
B25: 1 | F25: AXE_L_R_40_30_AL | S25: =VLOOKUP(F25,PL!$B$9:$BH$858,14,FALSE) -> Rail Profile | AD25: ( | AE25: 4.7 | AH25: ) m | AL25: 4 | AS25: =VLOOKUP(F25,PL!$B$9:$BH$813,52,FALSE) -> SOL-580404
S27: =IF(AL25>0,VLOOKUP(F25,PL!$B$9:$BH$858,33,FALSE),"") -> Aluminium, 40x30
B29: =B25+1 -> 2 | F29: AXE_L_R_40_30_AL | S29: =VLOOKUP(F29,PL!$B$9:$BH$858,14,FALSE) -> Rail Profile | AD29: ( | AE29: 4.7 | AH29: ) m | AL29: 4 | AS29: =VLOOKUP(F29,PL!$B$9:$BH$813,52,FALSE) -> SOL-580404
S31: =IF(AL29>0,VLOOKUP(F29,PL!$B$9:$BH$858,33,FALSE),"") -> Aluminium, 40x30
B33: =B29+1 -> 3 | F33: AXE_L_R_40_30_AL | S33: =VLOOKUP(F33,PL!$B$9:$BH$858,14,FALSE) -> Rail Profile | AD33: ( | AE33: 4.7 | AH33: ) m | AL33: 4 | AS33: =VLOOKUP(F33,PL!$B$9:$BH$813,52,FALSE) -> SOL-580404
S35: =IF(AL33>0,VLOOKUP(F33,PL!$B$9:$BH$858,33,FALSE),"") -> Aluminium, 40x30
B37: =B33+1 -> 4 | F37: AXE_BR_CL_H_AL | S37: =VLOOKUP(F37,PL!$B$9:$BH$858,14,FALSE) -> Craft Lok Bracket | AS37: =VLOOKUP(F37,PL!$B$9:$BH$813,52,FALSE) -> SOL-6073
S39: =IF(AL37>0,VLOOKUP(F37,PL!$B$9:$BH$858,33,FALSE),"")
B41: =B37+1 -> 5 | F41: . | S41: =VLOOKUP(F41,PL!$B$9:$BH$858,14,FALSE) -> N/A | AS41: =VLOOKUP(F41,PL!$B$9:$BH$813,52,FALSE) -> 0
S43: =IF(AL41>0,VLOOKUP(F41,PL!$B$9:$BH$858,33,FALSE),"")
B45: =B41+1 -> 6 | S45: =VLOOKUP(F45,PL!$B$9:$BH$858,14,FALSE) -> #N/A | AS45: =VLOOKUP(F45,PL!$B$9:$BH$813,52,FALSE) -> #N/A
S47: =IF(AL45>0,VLOOKUP(F45,PL!$B$9:$BH$858,33,FALSE),"")
B49: =B45+1 -> 7 | S49: =VLOOKUP(F49,PL!$B$9:$BH$858,14,FALSE) -> #N/A | AS49: =VLOOKUP(F49,PL!$B$9:$BH$813,52,FALSE) -> #N/A
S51: =IF(AL49>0,VLOOKUP(F49,PL!$B$9:$BH$858,33,FALSE),"")
B53: =B49+1 -> 8 | S53: =VLOOKUP(F53,PL!$B$9:$BH$858,14,FALSE) -> #N/A | AS53: =VLOOKUP(F53,PL!$B$9:$BH$813,52,FALSE) -> #N/A
S55: =IF(AL53>0,VLOOKUP(F53,PL!$B$9:$BH$858,33,FALSE),"")
B57: =B53+1 -> 9 | S57: =VLOOKUP(F57,PL!$B$9:$BH$858,14,FALSE) -> #N/A | AS57: =VLOOKUP(F57,PL!$B$9:$BH$813,52,FALSE) -> #N/A
S59: =IF(AL57>0,VLOOKUP(F57,PL!$B$9:$BH$858,33,FALSE),"")
B61: =B57+1 -> 10 | S61: =VLOOKUP(F61,PL!$B$9:$BH$858,14,FALSE) -> #N/A | AS61: =VLOOKUP(F61,PL!$B$9:$BH$813,52,FALSE) -> #N/A
S63: =IF(AL61>0,VLOOKUP(F61,PL!$B$9:$BH$858,33,FALSE),"")
B65: =B61+1 -> 11 | S65: =VLOOKUP(F65,PL!$B$9:$BH$858,14,FALSE) -> #N/A | AS65: =VLOOKUP(F65,PL!$B$9:$BH$813,52,FALSE) -> #N/A
S67: =IF(AL65>0,VLOOKUP(F65,PL!$B$9:$BH$858,33,FALSE),"")
B69: =B65+1 -> 12 | S69: =VLOOKUP(F69,PL!$B$9:$BH$858,14,FALSE) -> #N/A | AS69: =VLOOKUP(F69,PL!$B$9:$BH$813,52,FALSE) -> #N/A
S71: =IF(AL69>0,VLOOKUP(F69,PL!$B$9:$BH$858,33,FALSE),"")
B73: =B69+1 -> 13 | S73: =VLOOKUP(F73,PL!$B$9:$BH$858,14,FALSE) -> #N/A | AS73: =VLOOKUP(F73,PL!$B$9:$BH$813,52,FALSE) -> #N/A
S75: =IF(AL73>0,VLOOKUP(F73,PL!$B$9:$BH$858,33,FALSE),"")
B77: =B73+1 -> 14 | S77: =VLOOKUP(F77,PL!$B$9:$BH$858,14,FALSE) -> #N/A | AS77: =VLOOKUP(F77,PL!$B$9:$BH$813,52,FALSE) -> #N/A
S79: =IF(AL77>0,VLOOKUP(F77,PL!$B$9:$BH$858,33,FALSE),"")
B81: =B77+1 -> 15 | S81: =VLOOKUP(F81,PL!$B$9:$BH$858,14,FALSE) -> #N/A | AS81: =VLOOKUP(F81,PL!$B$9:$BH$813,52,FALSE) -> #N/A
S83: =IF(AL81>0,VLOOKUP(F81,PL!$B$9:$BH$858,33,FALSE),"")
B85: =B81+1 -> 16 | S85: =VLOOKUP(F85,PL!$B$9:$BH$858,14,FALSE) -> #N/A | AS85: =VLOOKUP(F85,PL!$B$9:$BH$813,52,FALSE) -> #N/A
...

Sheet How To Use
BL16: 4.7
BL17: 5.85
A87: A
A154: B
A201: C
A244: D
A268: E
A275: E-1
A311: E-2
A334: E-3
A368: E-4
A401: E-5
A507: E-6

Sheet PL
B6: Product Code | O6: Description of Goods 1 | AH6: Description of Goods 2 | BA6: ARB SKU
B9: . | O9: N/A
B10: AXE_BH_8_25_SS | O10: Bolt Hexagon | AH10: Stainless Steel, M8x25 | BA10: =_xlfn.XLOOKUP(B10,$CN:$CN,$CL:$CL,"") -> SOL-59504 | BB10: =_xlfn.XLOOKUP(B10,$CN:$CN,$CL:$CL,"") -> SOL-59504 | BN10: 1 | BO10: 1
B11: AXE_BR_CL_H_AL | O11: Craft Lok Bracket | AH11: Aluminium, Horizontal | BA11: =_xlfn.XLOOKUP(B11,$CN:$CN,$CL:$CL,"") -> SOL-6073 | BB11: =_xlfn.XLOOKUP(B11,$CN:$CN,$CL:$CL,"") -> SOL-6073 | BN11: =BN10+1 -> 2 | BO11: 1
B12: AXE_BR_CL_RD_AL | O12: Craft Lok Bracket | AH12: Aluminium, Railed | BA12: =_xlfn.XLOOKUP(B12,$CN:$CN,$CL:$CL,"") -> SOL-6074 | BB12: =_xlfn.XLOOKUP(B12,$CN:$CN,$CL:$CL,"") -> SOL-6074 | BN12: =BN11+1 -> 3 | BO12: 1
B13: AXE_BR_CL_V_AL | O13: Craft Lok Bracket | AH13: Aluminium, Vertical | BA13: =_xlfn.XLOOKUP(B13,$CN:$CN,$CL:$CL,"") -> SOL-6075 | BB13: =_xlfn.XLOOKUP(B13,$CN:$CN,$CL:$CL,"") -> SOL-6075 | BN13: =BN12+1 -> 4 | BO13: 1
B14: AXE_BR_COR_H_AL | O14: Corrugated Bracket | AH14: Aluminium, Horizontal | BA14: =_xlfn.XLOOKUP(B14,$CN:$CN,$CL:$CL,"") -> SOL-59040 | BB14: =_xlfn.XLOOKUP(B14,$CN:$CN,$CL:$CL,"") -> SOL-59040 | BN14: =BN13+1 -> 5 | BO14: 1
B15: AXE_BR_COR_RD_AL | O15: Corrugated Bracket | AH15: Aluminium, Railed | BA15: =_xlfn.XLOOKUP(B15,$CN:$CN,$CL:$CL,"") -> SOL-5903 | BB15: =_xlfn.XLOOKUP(B15,$CN:$CN,$CL:$CL,"") -> SOL-5903 | BN15: =BN14+1 -> 6 | BO15: 1
B16: AXE_BR_COR_RL_AL | O16: Corrugated Bracket | AH16: Aluminium, Railless | BA16: =_xlfn.XLOOKUP(B16,$CN:$CN,$CL:$CL,"") -> SOL-59031 | BB16: =_xlfn.XLOOKUP(B16,$CN:$CN,$CL:$CL,"") -> SOL-59031 | BN16: =BN15+1 -> 7 | BO16: 1
B17: AXE_BR_COR_V_AL | O17: Corrugated Bracket | AH17: Aluminium, Vertical | BA17: =_xlfn.XLOOKUP(B17,$CN:$CN,$CL:$CL,"") -> SOL-5904 | BB17: =_xlfn.XLOOKUP(B17,$CN:$CN,$CL:$CL,"") -> SOL-5904 | BN17: =BN16+1 -> 8 | BO17: 1
B18: AXE_BR_FL_H_AL | O18: Fix Lok Bracket | AH18: Aluminium, Horizontal | BA18: =_xlfn.XLOOKUP(B18,$CN:$CN,$CL:$CL,"") -> SOL-59070 | BB18: =_xlfn.XLOOKUP(B18,$CN:$CN,$CL:$CL,"") -> SOL-59070 | BN18: =BN17+1 -> 9 | BO18: 1
B19: AXE_BR_FL_RD_AL | O19: Fix Lok Bracket | AH19: Aluminium, Railed | BA19: =_xlfn.XLOOKUP(B19,$CN:$CN,$CL:$CL,"") -> SOL-5905 | BB19: =_xlfn.XLOOKUP(B19,$CN:$CN,$CL:$CL,"") -> SOL-5905 | BN19: =BN18+1 -> 10 | BO19: 1
B20: AXE_BR_FL_RL_AL | O20: Fix Lok Bracket | AH20: Aluminium, Railless | BA20: =_xlfn.XLOOKUP(B20,$CN:$CN,$CL:$CL,"") -> SOL-5906 | BB20: =_xlfn.XLOOKUP(B20,$CN:$CN,$CL:$CL,"") -> SOL-5906 | BN20: =BN19+1 -> 11 | BO20: 1
B21: AXE_BR_FL_V_AL | O21: Fix Lok Bracket | AH21: Aluminium, Vertical | BA21: =_xlfn.XLOOKUP(B21,$CN:$CN,$CL:$CL,"") -> SOL-5907 | BB21: =_xlfn.XLOOKUP(B21,$CN:$CN,$CL:$CL,"") -> SOL-5907 | BN21: =BN20+1 -> 12 | BO21: 1
B22: AXE_BR_HB_H_M_AL | O22: Hangerbolt incl. Gasket + Plate | AH22: Aluminium, Horizontal + Stainless Steel, Metal, M10x200 | BA22: =_xlfn.XLOOKUP(B22,$CN:$CN,$CL:$CL,"") -> 0 | BB22: =_xlfn.XLOOKUP(B22,$CN:$CN,$CL:$CL,"") -> 0 | BN22: =BN21+1 -> 13 | BO22: 1
... B120: AXE_F_AN_RD_L_30_AL | O120: Angled Frame | AH120: Aluminium, Railed, Long, 30deg | BA120: =_xlfn.XLOOKUP(B120,$CN:$CN,$CL:$CL,"") -> SOL-6056 | BB120: =_xlfn.XLOOKUP(B120,$CN:$CN,$CL:$CL,"") -> SOL-6056 | BN120: =BN119+1 -> 111 | BO120: 1
B121: AXE_F_AN_RD_S_10_AL | O121: Angled Frame | AH121: Aluminium, Railed, Short, 10deg | BA121: =_xlfn.XLOOKUP(B121,$CN:$CN,$CL:$CL,"") -> SOL-58060 | BB121: =_xlfn.XLOOKUP(B121,$CN:$CN,$CL:$CL,"") -> SOL-58060 | BN121: =BN120+1 -> 112 | BO121: 1
B122: AXE_F_AN_RD_S_15_AL | O122: Angled Frame | AH122: Aluminium, Railed, Short, 15deg | BA122: =_xlfn.XLOOKUP(B122,$CN:$CN,$CL:$CL,"") -> SOL-580601 | BB122: =_xlfn.XLOOKUP(B122,$CN:$CN,$CL:$CL,"") -> SOL-580601 | BN122: =BN121+1 -> 113 | BO122: 1
B123: AXE_F_AN_RD_S_20_AL | O123: Angled Frame | AH123: Aluminium, Railed, Short, 20deg | BA123: =_xlfn.XLOOKUP(B123,$CN:$CN,$CL:$CL,"") -> SOL-5806 | BB123: =_xlfn.XLOOKUP(B123,$CN:$CN,$CL:$CL,"") -> SOL-5806 | BN123: =BN122+1 -> 114 | BO123: 1
B124: AXE_F_AN_RD_S_25_AL | O124: Angled Frame | AH124: Aluminium, Railed, Short, 25deg | BA124: =_xlfn.XLOOKUP(B124,$CN:$CN,$CL:$CL,"") -> SOL-58061 | BB124: =_xlfn.XLOOKUP(B124,$CN:$CN,$CL:$CL,"") -> SOL-58061 | BN124: =BN123+1 -> 115 | BO124: 1
B125: AXE_F_AN_RD_S_30_AL | O125: Angled Frame | AH125: Aluminium, Railed, Short, 30deg | BA125: =_xlfn.XLOOKUP(B125,$CN:$CN,$CL:$CL,"") -> SOL-58064 | BB125: =_xlfn.XLOOKUP(B125,$CN:$CN,$CL:$CL,"") -> SOL-58064 | BN125: =BN124+1 -> 116 | BO125: 1
B126: AXE_F_AN_RL_L_10_AL | O126: Angled Frame | AH126: Aluminium, Railless, Long, 10deg | BA126: =_xlfn.XLOOKUP(B126,$CN:$CN,$CL:$CL,"") -> SOL-6059 | BB126: =_xlfn.XLOOKUP(B126,$CN:$CN,$CL:$CL,"") -> SOL-6059 | BN126: =BN125+1 -> 117 | BO126: 1
B127: AXE_F_AN_RL_L_15_AL | O127: Angled Frame | AH127: Aluminium, Railless, Long, 15deg | BA127: =_xlfn.XLOOKUP(B127,$CN:$CN,$CL:$CL,"") -> SOL-6060 | BB127: =_xlfn.XLOOKUP(B127,$CN:$CN,$CL:$CL,"") -> SOL-6060 | BN127: =BN126+1 -> 118 | BO127: 1
B128: AXE_F_AN_RL_L_20_AL | O128: Angled Frame | AH128: Aluminium, Railless, Long, 20deg | BA128: =_xlfn.XLOOKUP(B128,$CN:$CN,$CL:$CL,"") -> SOL-6061 | BB128: =_xlfn.XLOOKUP(B128,$CN:$CN,$CL:$CL,"") -> SOL-6061 | BN128: =BN127+1 -> 119 | BO128: 1
B129: AXE_F_AN_RL_L_25_AL | O129: Angled Frame | AH129: Aluminium, Railless, Long, 25deg | BA129: =_xlfn.XLOOKUP(B129,$CN:$CN,$CL:$CL,"") -> SOL-6062 | BB129: =_xlfn.XLOOKUP(B129,$CN:$CN,$CL:$CL,"") -> SOL-6062 | BN129: =BN128+1 -> 120 | BO129: 1
B130: AXE_F_AN_RL_L_30_AL | O130: Angled Frame | AH130: Aluminium, Railless, Long, 30deg | BA130: =_xlfn.XLOOKUP(B130,$CN:$CN,$CL:$CL,"") -> SOL-6063 | BB130: =_xlfn.XLOOKUP(B130,$CN:$CN,$CL:$CL,"") -> SOL-6063 | BN130: =BN129+1 -> 121 | BO130: 1
B131: AXE_F_AN_RL_S_10_AL | O131: Angled Frame | AH131: Aluminium, Railless, Short, 10deg | BA131: =_xlfn.XLOOKUP(B131,$CN:$CN,$CL:$CL,"") -> SOL-58062 | BB131: =_xlfn.XLOOKUP(B131,$CN:$CN,$CL:$CL,"") -> SOL-58062 | BN131: =BN130+1 -> 122 | BO131: 1
B132: AXE_F_AN_RL_S_15_AL | O132: Angled Frame | AH132: Aluminium, Railless, Short, 15deg | BA132: =_xlfn.XLOOKUP(B132,$CN:$CN,$CL:$CL,"") -> SOL-58066 | BB132: =_xlfn.XLOOKUP(B132,$CN:$CN,$CL:$CL,"") -> SOL-58066 | BN132: =BN131+1 -> 123 | BO132: 1
B133: AXE_F_AN_RL_S_20_AL | O133: Angled Frame | AH133: Aluminium, Railless, Short, 20deg | BA133: =_xlfn.XLOOKUP(B133,$CN:$CN,$CL:$CL,"") -> SOL-580620 | BB133: =_xlfn.XLOOKUP(B133,$CN:$CN,$CL:$CL,"") -> SOL-580620 | BN133: =BN132+1 -> 124 | BO133: 1
B134: AXE_F_AN_RL_S_25_AL | O134: Angled Frame | AH134: Aluminium, Railless, Short, 25deg | BA134: =_xlfn.XLOOKUP(B134,$CN:$CN,$CL:$CL,"") -> SOL-58063 | BB134: =_xlfn.XLOOKUP(B134,$CN:$CN,$CL:$CL,"") -> SOL-58063 | BN134: =BN133+1 -> 125 | BO134: 1
B135: AXE_F_AN_RL_S_30_AL | O135: Angled Frame | AH135: Aluminium, Railless, Short, 30deg | BA135: =_xlfn.XLOOKUP(B135,$CN:$CN,$CL:$CL,"") -> SOL-58065 | BB135: =_xlfn.XLOOKUP(B135,$CN:$CN,$CL:$CL,"") -> SOL-58065 | BN135: =BN134+1 -> 126 | BO135: 1
B136: AXE_F_AN_WW_10_AL | O136: Angled Frame | AH136: Aluminium, Walkway 10deg | BA136: =_xlfn.XLOOKUP(B136,$CN:$CN,$CL:$CL,"") -> SOL-580713 | BB136: =_xlfn.XLOOKUP(B136,$CN:$CN,$CL:$CL,"") -> SOL-580713 | BN136: =BN135+1 -> 127 | BO136: 1
B137: AXE_F_AN_WW_15_AL | O137: Angled Frame | AH137: Aluminium, Walkway 15deg | BA137: =_xlfn.XLOOKUP(B137,$CN:$CN,$CL:$CL,"") -> SOL-59562 | BB137: =_xlfn.XLOOKUP(B137,$CN:$CN,$CL:$CL,"") -> SOL-59562 | BN137: =BN136+1 -> 128 | BO137: 1
B138: AXE_F_AN_WW_20_AL | O138: Angled Frame | AH138: Aluminium, Walkway 20deg | BA138: =_xlfn.XLOOKUP(B138,$CN:$CN,$CL:$CL,"") -> SOL-59561 | BB138: =_xlfn.XLOOKUP(B138,$CN:$CN,$CL:$CL,"") -> SOL-59561 | BN138: =BN137+1 -> 129 | BO138: 1
B139: AXE_F_AN_WW_25_AL | O139: Angled Frame | AH139: Aluminium, Walkway 25deg | BA139: =_xlfn.XLOOKUP(B139,$CN:$CN,$CL:$CL,"") -> SOL-6077 | BB139: =_xlfn.XLOOKUP(B139,$CN:$CN,$CL:$CL,"") -> SOL-6077 | BN139: =BN138+1 -> 130 | BO139: 1
B140: AXE_F_AN_WW_30_AL | O140: Angled Frame | AH140: Aluminium, Walkway 30deg | BA140: =_xlfn.XLOOKUP(B140,$CN:$CN,$CL:$CL,"") -> SOL-6078 | BB140: =_xlfn.XLOOKUP(B140,$CN:$CN,$CL:$CL,"") -> SOL-6078 | BN140: =BN139+1 -> 131 | BO140: 1
B141: AXE_F_RS_RD_L_10_AL | O141: Raised Frame | AH141: Aluminium, Railed, Long, 10deg | BA141: =_xlfn.XLOOKUP(B141,$CN:$CN,$CL:$CL,"") -> 0 | BB141: =_xlfn.XLOOKUP(B141,$CN:$CN,$CL:$CL,"") -> 0 | BN141: =BN140+1 -> 132 | BO141: 1
B142: AXE_F_RS_RD_L_15_AL | O142: Raised Frame | AH142: Aluminium, Railed, Long, 15deg | BA142: =_xlfn.XLOOKUP(B142,$CN:$CN,$CL:$CL,"") -> 0 | BB142: =_xlfn.XLOOKUP(B142,$CN:$CN,$CL:$CL,"") -> 0 | BN142: =BN141+1 -> 133 | BO142: 1
B143: AXE_F_RS_RD_L_20_AL | O143: Raised Frame | AH143: Aluminium, Railed, Long, 20deg | BA143: =_xlfn.XLOOKUP(B143,$CN:$CN,$CL:$CL,"") -> 0 | BB143: =_xlfn.XLOOKUP(B143,$CN:$CN,$CL:$CL,"") -> 0 | BN143: =BN142+1 -> 134 | BO143: 1
B144: AXE_F_RS_RD_L_25_AL | O144: Raised Frame | AH144: Aluminium, Railed, Long, 25deg | BA144: =_xlfn.XLOOKUP(B144,$CN:$CN,$CL:$CL,"") -> 0 | BB144: =_xlfn.XLOOKUP(B144,$CN:$CN,$CL:$CL,"") -> 0 | BN144: =BN143+1 -> 135 | BO144: 1
...
